BEGIN:VCALENDAR
VERSION:2.0
PRODID:-//ASCIP - ECPv6.15.20//NONSGML v1.0//EN
CALSCALE:GREGORIAN
METHOD:PUBLISH
X-WR-CALNAME:ASCIP
X-ORIGINAL-URL:https://www.ascip.org
X-WR-CALDESC:Events for ASCIP
REFRESH-INTERVAL;VALUE=DURATION:PT1H
X-Robots-Tag:noindex
X-PUBLISHED-TTL:PT1H
BEGIN:VTIMEZONE
TZID:America/Los_Angeles
BEGIN:DAYLIGHT
TZOFFSETFROM:-0800
TZOFFSETTO:-0700
TZNAME:PDT
DTSTART:20220313T100000
END:DAYLIGHT
BEGIN:STANDARD
TZOFFSETFROM:-0700
TZOFFSETTO:-0800
TZNAME:PST
DTSTART:20221106T090000
END:STANDARD
BEGIN:DAYLIGHT
TZOFFSETFROM:-0800
TZOFFSETTO:-0700
TZNAME:PDT
DTSTART:20230312T100000
END:DAYLIGHT
BEGIN:STANDARD
TZOFFSETFROM:-0700
TZOFFSETTO:-0800
TZNAME:PST
DTSTART:20231105T090000
END:STANDARD
BEGIN:DAYLIGHT
TZOFFSETFROM:-0800
TZOFFSETTO:-0700
TZNAME:PDT
DTSTART:20240310T100000
END:DAYLIGHT
BEGIN:STANDARD
TZOFFSETFROM:-0700
TZOFFSETTO:-0800
TZNAME:PST
DTSTART:20241103T090000
END:STANDARD
END:VTIMEZONE
BEGIN:VEVENT
DTSTART;TZID=America/Los_Angeles:20231005T083000
DTEND;TZID=America/Los_Angeles:20231005T093000
DTSTAMP:20260420T085831
CREATED:20230620T153258Z
LAST-MODIFIED:20230620T153258Z
UID:1201353-1696494600-1696498200@www.ascip.org
SUMMARY:Claims and Coverage Committee
DESCRIPTION:Location:  ASCIP Board Room\, 16550 Bloomfield Avenue\, Cerritos\, 90703
URL:https://www.ascip.org/event/claims-and-coverage-committee-50/
LOCATION:ASCIP Board Room
CATEGORIES:Committee Meeting
END:VEVENT
BEGIN:VEVENT
DTSTART;TZID=America/Los_Angeles:20231005T100000
DTEND;TZID=America/Los_Angeles:20231005T120000
DTSTAMP:20260420T085831
CREATED:20230425T161053Z
LAST-MODIFIED:20230425T161053Z
UID:1201230-1696500000-1696507200@www.ascip.org
SUMMARY:Executive Committee
DESCRIPTION:Location:  ASCIP Board Room\, 16550 Bloomfield Avenue\, Cerritos\, 90703
URL:https://www.ascip.org/event/executive-committee-57/
LOCATION:ASCIP Board Room
CATEGORIES:Committee Meeting
END:VEVENT
END:VCALENDAR