BEGIN:VCALENDAR
VERSION:2.0
PRODID:-//ASCIP - ECPv6.15.20//NONSGML v1.0//EN
CALSCALE:GREGORIAN
METHOD:PUBLISH
X-ORIGINAL-URL:https://www.ascip.org
X-WR-CALDESC:Events for ASCIP
REFRESH-INTERVAL;VALUE=DURATION:PT1H
X-Robots-Tag:noindex
X-PUBLISHED-TTL:PT1H
BEGIN:VTIMEZONE
TZID:America/Los_Angeles
BEGIN:DAYLIGHT
TZOFFSETFROM:-0800
TZOFFSETTO:-0700
TZNAME:PDT
DTSTART:20230312T100000
END:DAYLIGHT
BEGIN:STANDARD
TZOFFSETFROM:-0700
TZOFFSETTO:-0800
TZNAME:PST
DTSTART:20231105T090000
END:STANDARD
BEGIN:DAYLIGHT
TZOFFSETFROM:-0800
TZOFFSETTO:-0700
TZNAME:PDT
DTSTART:20240310T100000
END:DAYLIGHT
BEGIN:STANDARD
TZOFFSETFROM:-0700
TZOFFSETTO:-0800
TZNAME:PST
DTSTART:20241103T090000
END:STANDARD
BEGIN:DAYLIGHT
TZOFFSETFROM:-0800
TZOFFSETTO:-0700
TZNAME:PDT
DTSTART:20250309T100000
END:DAYLIGHT
BEGIN:STANDARD
TZOFFSETFROM:-0700
TZOFFSETTO:-0800
TZNAME:PST
DTSTART:20251102T090000
END:STANDARD
END:VTIMEZONE
BEGIN:VEVENT
DTSTART;TZID=America/Los_Angeles:20240123T100000
DTEND;TZID=America/Los_Angeles:20240123T113000
DTSTAMP:20260422T075936
CREATED:20240108T202740Z
LAST-MODIFIED:20240108T202740Z
UID:1202123-1706004000-1706009400@www.ascip.org
SUMMARY:Cyber Risk Focus Group
DESCRIPTION:Launch into 2024 with a Cybersecurity Boost! Join our hybrid webinar to collaborate with IT and Risk Management professionals. Explore the evolving cyber landscape\, discover resources\, and discuss challenges. Join us in person or via Zoom for insightful discussions on cyber threats. Bring your expertise and welcome 2024 with a vigilant cyber mindset. \n  \nEvent: Cyber Security Focus Group \nDate: Tuesday\, January 23\, 2024 \nTime: 10:00 AM \nLocation: ASCIP Office – Hybrid available \n  \nRSVP at www.ascip.org/CyberSecurityFG
URL:https://www.ascip.org/event/cyber-risk-focus-group/
END:VEVENT
END:VCALENDAR