BEGIN:VCALENDAR
VERSION:2.0
PRODID:-//ASCIP - ECPv6.15.20//NONSGML v1.0//EN
CALSCALE:GREGORIAN
METHOD:PUBLISH
X-WR-CALNAME:ASCIP
X-ORIGINAL-URL:https://www.ascip.org
X-WR-CALDESC:Events for ASCIP
REFRESH-INTERVAL;VALUE=DURATION:PT1H
X-Robots-Tag:noindex
X-PUBLISHED-TTL:PT1H
BEGIN:VTIMEZONE
TZID:America/Los_Angeles
BEGIN:DAYLIGHT
TZOFFSETFROM:-0800
TZOFFSETTO:-0700
TZNAME:PDT
DTSTART:20230312T100000
END:DAYLIGHT
BEGIN:STANDARD
TZOFFSETFROM:-0700
TZOFFSETTO:-0800
TZNAME:PST
DTSTART:20231105T090000
END:STANDARD
BEGIN:DAYLIGHT
TZOFFSETFROM:-0800
TZOFFSETTO:-0700
TZNAME:PDT
DTSTART:20240310T100000
END:DAYLIGHT
BEGIN:STANDARD
TZOFFSETFROM:-0700
TZOFFSETTO:-0800
TZNAME:PST
DTSTART:20241103T090000
END:STANDARD
BEGIN:DAYLIGHT
TZOFFSETFROM:-0800
TZOFFSETTO:-0700
TZNAME:PDT
DTSTART:20250309T100000
END:DAYLIGHT
BEGIN:STANDARD
TZOFFSETFROM:-0700
TZOFFSETTO:-0800
TZNAME:PST
DTSTART:20251102T090000
END:STANDARD
END:VTIMEZONE
BEGIN:VEVENT
DTSTART;TZID=America/Los_Angeles:20240918T143000
DTEND;TZID=America/Los_Angeles:20240918T153000
DTSTAMP:20260423T081827
CREATED:20240904T202212Z
LAST-MODIFIED:20240904T202212Z
UID:1203211-1726669800-1726673400@www.ascip.org
SUMMARY:Human Resources: The First Line of Defense for Student Safety
DESCRIPTION:This informative session will explore cutting-edge approaches to embed safety measures directly into your recruitment and hiring processes to protect students from childhood sexual assault. This webinar is equipped with actionable strategies to immediately strengthen your hiring practices\, minimize risks\, manage red-flag behaviors\, and send a clear message that child sexual assault prevention is a top priority in your district. \nRSVP at www.ascip.org/2024-0918 \n 
URL:https://www.ascip.org/event/human-resources-the-first-line-of-defense-for-student-safety/
LOCATION:Webinar
END:VEVENT
END:VCALENDAR