BEGIN:VCALENDAR
VERSION:2.0
PRODID:-//ASCIP - ECPv6.15.20//NONSGML v1.0//EN
CALSCALE:GREGORIAN
METHOD:PUBLISH
X-WR-CALNAME:ASCIP
X-ORIGINAL-URL:https://www.ascip.org
X-WR-CALDESC:Events for ASCIP
REFRESH-INTERVAL;VALUE=DURATION:PT1H
X-Robots-Tag:noindex
X-PUBLISHED-TTL:PT1H
BEGIN:VTIMEZONE
TZID:America/Los_Angeles
BEGIN:DAYLIGHT
TZOFFSETFROM:-0800
TZOFFSETTO:-0700
TZNAME:PDT
DTSTART:20240310T100000
END:DAYLIGHT
BEGIN:STANDARD
TZOFFSETFROM:-0700
TZOFFSETTO:-0800
TZNAME:PST
DTSTART:20241103T090000
END:STANDARD
BEGIN:DAYLIGHT
TZOFFSETFROM:-0800
TZOFFSETTO:-0700
TZNAME:PDT
DTSTART:20250309T100000
END:DAYLIGHT
BEGIN:STANDARD
TZOFFSETFROM:-0700
TZOFFSETTO:-0800
TZNAME:PST
DTSTART:20251102T090000
END:STANDARD
BEGIN:DAYLIGHT
TZOFFSETFROM:-0800
TZOFFSETTO:-0700
TZNAME:PDT
DTSTART:20260308T100000
END:DAYLIGHT
BEGIN:STANDARD
TZOFFSETFROM:-0700
TZOFFSETTO:-0800
TZNAME:PST
DTSTART:20261101T090000
END:STANDARD
END:VTIMEZONE
BEGIN:VEVENT
DTSTART;TZID=America/Los_Angeles:20251022T100000
DTEND;TZID=America/Los_Angeles:20251022T120000
DTSTAMP:20260420T085837
CREATED:20251009T201343Z
LAST-MODIFIED:20251009T201343Z
UID:1204260-1761127200-1761134400@www.ascip.org
SUMMARY:Workers' Compensation Case Resolutions from A to Z
DESCRIPTION:Why\, When & Everything In Between including Medicare Set-Asides and Structured Settlements \nGuest Presenters: \nDebbie Wilson\, Allan Koba Compliance Solutions and \nChris Chan\, ZC Settlement Advisors \nWhen formal resolution of a workers’ compensation claim is required\, decisions must be made as to the best mode of resolution and how to maximize the value of your settlement dollars while navigating regulatory hurdles along the way. Please join ASCIP along with special guest experts in the field as you learn more about how case resolutions are good for your program with a full understanding of all that goes into the process. Lunch will be served to those attending in person. Hybrid event.
URL:https://www.ascip.org/event/workers-compensation-case-resolutions-from-a-to-z/
LOCATION:ASCIP Training Room\, 12610 Park Plaza Drive\, Cerritos\, CA\, 90703\, United States
END:VEVENT
END:VCALENDAR