BEGIN:VCALENDAR
VERSION:2.0
PRODID:-//ASCIP - ECPv6.15.20//NONSGML v1.0//EN
CALSCALE:GREGORIAN
METHOD:PUBLISH
X-WR-CALNAME:ASCIP
X-ORIGINAL-URL:https://www.ascip.org
X-WR-CALDESC:Events for ASCIP
REFRESH-INTERVAL;VALUE=DURATION:PT1H
X-Robots-Tag:noindex
X-PUBLISHED-TTL:PT1H
BEGIN:VTIMEZONE
TZID:America/Los_Angeles
BEGIN:DAYLIGHT
TZOFFSETFROM:-0800
TZOFFSETTO:-0700
TZNAME:PDT
DTSTART:20240310T100000
END:DAYLIGHT
BEGIN:STANDARD
TZOFFSETFROM:-0700
TZOFFSETTO:-0800
TZNAME:PST
DTSTART:20241103T090000
END:STANDARD
BEGIN:DAYLIGHT
TZOFFSETFROM:-0800
TZOFFSETTO:-0700
TZNAME:PDT
DTSTART:20250309T100000
END:DAYLIGHT
BEGIN:STANDARD
TZOFFSETFROM:-0700
TZOFFSETTO:-0800
TZNAME:PST
DTSTART:20251102T090000
END:STANDARD
BEGIN:DAYLIGHT
TZOFFSETFROM:-0800
TZOFFSETTO:-0700
TZNAME:PDT
DTSTART:20260308T100000
END:DAYLIGHT
BEGIN:STANDARD
TZOFFSETFROM:-0700
TZOFFSETTO:-0800
TZNAME:PST
DTSTART:20261101T090000
END:STANDARD
END:VTIMEZONE
BEGIN:VEVENT
DTSTART;TZID=America/Los_Angeles:20251113T100000
DTEND;TZID=America/Los_Angeles:20251113T113000
DTSTAMP:20260420T150612
CREATED:20250927T001707Z
LAST-MODIFIED:20250927T001707Z
UID:1204232-1763028000-1763033400@www.ascip.org
SUMMARY:HR Roundtable - Training Your New Supervisors: 13 Practical Lessons for Turning New Managers into Effective Leaders
DESCRIPTION:Being promoted to Supervisor is a big accomplishment and worthy of celebration. With the new promotion comes new responsibilities\, including supervision of personnel\, discipline\, guidance\, and much more. Being an effective leader is a learned skill and is doable. Come learn 13 practical lessons for new managers to become effective leaders.\n\n\n\nRSVP Link: www.ascip.org/2025-1113
URL:https://www.ascip.org/event/hr-roundtable-training-your-new-supervisors-13-practical-lessons-for-turning-new-managers-into-effective-leaders/
LOCATION:ASCIP Training Room\, 12610 Park Plaza Drive\, Cerritos\, CA\, 90703\, United States
END:VEVENT
END:VCALENDAR