BEGIN:VCALENDAR
VERSION:2.0
PRODID:-//ASCIP - ECPv6.15.20//NONSGML v1.0//EN
CALSCALE:GREGORIAN
METHOD:PUBLISH
X-ORIGINAL-URL:https://www.ascip.org
X-WR-CALDESC:Events for ASCIP
REFRESH-INTERVAL;VALUE=DURATION:PT1H
X-Robots-Tag:noindex
X-PUBLISHED-TTL:PT1H
BEGIN:VTIMEZONE
TZID:America/Los_Angeles
BEGIN:DAYLIGHT
TZOFFSETFROM:-0800
TZOFFSETTO:-0700
TZNAME:PDT
DTSTART:20250309T100000
END:DAYLIGHT
BEGIN:STANDARD
TZOFFSETFROM:-0700
TZOFFSETTO:-0800
TZNAME:PST
DTSTART:20251102T090000
END:STANDARD
BEGIN:DAYLIGHT
TZOFFSETFROM:-0800
TZOFFSETTO:-0700
TZNAME:PDT
DTSTART:20260308T100000
END:DAYLIGHT
BEGIN:STANDARD
TZOFFSETFROM:-0700
TZOFFSETTO:-0800
TZNAME:PST
DTSTART:20261101T090000
END:STANDARD
BEGIN:DAYLIGHT
TZOFFSETFROM:-0800
TZOFFSETTO:-0700
TZNAME:PDT
DTSTART:20270314T100000
END:DAYLIGHT
BEGIN:STANDARD
TZOFFSETFROM:-0700
TZOFFSETTO:-0800
TZNAME:PST
DTSTART:20271107T090000
END:STANDARD
END:VTIMEZONE
BEGIN:VEVENT
DTSTART;TZID=America/Los_Angeles:20260210T100000
DTEND;TZID=America/Los_Angeles:20260210T113000
DTSTAMP:20260420T003321
CREATED:20250927T000142Z
LAST-MODIFIED:20250927T000306Z
UID:1204226-1770717600-1770723000@www.ascip.org
SUMMARY:HR Roundtable - 2026 Legal Update
DESCRIPTION:It’s time for our annual Legal Update for 2026! Come learn about new cases decided by our courts and learn practical ways to implement new laws in the workplace.\n\n\n\nRSVP at www.ascip.org/2026-0210
URL:https://www.ascip.org/event/hr-roundtable-2026-legal-update/
LOCATION:ASCIP Training Room\, 12610 Park Plaza Drive\, Cerritos\, CA\, 90703\, United States
END:VEVENT
END:VCALENDAR