BEGIN:VCALENDAR
VERSION:2.0
PRODID:-//ASCIP - ECPv6.15.20//NONSGML v1.0//EN
CALSCALE:GREGORIAN
METHOD:PUBLISH
X-ORIGINAL-URL:https://www.ascip.org
X-WR-CALDESC:Events for ASCIP
REFRESH-INTERVAL;VALUE=DURATION:PT1H
X-Robots-Tag:noindex
X-PUBLISHED-TTL:PT1H
BEGIN:VTIMEZONE
TZID:America/Halifax
BEGIN:DAYLIGHT
TZOFFSETFROM:-0400
TZOFFSETTO:-0300
TZNAME:ADT
DTSTART:20150308T060000
END:DAYLIGHT
BEGIN:STANDARD
TZOFFSETFROM:-0300
TZOFFSETTO:-0400
TZNAME:AST
DTSTART:20151101T050000
END:STANDARD
BEGIN:DAYLIGHT
TZOFFSETFROM:-0400
TZOFFSETTO:-0300
TZNAME:ADT
DTSTART:20160313T060000
END:DAYLIGHT
BEGIN:STANDARD
TZOFFSETFROM:-0300
TZOFFSETTO:-0400
TZNAME:AST
DTSTART:20161106T050000
END:STANDARD
BEGIN:DAYLIGHT
TZOFFSETFROM:-0400
TZOFFSETTO:-0300
TZNAME:ADT
DTSTART:20170312T060000
END:DAYLIGHT
BEGIN:STANDARD
TZOFFSETFROM:-0300
TZOFFSETTO:-0400
TZNAME:AST
DTSTART:20171105T050000
END:STANDARD
END:VTIMEZONE
BEGIN:VEVENT
DTSTART;VALUE=DATE:20161102
DTEND;VALUE=DATE:20161105
DTSTAMP:20260420T132607
CREATED:20160420T231312Z
LAST-MODIFIED:20160420T231312Z
UID:2936-1478044800-1478303999@www.ascip.org
SUMMARY:ASCIP's Executive Committee Strategic Planning
DESCRIPTION:
URL:https://www.ascip.org/event/executive-committee-meeting-25-2/
LOCATION:TBD
CATEGORIES:Committee Meeting
END:VEVENT
BEGIN:VEVENT
DTSTART;VALUE=DATE:20161102
DTEND;VALUE=DATE:20161105
DTSTAMP:20260420T132607
CREATED:20160420T231312Z
LAST-MODIFIED:20160420T231312Z
UID:1014381-1478044800-1478303999@www.ascip.org
SUMMARY:ASCIP's Executive Committee Strategic Planning
DESCRIPTION:
URL:https://www.ascip.org/event/executive-committee-meeting-25/
LOCATION:TBD
CATEGORIES:Committee Meeting
END:VEVENT
BEGIN:VEVENT
DTSTART;TZID=America/Halifax:20161104T090000
DTEND;TZID=America/Halifax:20161104T110000
DTSTAMP:20260420T132607
CREATED:20160420T230659Z
LAST-MODIFIED:20160420T230659Z
UID:2930-1478250000-1478257200@www.ascip.org
SUMMARY:Executive Committee Meeting
DESCRIPTION:
URL:https://www.ascip.org/event/executive-committee-meeting-19-2/
LOCATION:TBD
CATEGORIES:Committee Meeting
END:VEVENT
BEGIN:VEVENT
DTSTART;TZID=America/Halifax:20161104T090000
DTEND;TZID=America/Halifax:20161104T110000
DTSTAMP:20260420T132607
CREATED:20160420T230659Z
LAST-MODIFIED:20160420T230659Z
UID:1014375-1478250000-1478257200@www.ascip.org
SUMMARY:Executive Committee Meeting
DESCRIPTION:
URL:https://www.ascip.org/event/executive-committee-meeting-19/
LOCATION:TBD
CATEGORIES:Committee Meeting
END:VEVENT
BEGIN:VEVENT
DTSTART;TZID=America/Halifax:20161110T100000
DTEND;TZID=America/Halifax:20161110T120000
DTSTAMP:20260420T132607
CREATED:20160719T034154Z
LAST-MODIFIED:20160719T034154Z
UID:3298-1478772000-1478779200@www.ascip.org
SUMMARY:Risk Control Committee
DESCRIPTION:
URL:https://www.ascip.org/event/risk-control-committee-9-2/
LOCATION:ASCIP Board Room
CATEGORIES:Committee Meeting
END:VEVENT
BEGIN:VEVENT
DTSTART;TZID=America/Halifax:20161110T100000
DTEND;TZID=America/Halifax:20161110T120000
DTSTAMP:20260420T132607
CREATED:20160719T034154Z
LAST-MODIFIED:20160719T034154Z
UID:1014404-1478772000-1478779200@www.ascip.org
SUMMARY:Risk Control Committee
DESCRIPTION:
URL:https://www.ascip.org/event/risk-control-committee-9/
LOCATION:ASCIP Board Room
CATEGORIES:Committee Meeting
END:VEVENT
BEGIN:VEVENT
DTSTART;TZID=America/Halifax:20161117T090000
DTEND;TZID=America/Halifax:20161117T110000
DTSTAMP:20260420T132607
CREATED:20160516T171316Z
LAST-MODIFIED:20160516T171316Z
UID:3005-1479373200-1479380400@www.ascip.org
SUMMARY:Health Benefits Committee
DESCRIPTION:
URL:https://www.ascip.org/event/health-benefits-committee-7-2/
LOCATION:ASCIP Board Room
CATEGORIES:Committee Meeting
END:VEVENT
BEGIN:VEVENT
DTSTART;TZID=America/Halifax:20161117T090000
DTEND;TZID=America/Halifax:20161117T110000
DTSTAMP:20260420T132607
CREATED:20160516T171316Z
LAST-MODIFIED:20160516T171316Z
UID:1014394-1479373200-1479380400@www.ascip.org
SUMMARY:Health Benefits Committee
DESCRIPTION:
URL:https://www.ascip.org/event/health-benefits-committee-7/
LOCATION:ASCIP Board Room
CATEGORIES:Committee Meeting
END:VEVENT
BEGIN:VEVENT
DTSTART;TZID=America/Halifax:20161117T103000
DTEND;TZID=America/Halifax:20161117T120000
DTSTAMP:20260420T132607
CREATED:20160719T170734Z
LAST-MODIFIED:20160719T170734Z
UID:1014409-1479378600-1479384000@www.ascip.org
SUMMARY:Finance/Investment Committee
DESCRIPTION:
URL:https://www.ascip.org/event/financeinvestment-committee-6/
LOCATION:ASCIP Board Room
CATEGORIES:Committee Meeting
END:VEVENT
BEGIN:VEVENT
DTSTART;TZID=America/Halifax:20161117T103000
DTEND;TZID=America/Halifax:20161117T120000
DTSTAMP:20260420T132607
CREATED:20160719T170734Z
LAST-MODIFIED:20160719T170734Z
UID:3303-1479378600-1479384000@www.ascip.org
SUMMARY:Finance/Investment Committee
DESCRIPTION:
URL:https://www.ascip.org/event/financeinvestment-committee-6-2/
LOCATION:ASCIP Board Room
CATEGORIES:Committee Meeting
END:VEVENT
END:VCALENDAR