BEGIN:VCALENDAR
VERSION:2.0
PRODID:-//ASCIP - ECPv6.15.20//NONSGML v1.0//EN
CALSCALE:GREGORIAN
METHOD:PUBLISH
X-ORIGINAL-URL:https://www.ascip.org
X-WR-CALDESC:Events for ASCIP
REFRESH-INTERVAL;VALUE=DURATION:PT1H
X-Robots-Tag:noindex
X-PUBLISHED-TTL:PT1H
BEGIN:VTIMEZONE
TZID:America/Los_Angeles
BEGIN:DAYLIGHT
TZOFFSETFROM:-0800
TZOFFSETTO:-0700
TZNAME:PDT
DTSTART:20230312T100000
END:DAYLIGHT
BEGIN:STANDARD
TZOFFSETFROM:-0700
TZOFFSETTO:-0800
TZNAME:PST
DTSTART:20231105T090000
END:STANDARD
BEGIN:DAYLIGHT
TZOFFSETFROM:-0800
TZOFFSETTO:-0700
TZNAME:PDT
DTSTART:20240310T100000
END:DAYLIGHT
BEGIN:STANDARD
TZOFFSETFROM:-0700
TZOFFSETTO:-0800
TZNAME:PST
DTSTART:20241103T090000
END:STANDARD
BEGIN:DAYLIGHT
TZOFFSETFROM:-0800
TZOFFSETTO:-0700
TZNAME:PDT
DTSTART:20250309T100000
END:DAYLIGHT
BEGIN:STANDARD
TZOFFSETFROM:-0700
TZOFFSETTO:-0800
TZNAME:PST
DTSTART:20251102T090000
END:STANDARD
END:VTIMEZONE
BEGIN:VEVENT
DTSTART;TZID=America/Los_Angeles:20240308T080000
DTEND;TZID=America/Los_Angeles:20240308T143000
DTSTAMP:20260420T185929
CREATED:20230425T153334Z
LAST-MODIFIED:20231214T225627Z
UID:1201226-1709884800-1709908200@www.ascip.org
SUMMARY:2024 Annual Membership Meeting
DESCRIPTION:RSVP at www.ascip.org/2024AnnualMeeting. \nLocation:  JW Marriott\, Anaheim Resort (1775 S. Clementine Street\, Anaheim\, CA 92802)
URL:https://www.ascip.org/event/annual-membership-meeting-5/
LOCATION:JW Marriott \, Anaheim Resort
CATEGORIES:Committee Meeting
END:VEVENT
BEGIN:VEVENT
DTSTART;TZID=America/Los_Angeles:20240328T083000
DTEND;TZID=America/Los_Angeles:20240328T093000
DTSTAMP:20260420T185929
CREATED:20230620T153533Z
LAST-MODIFIED:20230620T153533Z
UID:1201361-1711614600-1711618200@www.ascip.org
SUMMARY:Claims and Coverage Committee
DESCRIPTION:Location:  ASCIP Board Room\, 16550 Bloomfield Avenue\, Cerritos\, 90703
URL:https://www.ascip.org/event/claims-and-coverage-committee-54/
LOCATION:ASCIP Board Room
CATEGORIES:Committee Meeting
END:VEVENT
BEGIN:VEVENT
DTSTART;TZID=America/Los_Angeles:20240328T100000
DTEND;TZID=America/Los_Angeles:20240328T120000
DTSTAMP:20260420T185929
CREATED:20230425T161443Z
LAST-MODIFIED:20230425T161443Z
UID:1201240-1711620000-1711627200@www.ascip.org
SUMMARY:Executive Committee
DESCRIPTION:Location:  ASCIP Board Room\, 16550 Bloomfield Avenue\, Cerritos\, 90703
URL:https://www.ascip.org/event/executive-committee-62/
LOCATION:ASCIP Board Room
CATEGORIES:Committee Meeting
END:VEVENT
END:VCALENDAR