BEGIN:VCALENDAR
VERSION:2.0
PRODID:-//ASCIP - ECPv6.15.20//NONSGML v1.0//EN
CALSCALE:GREGORIAN
METHOD:PUBLISH
X-ORIGINAL-URL:https://www.ascip.org
X-WR-CALDESC:Events for ASCIP
REFRESH-INTERVAL;VALUE=DURATION:PT1H
X-Robots-Tag:noindex
X-PUBLISHED-TTL:PT1H
BEGIN:VTIMEZONE
TZID:America/Halifax
BEGIN:DAYLIGHT
TZOFFSETFROM:-0400
TZOFFSETTO:-0300
TZNAME:ADT
DTSTART:20160313T060000
END:DAYLIGHT
BEGIN:STANDARD
TZOFFSETFROM:-0300
TZOFFSETTO:-0400
TZNAME:AST
DTSTART:20161106T050000
END:STANDARD
BEGIN:DAYLIGHT
TZOFFSETFROM:-0400
TZOFFSETTO:-0300
TZNAME:ADT
DTSTART:20170312T060000
END:DAYLIGHT
BEGIN:STANDARD
TZOFFSETFROM:-0300
TZOFFSETTO:-0400
TZNAME:AST
DTSTART:20171105T050000
END:STANDARD
BEGIN:DAYLIGHT
TZOFFSETFROM:-0400
TZOFFSETTO:-0300
TZNAME:ADT
DTSTART:20180311T060000
END:DAYLIGHT
BEGIN:STANDARD
TZOFFSETFROM:-0300
TZOFFSETTO:-0400
TZNAME:AST
DTSTART:20181104T050000
END:STANDARD
END:VTIMEZONE
BEGIN:VEVENT
DTSTART;TZID=America/Halifax:20170525T080000
DTEND;TZID=America/Halifax:20170525T100000
DTSTAMP:20260419T205039
CREATED:20160420T233600Z
LAST-MODIFIED:20160420T233600Z
UID:1014389-1495699200-1495706400@www.ascip.org
SUMMARY:Claims/Coverage Committee
DESCRIPTION:
URL:https://www.ascip.org/event/claimscoverage-committee-19/
LOCATION:ASCIP Board Room
CATEGORIES:Committee Meeting
END:VEVENT
BEGIN:VEVENT
DTSTART;TZID=America/Halifax:20170525T080000
DTEND;TZID=America/Halifax:20170525T100000
DTSTAMP:20260419T205039
CREATED:20160420T233600Z
LAST-MODIFIED:20160420T233600Z
UID:2945-1495699200-1495706400@www.ascip.org
SUMMARY:Claims/Coverage Committee
DESCRIPTION:
URL:https://www.ascip.org/event/claimscoverage-committee-19-2/
LOCATION:ASCIP Board Room
CATEGORIES:Committee Meeting
END:VEVENT
BEGIN:VEVENT
DTSTART;TZID=America/Halifax:20170525T100000
DTEND;TZID=America/Halifax:20170525T120000
DTSTAMP:20260419T205039
CREATED:20160420T231214Z
LAST-MODIFIED:20160420T231214Z
UID:1014380-1495706400-1495713600@www.ascip.org
SUMMARY:Executive Committee Meeting
DESCRIPTION:
URL:https://www.ascip.org/event/executive-committee-meeting-24/
LOCATION:ASCIP Board Room
CATEGORIES:Committee Meeting
END:VEVENT
BEGIN:VEVENT
DTSTART;TZID=America/Halifax:20170525T100000
DTEND;TZID=America/Halifax:20170525T120000
DTSTAMP:20260419T205039
CREATED:20160420T231214Z
LAST-MODIFIED:20160420T231214Z
UID:2935-1495706400-1495713600@www.ascip.org
SUMMARY:Executive Committee Meeting
DESCRIPTION:
URL:https://www.ascip.org/event/executive-committee-meeting-24-2/
LOCATION:ASCIP Board Room
CATEGORIES:Committee Meeting
END:VEVENT
END:VCALENDAR