BEGIN:VCALENDAR
VERSION:2.0
PRODID:-//ASCIP - ECPv6.15.20//NONSGML v1.0//EN
CALSCALE:GREGORIAN
METHOD:PUBLISH
X-ORIGINAL-URL:https://www.ascip.org
X-WR-CALDESC:Events for ASCIP
REFRESH-INTERVAL;VALUE=DURATION:PT1H
X-Robots-Tag:noindex
X-PUBLISHED-TTL:PT1H
BEGIN:VTIMEZONE
TZID:UTC
BEGIN:STANDARD
TZOFFSETFROM:+0000
TZOFFSETTO:+0000
TZNAME:UTC
DTSTART:20140101T000000
END:STANDARD
END:VTIMEZONE
BEGIN:VTIMEZONE
TZID:America/Los_Angeles
BEGIN:DAYLIGHT
TZOFFSETFROM:-0800
TZOFFSETTO:-0700
TZNAME:PDT
DTSTART:20140309T100000
END:DAYLIGHT
BEGIN:STANDARD
TZOFFSETFROM:-0700
TZOFFSETTO:-0800
TZNAME:PST
DTSTART:20141102T090000
END:STANDARD
BEGIN:DAYLIGHT
TZOFFSETFROM:-0800
TZOFFSETTO:-0700
TZNAME:PDT
DTSTART:20150308T100000
END:DAYLIGHT
BEGIN:STANDARD
TZOFFSETFROM:-0700
TZOFFSETTO:-0800
TZNAME:PST
DTSTART:20151101T090000
END:STANDARD
BEGIN:DAYLIGHT
TZOFFSETFROM:-0800
TZOFFSETTO:-0700
TZNAME:PDT
DTSTART:20160313T100000
END:DAYLIGHT
BEGIN:STANDARD
TZOFFSETFROM:-0700
TZOFFSETTO:-0800
TZNAME:PST
DTSTART:20161106T090000
END:STANDARD
END:VTIMEZONE
BEGIN:VEVENT
DTSTART;TZID=UTC:20150330T080000
DTEND;TZID=UTC:20150402T170000
DTSTAMP:20260425T092712
CREATED:20140724T214816Z
LAST-MODIFIED:20140724T214816Z
UID:1014254-1427702400-1427994000@www.ascip.org
SUMMARY:CASBO Conference
DESCRIPTION:
URL:https://www.ascip.org/event/casbo-conference/
LOCATION:San Diego Convention Center
CATEGORIES:Conference,Featured
END:VEVENT
BEGIN:VEVENT
DTSTART;TZID=America/Los_Angeles:20150330T080000
DTEND;TZID=America/Los_Angeles:20150402T170000
DTSTAMP:20260425T092712
CREATED:20140724T214816Z
LAST-MODIFIED:20140724T214816Z
UID:1347-1427702400-1427994000@www.ascip.org
SUMMARY:CASBO Conference
DESCRIPTION:
URL:https://www.ascip.org/event/casbo-conference-2/
LOCATION:San Diego Convention Center
CATEGORIES:Conference,Featured
END:VEVENT
BEGIN:VEVENT
DTSTART;TZID=UTC:20150422T080000
DTEND;TZID=UTC:20150422T143000
DTSTAMP:20260425T092712
CREATED:20150323T220112Z
LAST-MODIFIED:20150323T220112Z
UID:1014289-1429689600-1429713000@www.ascip.org
SUMMARY:WeTip's 42nd Annual Conference
DESCRIPTION:Complimentary Registration & Lunch \nAll ASCIP Member Districts and their contracted School Resource Officers attending the 2015 WeTip Conference will receive complimentary conference registration and lunch by registering for this conference through ASCIP.  Either call Lucy Gonzalez to RSVP or register using the form below.   Please note that travel expenses for this conference are not covered.  Click on the conference brochure link below for more information about this workshop or go to WeTip’s website at:  www.wetip.com \n  \nWeTip 2015 Conference brochure \n  \nSafer School Award \nASCIP will be providing the top three Districts in attendance a “Safer School Award” consisting of WeTip crime prevention materials valued between $750 and $1\,250. The awards will be presented after the WeTip Conference at the District. \n  \nTo Register: \nComplete the registration form below and return to Lucy Gonzalez by Friday\, April 17\, 2015\,  or call Lucy at (562) 404-8029.\n \n[gravityform id=”10″ name=”WeTip Conference Registration”] \nPlease RSVP with ASCIP by Friday\, April 17\, 2015.
URL:https://www.ascip.org/event/wetips-42nd-annual-conference/
LOCATION:Mission Inn Hotel & Spa\, 3649 Mission Inn Ave.\, Riverside\, 92501\, United States
CATEGORIES:Conference,Featured
END:VEVENT
BEGIN:VEVENT
DTSTART;TZID=America/Los_Angeles:20150422T080000
DTEND;TZID=America/Los_Angeles:20150422T143000
DTSTAMP:20260425T092712
CREATED:20150323T220112Z
LAST-MODIFIED:20150323T220112Z
UID:1980-1429689600-1429713000@www.ascip.org
SUMMARY:WeTip's 42nd Annual Conference
DESCRIPTION:Complimentary Registration & Lunch \nAll ASCIP Member Districts and their contracted School Resource Officers attending the 2015 WeTip Conference will receive complimentary conference registration and lunch by registering for this conference through ASCIP.  Either call Lucy Gonzalez to RSVP or register using the form below.   Please note that travel expenses for this conference are not covered.  Click on the conference brochure link below for more information about this workshop or go to WeTip’s website at:  www.wetip.com \n  \nWeTip 2015 Conference brochure \n  \nSafer School Award \nASCIP will be providing the top three Districts in attendance a “Safer School Award” consisting of WeTip crime prevention materials valued between $750 and $1\,250. The awards will be presented after the WeTip Conference at the District. \n  \nTo Register: \nComplete the registration form below and return to Lucy Gonzalez by Friday\, April 17\, 2015\,  or call Lucy at (562) 404-8029.\n \n[gravityform id=”10″ name=”WeTip Conference Registration”] \nPlease RSVP with ASCIP by Friday\, April 17\, 2015.
URL:https://www.ascip.org/event/wetips-42nd-annual-conference-2/
LOCATION:Mission Inn Hotel & Spa\, 3649 Mission Inn Ave.\, Riverside\, 92501\, United States
CATEGORIES:Conference,Featured
END:VEVENT
END:VCALENDAR