BEGIN:VCALENDAR
VERSION:2.0
PRODID:-//ASCIP - ECPv6.15.20//NONSGML v1.0//EN
CALSCALE:GREGORIAN
METHOD:PUBLISH
X-WR-CALNAME:ASCIP
X-ORIGINAL-URL:https://www.ascip.org
X-WR-CALDESC:Events for ASCIP
REFRESH-INTERVAL;VALUE=DURATION:PT1H
X-Robots-Tag:noindex
X-PUBLISHED-TTL:PT1H
BEGIN:VTIMEZONE
TZID:America/Halifax
BEGIN:DAYLIGHT
TZOFFSETFROM:-0400
TZOFFSETTO:-0300
TZNAME:ADT
DTSTART:20160313T060000
END:DAYLIGHT
BEGIN:STANDARD
TZOFFSETFROM:-0300
TZOFFSETTO:-0400
TZNAME:AST
DTSTART:20161106T050000
END:STANDARD
BEGIN:DAYLIGHT
TZOFFSETFROM:-0400
TZOFFSETTO:-0300
TZNAME:ADT
DTSTART:20170312T060000
END:DAYLIGHT
BEGIN:STANDARD
TZOFFSETFROM:-0300
TZOFFSETTO:-0400
TZNAME:AST
DTSTART:20171105T050000
END:STANDARD
BEGIN:DAYLIGHT
TZOFFSETFROM:-0400
TZOFFSETTO:-0300
TZNAME:ADT
DTSTART:20180311T060000
END:DAYLIGHT
BEGIN:STANDARD
TZOFFSETFROM:-0300
TZOFFSETTO:-0400
TZNAME:AST
DTSTART:20181104T050000
END:STANDARD
END:VTIMEZONE
BEGIN:VEVENT
DTSTART;TZID=America/Halifax:20170124T093000
DTEND;TZID=America/Halifax:20170124T130000
DTSTAMP:20260424T092313
CREATED:20160903T033314Z
LAST-MODIFIED:20160903T033314Z
UID:1014427-1485250200-1485262800@www.ascip.org
SUMMARY:Workers’ Compensation Roundtable (So Cal)-Managing Workers’ Compensation and Disability/Return to Work Situations
DESCRIPTION:This interactive Roundtable will discuss how to manage Workers’ Compensation and Disability/Return to Work situations.  We will identify current obstacles and exposures often faced by employers when addressing overlapping disabilities.  The discussion will also focus on avoiding disability discrimination and retaliation claims that often arise from the improper handling of injured employees.  Tips will be provided for successfully integrating employees back into the workplace; safely\, timely\, and properly. \nTarget Audience: \nWorkers’ Compensation & Human Resources Personnel\, Risk & Safety Managers\, Leadership\, Return to Work Coordinators\, and Business Administrators \n  \nHow to Register:  \nEmail Kimberly Kennedy at kennedy@ascip.org \n  \nAdditional Information:  \nLunch will be provided.
URL:https://www.ascip.org/event/workers-compensation-roundtable-so-cal-managing-workers-compensation-and-disabilityreturn-to-work-situations/
LOCATION:ASCIP Training Room\, 12610 Park Plaza Drive\, Cerritos\, CA\, 90703\, United States
CATEGORIES:Training
END:VEVENT
BEGIN:VEVENT
DTSTART;TZID=America/Halifax:20170124T093000
DTEND;TZID=America/Halifax:20170124T130000
DTSTAMP:20260424T092313
CREATED:20160903T033314Z
LAST-MODIFIED:20160903T033314Z
UID:3421-1485250200-1485262800@www.ascip.org
SUMMARY:Workers’ Compensation Roundtable (So Cal)-Managing Workers’ Compensation and Disability/Return to Work Situations
DESCRIPTION:This interactive Roundtable will discuss how to manage Workers’ Compensation and Disability/Return to Work situations.  We will identify current obstacles and exposures often faced by employers when addressing overlapping disabilities.  The discussion will also focus on avoiding disability discrimination and retaliation claims that often arise from the improper handling of injured employees.  Tips will be provided for successfully integrating employees back into the workplace; safely\, timely\, and properly. \nTarget Audience: \nWorkers’ Compensation & Human Resources Personnel\, Risk & Safety Managers\, Leadership\, Return to Work Coordinators\, and Business Administrators \n  \nHow to Register:  \nEmail Kimberly Kennedy at kennedy@ascip.org \n  \nAdditional Information:  \nLunch will be provided.
URL:https://www.ascip.org/event/workers-compensation-roundtable-so-cal-managing-workers-compensation-and-disabilityreturn-to-work-situations-2/
LOCATION:ASCIP Training Room\, 12610 Park Plaza Drive\, Cerritos\, CA\, 90703\, United States
CATEGORIES:Training
END:VEVENT
BEGIN:VEVENT
DTSTART;TZID=America/Halifax:20170125T080000
DTEND;TZID=America/Halifax:20170125T160000
DTSTAMP:20260424T092313
CREATED:20160903T035309Z
LAST-MODIFIED:20160903T035309Z
UID:1014429-1485331200-1485360000@www.ascip.org
SUMMARY:8-Hour Hazardous Materials Awareness Training
DESCRIPTION:This seminar is designed to meet the initial training requirements for those first responders who are required to assess spills and/or release of potentially toxic or hazardous materials at their facilities. \nTo Register: \nEmail Kim Kennedy at kennedy@ASCIP.org
URL:https://www.ascip.org/event/8-hour-hazardous-materials-awareness-training-3/
LOCATION:ASCIP Training Room\, 12610 Park Plaza Drive\, Cerritos\, CA\, 90703\, United States
CATEGORIES:Training
END:VEVENT
BEGIN:VEVENT
DTSTART;TZID=America/Halifax:20170125T080000
DTEND;TZID=America/Halifax:20170125T160000
DTSTAMP:20260424T092313
CREATED:20160903T035309Z
LAST-MODIFIED:20160903T035309Z
UID:3425-1485331200-1485360000@www.ascip.org
SUMMARY:8-Hour Hazardous Materials Awareness Training
DESCRIPTION:This seminar is designed to meet the initial training requirements for those first responders who are required to assess spills and/or release of potentially toxic or hazardous materials at their facilities. \nTo Register: \nEmail Kim Kennedy at kennedy@ASCIP.org
URL:https://www.ascip.org/event/8-hour-hazardous-materials-awareness-training-3-2/
LOCATION:ASCIP Training Room\, 12610 Park Plaza Drive\, Cerritos\, CA\, 90703\, United States
CATEGORIES:Training
END:VEVENT
BEGIN:VEVENT
DTSTART;TZID=America/Halifax:20170127T093000
DTEND;TZID=America/Halifax:20170127T120000
DTSTAMP:20260424T092313
CREATED:20161216T231428Z
LAST-MODIFIED:20161216T231428Z
UID:1014434-1485509400-1485518400@www.ascip.org
SUMMARY:Innovations in Student Transportation Roundtable
DESCRIPTION:Student transportation is a particularly hazardous activity that can have catastrophic results when failures occur.  With greater utilization of technology and with program innovation\, school districts are able to improve efficiency and reduce errors; thus making student transportation safer for staff\, students and the general public. \nPlease join us for a roundtable discussion on innovations in student transport.  ASCIP members and consultants will share new solutions and technology that they adopted to reduce costs\, provide driver training\, maintain vehicles\, and track student ingress and eggress.  Please invite your district’s transportation director or other personnel that would benefit from this discussion.  Come and be prepared to discuss your districts current protocols for student transportation. \nTrainers: \n\nCarlos Chicas\, Director of Transportation\, Capistrano USD\nCindy DiPaola\, Director of Operations\, Paramount USD\nKay Cotter\, Interim Director of Special Education\, Paramount USD\nWill Funk\, Safety Research Consultants\n\n  \nHow to Register:  \nEmail Kimberly Kennedy at kennedy@ascip.org  by January 19th. \nAdditional Information: \nLunch will be provided. \n 
URL:https://www.ascip.org/event/hr-roundtable-the-falling-leaves-2/
LOCATION:ASCIP Training Room\, 12610 Park Plaza Drive\, Cerritos\, CA\, 90703\, United States
CATEGORIES:Training
END:VEVENT
BEGIN:VEVENT
DTSTART;TZID=America/Halifax:20170127T093000
DTEND;TZID=America/Halifax:20170127T120000
DTSTAMP:20260424T092313
CREATED:20161216T231428Z
LAST-MODIFIED:20161216T231428Z
UID:3694-1485509400-1485518400@www.ascip.org
SUMMARY:Innovations in Student Transportation Roundtable
DESCRIPTION:Student transportation is a particularly hazardous activity that can have catastrophic results when failures occur.  With greater utilization of technology and with program innovation\, school districts are able to improve efficiency and reduce errors; thus making student transportation safer for staff\, students and the general public. \nPlease join us for a roundtable discussion on innovations in student transport.  ASCIP members and consultants will share new solutions and technology that they adopted to reduce costs\, provide driver training\, maintain vehicles\, and track student ingress and eggress.  Please invite your district’s transportation director or other personnel that would benefit from this discussion.  Come and be prepared to discuss your districts current protocols for student transportation. \nTrainers: \n\nCarlos Chicas\, Director of Transportation\, Capistrano USD\nCindy DiPaola\, Director of Operations\, Paramount USD\nKay Cotter\, Interim Director of Special Education\, Paramount USD\nWill Funk\, Safety Research Consultants\n\n  \nHow to Register:  \nEmail Kimberly Kennedy at kennedy@ascip.org  by January 19th. \nAdditional Information: \nLunch will be provided. \n 
URL:https://www.ascip.org/event/hr-roundtable-the-falling-leaves-2-2/
LOCATION:ASCIP Training Room\, 12610 Park Plaza Drive\, Cerritos\, CA\, 90703\, United States
CATEGORIES:Training
END:VEVENT
END:VCALENDAR