BEGIN:VCALENDAR
VERSION:2.0
PRODID:-//ASCIP - ECPv6.15.20//NONSGML v1.0//EN
CALSCALE:GREGORIAN
METHOD:PUBLISH
X-WR-CALNAME:ASCIP
X-ORIGINAL-URL:https://www.ascip.org
X-WR-CALDESC:Events for ASCIP
REFRESH-INTERVAL;VALUE=DURATION:PT1H
X-Robots-Tag:noindex
X-PUBLISHED-TTL:PT1H
BEGIN:VTIMEZONE
TZID:America/Halifax
BEGIN:DAYLIGHT
TZOFFSETFROM:-0400
TZOFFSETTO:-0300
TZNAME:ADT
DTSTART:20160313T060000
END:DAYLIGHT
BEGIN:STANDARD
TZOFFSETFROM:-0300
TZOFFSETTO:-0400
TZNAME:AST
DTSTART:20161106T050000
END:STANDARD
BEGIN:DAYLIGHT
TZOFFSETFROM:-0400
TZOFFSETTO:-0300
TZNAME:ADT
DTSTART:20170312T060000
END:DAYLIGHT
BEGIN:STANDARD
TZOFFSETFROM:-0300
TZOFFSETTO:-0400
TZNAME:AST
DTSTART:20171105T050000
END:STANDARD
BEGIN:DAYLIGHT
TZOFFSETFROM:-0400
TZOFFSETTO:-0300
TZNAME:ADT
DTSTART:20180311T060000
END:DAYLIGHT
BEGIN:STANDARD
TZOFFSETFROM:-0300
TZOFFSETTO:-0400
TZNAME:AST
DTSTART:20181104T050000
END:STANDARD
END:VTIMEZONE
BEGIN:VEVENT
DTSTART;TZID=America/Halifax:20170309T113000
DTEND;TZID=America/Halifax:20170309T130000
DTSTAMP:20260424T082553
CREATED:20160901T034008Z
LAST-MODIFIED:20160901T034008Z
UID:1014419-1489059000-1489064400@www.ascip.org
SUMMARY:HR Roundtable-Privacy Rights in the Workplace
DESCRIPTION:Target Audience: \nHuman Resource Professionals and Risk Managers\, and any management staff personnel who wish to hear about\, review and ask questions on privacy rights in the workplace. \nTrainer: \nKristine Kwong\, Musick\, Peeler & Garrett \nHow to Register:  \nEmail Kimberly Kennedy at kennedy@ascip.org \nAdditional Information: \nLunch will be provided. \nThis will be a one hour seminar on Human Resources (HR) issues\, followed by general discussion and time allowed for Questions & Answers.  Human Resource professionals are encouraged to come prepared to discuss current HR issues and strategies for avoiding litigation.
URL:https://www.ascip.org/event/hr-roundtable-privacy-rights-in-the-workplace/
LOCATION:ASCIP Training Room\, 12610 Park Plaza Drive\, Cerritos\, CA\, 90703\, United States
CATEGORIES:Training
END:VEVENT
BEGIN:VEVENT
DTSTART;TZID=America/Halifax:20170309T113000
DTEND;TZID=America/Halifax:20170309T130000
DTSTAMP:20260424T082553
CREATED:20160901T034008Z
LAST-MODIFIED:20160901T034008Z
UID:3406-1489059000-1489064400@www.ascip.org
SUMMARY:HR Roundtable-Privacy Rights in the Workplace
DESCRIPTION:Target Audience: \nHuman Resource Professionals and Risk Managers\, and any management staff personnel who wish to hear about\, review and ask questions on privacy rights in the workplace. \nTrainer: \nKristine Kwong\, Musick\, Peeler & Garrett \nHow to Register:  \nEmail Kimberly Kennedy at kennedy@ascip.org \nAdditional Information: \nLunch will be provided. \nThis will be a one hour seminar on Human Resources (HR) issues\, followed by general discussion and time allowed for Questions & Answers.  Human Resource professionals are encouraged to come prepared to discuss current HR issues and strategies for avoiding litigation.
URL:https://www.ascip.org/event/hr-roundtable-privacy-rights-in-the-workplace-2/
LOCATION:ASCIP Training Room\, 12610 Park Plaza Drive\, Cerritos\, CA\, 90703\, United States
CATEGORIES:Training
END:VEVENT
BEGIN:VEVENT
DTSTART;TZID=America/Halifax:20170315T100000
DTEND;TZID=America/Halifax:20170315T120000
DTSTAMP:20260424T082553
CREATED:20160908T024823Z
LAST-MODIFIED:20160908T024823Z
UID:3438-1489572000-1489579200@www.ascip.org
SUMMARY:Mold/Moisture/Odors - WEBINAR
DESCRIPTION:Have you had to deal with issues/concerns about water intrusion and mold growth?  This training will help guide you on the appropriate actions to take in order to respond safely and effectively.
URL:https://www.ascip.org/event/moldmoistureodors-webinar-2/
LOCATION:Webinar
CATEGORIES:Featured,Training
END:VEVENT
BEGIN:VEVENT
DTSTART;TZID=America/Halifax:20170315T100000
DTEND;TZID=America/Halifax:20170315T120000
DTSTAMP:20260424T082553
CREATED:20160908T024823Z
LAST-MODIFIED:20160908T024823Z
UID:1014431-1489572000-1489579200@www.ascip.org
SUMMARY:Mold/Moisture/Odors - WEBINAR
DESCRIPTION:Have you had to deal with issues/concerns about water intrusion and mold growth?  This training will help guide you on the appropriate actions to take in order to respond safely and effectively.
URL:https://www.ascip.org/event/moldmoistureodors-webinar/
LOCATION:Webinar
CATEGORIES:Featured,Training
END:VEVENT
BEGIN:VEVENT
DTSTART;TZID=America/Halifax:20170322T100000
DTEND;TZID=America/Halifax:20170322T110000
DTSTAMP:20260424T082553
CREATED:20170309T210753Z
LAST-MODIFIED:20170309T210753Z
UID:5387-1490176800-1490180400@www.ascip.org
SUMMARY:OCIP WEBINAR - Coverages and Limits Review
DESCRIPTION:With the recent passage of so many bond measures\, your school or college district may be facing some important decisions\, one of them being how to provide construction related insurance for your projects. Join us for a series of hour-long webinars that will explore how an Owner’s Controlled Insurance Program (OCIP) differs from the traditional construction insurance format and what to consider when making this very important decision. \nTarget Audience: \nMaintenance & Facilities staff responsible for construction. \nTrainers:  \n\nMarco Guardi\, Arthur J. Gallagher & Co.\nJohn Didion\, Rancho Santiago CCD\nMichael Bishop\, ASCIP Consultant\n\n  \nHow to Register: \nEmail Kimberly Kennedy at kennedy@ASCIP.org by March 20th. \nAs always\, there is no charge to ASCIP members or our invited guests to attend this training.  The next OCIP Webinar will focus on Services and is scheduled on Wednesday\, April 26\, 2017.
URL:https://www.ascip.org/event/ocip-webinar-coverages-and-limits-review-2/
LOCATION:Webinar
CATEGORIES:Training
END:VEVENT
BEGIN:VEVENT
DTSTART;TZID=America/Halifax:20170322T100000
DTEND;TZID=America/Halifax:20170322T110000
DTSTAMP:20260424T082553
CREATED:20170309T210753Z
LAST-MODIFIED:20170309T210753Z
UID:1014435-1490176800-1490180400@www.ascip.org
SUMMARY:OCIP WEBINAR - Coverages and Limits Review
DESCRIPTION:With the recent passage of so many bond measures\, your school or college district may be facing some important decisions\, one of them being how to provide construction related insurance for your projects. Join us for a series of hour-long webinars that will explore how an Owner’s Controlled Insurance Program (OCIP) differs from the traditional construction insurance format and what to consider when making this very important decision. \nTarget Audience: \nMaintenance & Facilities staff responsible for construction. \nTrainers:  \n\nMarco Guardi\, Arthur J. Gallagher & Co.\nJohn Didion\, Rancho Santiago CCD\nMichael Bishop\, ASCIP Consultant\n\n  \nHow to Register: \nEmail Kimberly Kennedy at kennedy@ASCIP.org by March 20th. \nAs always\, there is no charge to ASCIP members or our invited guests to attend this training.  The next OCIP Webinar will focus on Services and is scheduled on Wednesday\, April 26\, 2017.
URL:https://www.ascip.org/event/ocip-webinar-coverages-and-limits-review/
LOCATION:Webinar
CATEGORIES:Training
END:VEVENT
END:VCALENDAR