BEGIN:VCALENDAR
VERSION:2.0
PRODID:-//ASCIP - ECPv6.15.20//NONSGML v1.0//EN
CALSCALE:GREGORIAN
METHOD:PUBLISH
X-ORIGINAL-URL:https://www.ascip.org
X-WR-CALDESC:Events for ASCIP
REFRESH-INTERVAL;VALUE=DURATION:PT1H
X-Robots-Tag:noindex
X-PUBLISHED-TTL:PT1H
BEGIN:VTIMEZONE
TZID:America/Halifax
BEGIN:DAYLIGHT
TZOFFSETFROM:-0400
TZOFFSETTO:-0300
TZNAME:ADT
DTSTART:20160313T060000
END:DAYLIGHT
BEGIN:STANDARD
TZOFFSETFROM:-0300
TZOFFSETTO:-0400
TZNAME:AST
DTSTART:20161106T050000
END:STANDARD
BEGIN:DAYLIGHT
TZOFFSETFROM:-0400
TZOFFSETTO:-0300
TZNAME:ADT
DTSTART:20170312T060000
END:DAYLIGHT
BEGIN:STANDARD
TZOFFSETFROM:-0300
TZOFFSETTO:-0400
TZNAME:AST
DTSTART:20171105T050000
END:STANDARD
BEGIN:DAYLIGHT
TZOFFSETFROM:-0400
TZOFFSETTO:-0300
TZNAME:ADT
DTSTART:20180311T060000
END:DAYLIGHT
BEGIN:STANDARD
TZOFFSETFROM:-0300
TZOFFSETTO:-0400
TZNAME:AST
DTSTART:20181104T050000
END:STANDARD
END:VTIMEZONE
BEGIN:VEVENT
DTSTART;TZID=America/Halifax:20170405T113000
DTEND;TZID=America/Halifax:20170405T130000
DTSTAMP:20260424T073302
CREATED:20160901T034222Z
LAST-MODIFIED:20160901T034222Z
UID:1014421-1491391800-1491397200@www.ascip.org
SUMMARY:HR Roundtable - Weed In The Workplace
DESCRIPTION:Target Audience: \nHuman Resource Professionals and Risk Managers\, and any management staff personnel who wish to hear about\, review and ask questions on drug and alcohol suspicions in the workplace. \nTrainer:\n \nKristine Kwong\, Musick\, Peeler & Garrett \nHow to Register:  \nEmail Kimberly Kennedy at kennedy@ascip.org \nAdditional Information: \nLunch will be provided. \nThis will be a one hour seminar on Human Resources (HR) issues\, followed by general discussion and time allowed for Questions & Answers.  Human Resource professionals are encouraged to come prepared to discuss current HR issues and strategies for avoiding litigation.
URL:https://www.ascip.org/event/hr-roundtable-drug-and-alcohol-testing-when-why-and-for-what/
LOCATION:ASCIP Training Room\, 12610 Park Plaza Drive\, Cerritos\, CA\, 90703\, United States
CATEGORIES:Training
END:VEVENT
BEGIN:VEVENT
DTSTART;TZID=America/Halifax:20170405T113000
DTEND;TZID=America/Halifax:20170405T130000
DTSTAMP:20260424T073302
CREATED:20160901T034222Z
LAST-MODIFIED:20160901T034222Z
UID:3407-1491391800-1491397200@www.ascip.org
SUMMARY:HR Roundtable - Weed In The Workplace
DESCRIPTION:Target Audience: \nHuman Resource Professionals and Risk Managers\, and any management staff personnel who wish to hear about\, review and ask questions on drug and alcohol suspicions in the workplace. \nTrainer:\n \nKristine Kwong\, Musick\, Peeler & Garrett \nHow to Register:  \nEmail Kimberly Kennedy at kennedy@ascip.org \nAdditional Information: \nLunch will be provided. \nThis will be a one hour seminar on Human Resources (HR) issues\, followed by general discussion and time allowed for Questions & Answers.  Human Resource professionals are encouraged to come prepared to discuss current HR issues and strategies for avoiding litigation.
URL:https://www.ascip.org/event/hr-roundtable-drug-and-alcohol-testing-when-why-and-for-what-2/
LOCATION:ASCIP Training Room\, 12610 Park Plaza Drive\, Cerritos\, CA\, 90703\, United States
CATEGORIES:Training
END:VEVENT
BEGIN:VEVENT
DTSTART;TZID=America/Halifax:20170419T100000
DTEND;TZID=America/Halifax:20170419T113000
DTSTAMP:20260424T073302
CREATED:20170328T030045Z
LAST-MODIFIED:20170328T030045Z
UID:5425-1492596000-1492601400@www.ascip.org
SUMMARY:SELF-When Bad Things Happen to Good Schools - WEBINAR
DESCRIPTION:Join SELF during National Child Abuse Prevention Month as they take an in-depth look at a number of sexual abuse claim case studies. Presenters will examine what went wrong\, identify red flags a district can watch for to prevent a similar incident and explore specific policies or procedures that could have prevented or mitigated the abuse that occurred. \nThis is a great webinar for administrators\, risk managers or anyone involved with policy development or student safety.
URL:https://www.ascip.org/event/self-when-bad-things-happen-to-good-schools-webinar-2-2/
LOCATION:Webinar
CATEGORIES:Training
END:VEVENT
BEGIN:VEVENT
DTSTART;TZID=America/Halifax:20170419T100000
DTEND;TZID=America/Halifax:20170419T113000
DTSTAMP:20260424T073302
CREATED:20170328T030045Z
LAST-MODIFIED:20170328T030045Z
UID:1014439-1492596000-1492601400@www.ascip.org
SUMMARY:SELF-When Bad Things Happen to Good Schools - WEBINAR
DESCRIPTION:Join SELF during National Child Abuse Prevention Month as they take an in-depth look at a number of sexual abuse claim case studies. Presenters will examine what went wrong\, identify red flags a district can watch for to prevent a similar incident and explore specific policies or procedures that could have prevented or mitigated the abuse that occurred. \nThis is a great webinar for administrators\, risk managers or anyone involved with policy development or student safety.
URL:https://www.ascip.org/event/self-when-bad-things-happen-to-good-schools-webinar-2/
LOCATION:Webinar
CATEGORIES:Training
END:VEVENT
BEGIN:VEVENT
DTSTART;TZID=America/Halifax:20170426T100000
DTEND;TZID=America/Halifax:20170426T110000
DTSTAMP:20260424T073302
CREATED:20170309T211655Z
LAST-MODIFIED:20170309T211655Z
UID:1014436-1493200800-1493204400@www.ascip.org
SUMMARY:OCIP WEBINAR - Services
DESCRIPTION:This is the second webinar in a series of three.  With the recent passage of so many bond measures\, your school or college district may be facing some important decisions\, one of them being how to provide construction related insurance for your projects. Join us for a series of hour-long webinars that will explore how an Owner’s Controlled Insurance Program (OCIP) differs from the traditional construction insurance format and what to consider when making this very important decision. \nTarget Audience: \nMaintenance & Facilities staff responsible for construction. \nTrainers:  \n\nMarco Guardi\, Arthur J. Gallagher & Co.\nJohn Didion\, Rancho Santiago CCD\nMichael Bishop\, ASCIP Consultant\n\n  \nHow to Register:   \nEmail Kimberly Kennedy at kennedy@ASCIP.org by April 21st. \nAs always\, there is no charge to ASCIP members or our invited guests to attend this training.  The next OCIP Webinar will focus on Costs and is scheduled on Wednesday\, May 24\, 2017.
URL:https://www.ascip.org/event/ocip-webinar-services/
LOCATION:Webinar
CATEGORIES:Training
END:VEVENT
BEGIN:VEVENT
DTSTART;TZID=America/Halifax:20170426T100000
DTEND;TZID=America/Halifax:20170426T110000
DTSTAMP:20260424T073302
CREATED:20170309T211655Z
LAST-MODIFIED:20170309T211655Z
UID:5389-1493200800-1493204400@www.ascip.org
SUMMARY:OCIP WEBINAR - Services
DESCRIPTION:This is the second webinar in a series of three.  With the recent passage of so many bond measures\, your school or college district may be facing some important decisions\, one of them being how to provide construction related insurance for your projects. Join us for a series of hour-long webinars that will explore how an Owner’s Controlled Insurance Program (OCIP) differs from the traditional construction insurance format and what to consider when making this very important decision. \nTarget Audience: \nMaintenance & Facilities staff responsible for construction. \nTrainers:  \n\nMarco Guardi\, Arthur J. Gallagher & Co.\nJohn Didion\, Rancho Santiago CCD\nMichael Bishop\, ASCIP Consultant\n\n  \nHow to Register:   \nEmail Kimberly Kennedy at kennedy@ASCIP.org by April 21st. \nAs always\, there is no charge to ASCIP members or our invited guests to attend this training.  The next OCIP Webinar will focus on Costs and is scheduled on Wednesday\, May 24\, 2017.
URL:https://www.ascip.org/event/ocip-webinar-services-2/
LOCATION:Webinar
CATEGORIES:Training
END:VEVENT
BEGIN:VEVENT
DTSTART;TZID=America/Halifax:20170426T133000
DTEND;TZID=America/Halifax:20170426T150000
DTSTAMP:20260424T073302
CREATED:20160908T025058Z
LAST-MODIFIED:20160908T025058Z
UID:1014432-1493213400-1493218800@www.ascip.org
SUMMARY:SELF-When Bad Things Happen to Good Schools - WEBINAR
DESCRIPTION:Join SELF during National Child Abuse Prevention Month as they take an in-depth look at a number of sexual abuse claim case studies. Presenters will examine what went wrong\, identify red flags a district can watch for to prevent a similar incident and explore specific policies or procedures that could have prevented or mitigated the abuse that occurred. \nThis is a great webinar for administrators\, risk managers or anyone involved with policy development or student safety.
URL:https://www.ascip.org/event/self-when-bad-things-happen-to-good-schools-webinar/
LOCATION:Webinar
CATEGORIES:Training
END:VEVENT
BEGIN:VEVENT
DTSTART;TZID=America/Halifax:20170426T133000
DTEND;TZID=America/Halifax:20170426T150000
DTSTAMP:20260424T073302
CREATED:20160908T025058Z
LAST-MODIFIED:20160908T025058Z
UID:3439-1493213400-1493218800@www.ascip.org
SUMMARY:SELF-When Bad Things Happen to Good Schools - WEBINAR
DESCRIPTION:Join SELF during National Child Abuse Prevention Month as they take an in-depth look at a number of sexual abuse claim case studies. Presenters will examine what went wrong\, identify red flags a district can watch for to prevent a similar incident and explore specific policies or procedures that could have prevented or mitigated the abuse that occurred. \nThis is a great webinar for administrators\, risk managers or anyone involved with policy development or student safety.
URL:https://www.ascip.org/event/self-when-bad-things-happen-to-good-schools-webinar-3/
LOCATION:Webinar
CATEGORIES:Training
END:VEVENT
END:VCALENDAR