BEGIN:VCALENDAR
VERSION:2.0
PRODID:-//ASCIP - ECPv6.15.20//NONSGML v1.0//EN
CALSCALE:GREGORIAN
METHOD:PUBLISH
X-WR-CALNAME:ASCIP
X-ORIGINAL-URL:https://www.ascip.org
X-WR-CALDESC:Events for ASCIP
REFRESH-INTERVAL;VALUE=DURATION:PT1H
X-Robots-Tag:noindex
X-PUBLISHED-TTL:PT1H
BEGIN:VTIMEZONE
TZID:America/Halifax
BEGIN:DAYLIGHT
TZOFFSETFROM:-0400
TZOFFSETTO:-0300
TZNAME:ADT
DTSTART:20170312T060000
END:DAYLIGHT
BEGIN:STANDARD
TZOFFSETFROM:-0300
TZOFFSETTO:-0400
TZNAME:AST
DTSTART:20171105T050000
END:STANDARD
BEGIN:DAYLIGHT
TZOFFSETFROM:-0400
TZOFFSETTO:-0300
TZNAME:ADT
DTSTART:20180311T060000
END:DAYLIGHT
BEGIN:STANDARD
TZOFFSETFROM:-0300
TZOFFSETTO:-0400
TZNAME:AST
DTSTART:20181104T050000
END:STANDARD
BEGIN:DAYLIGHT
TZOFFSETFROM:-0400
TZOFFSETTO:-0300
TZNAME:ADT
DTSTART:20190310T060000
END:DAYLIGHT
BEGIN:STANDARD
TZOFFSETFROM:-0300
TZOFFSETTO:-0400
TZNAME:AST
DTSTART:20191103T050000
END:STANDARD
END:VTIMEZONE
BEGIN:VEVENT
DTSTART;TZID=America/Halifax:20180308T113000
DTEND;TZID=America/Halifax:20180308T130000
DTSTAMP:20260421T085809
CREATED:20170828T171908Z
LAST-MODIFIED:20170828T171908Z
UID:1014491-1520508600-1520514000@www.ascip.org
SUMMARY:HR Roundtable: Back From Baby - Legal Issues With New Parents Returning to Work
DESCRIPTION:Target Audience: \nHuman Resource Professionals and Risk Managers\, and any management staff personnel who wish to hear about\, review and ask questions about responding to challenging individuals in the workplace. \nTrainer:\n \nKristine Kwong\, Musick\, Peeler & Garrett \nHow to Register:  \nEmail Kimberly Kennedy at kennedy@ascip.org \nAdditional Information: \nLunch will be provided. \nThis will be a one hour seminar on Human Resources (HR) issues\, followed by general discussion and time allowed for Questions & Answers.  Human Resource professionals are encouraged to come prepared to discuss current HR issues and strategies for avoiding litigation.
URL:https://www.ascip.org/event/hr-roundtable-dealing-with-difficult-people/
LOCATION:ASCIP Training Room\, 12610 Park Plaza Drive\, Cerritos\, CA\, 90703\, United States
CATEGORIES:Training
END:VEVENT
BEGIN:VEVENT
DTSTART;TZID=America/Halifax:20180308T113000
DTEND;TZID=America/Halifax:20180308T130000
DTSTAMP:20260421T085809
CREATED:20170828T171908Z
LAST-MODIFIED:20170828T171908Z
UID:5769-1520508600-1520514000@www.ascip.org
SUMMARY:HR Roundtable: Back From Baby - Legal Issues With New Parents Returning to Work
DESCRIPTION:Target Audience: \nHuman Resource Professionals and Risk Managers\, and any management staff personnel who wish to hear about\, review and ask questions about responding to challenging individuals in the workplace. \nTrainer:\n \nKristine Kwong\, Musick\, Peeler & Garrett \nHow to Register:  \nEmail Kimberly Kennedy at kennedy@ascip.org \nAdditional Information: \nLunch will be provided. \nThis will be a one hour seminar on Human Resources (HR) issues\, followed by general discussion and time allowed for Questions & Answers.  Human Resource professionals are encouraged to come prepared to discuss current HR issues and strategies for avoiding litigation.
URL:https://www.ascip.org/event/hr-roundtable-dealing-with-difficult-people-2/
LOCATION:ASCIP Training Room\, 12610 Park Plaza Drive\, Cerritos\, CA\, 90703\, United States
CATEGORIES:Training
END:VEVENT
BEGIN:VEVENT
DTSTART;TZID=America/Halifax:20180313T080000
DTEND;TZID=America/Halifax:20180313T103000
DTSTAMP:20260421T085809
CREATED:20170828T171519Z
LAST-MODIFIED:20170828T171519Z
UID:5768-1520928000-1520937000@www.ascip.org
SUMMARY:Pesticides Handler Training - AM
DESCRIPTION:This general pesticides handler training meets CA Department of Agriculture requirements. \nCE credits are available. Class size is limited to 50. \nBy RESERVATION ONLY. \n  \nTo Register: \nEmail Kim Kennedy at kennedy@ASCIP.org \n  \n 
URL:https://www.ascip.org/event/pesticides-handler-training-am-3-2/
LOCATION:ASCIP Training Room\, 12610 Park Plaza Drive\, Cerritos\, CA\, 90703\, United States
CATEGORIES:Training
END:VEVENT
BEGIN:VEVENT
DTSTART;TZID=America/Halifax:20180313T080000
DTEND;TZID=America/Halifax:20180313T103000
DTSTAMP:20260421T085809
CREATED:20170828T171519Z
LAST-MODIFIED:20170828T171519Z
UID:1014490-1520928000-1520937000@www.ascip.org
SUMMARY:Pesticides Handler Training - AM
DESCRIPTION:This general pesticides handler training meets CA Department of Agriculture requirements. \nCE credits are available. Class size is limited to 50. \nBy RESERVATION ONLY. \n  \nTo Register: \nEmail Kim Kennedy at kennedy@ASCIP.org \n  \n 
URL:https://www.ascip.org/event/pesticides-handler-training-am-3/
LOCATION:ASCIP Training Room\, 12610 Park Plaza Drive\, Cerritos\, CA\, 90703\, United States
CATEGORIES:Training
END:VEVENT
BEGIN:VEVENT
DTSTART;TZID=America/Halifax:20180313T110000
DTEND;TZID=America/Halifax:20180313T133000
DTSTAMP:20260421T085809
CREATED:20170828T171359Z
LAST-MODIFIED:20170828T171359Z
UID:5767-1520938800-1520947800@www.ascip.org
SUMMARY:Pesticides Handler Training - PM
DESCRIPTION:This general pesticides handler training meets CA Department of Agriculture requirements. \nCE credits are available. Class size is limited to 50. \nBy RESERVATION ONLY. \n  \nTo Register: \nEmail Kim Kennedy at kennedy@ASCIP.org \n  \n 
URL:https://www.ascip.org/event/pesticides-handler-training-pm-4-2/
LOCATION:ASCIP Training Room\, 12610 Park Plaza Drive\, Cerritos\, CA\, 90703\, United States
CATEGORIES:Training
END:VEVENT
BEGIN:VEVENT
DTSTART;TZID=America/Halifax:20180313T110000
DTEND;TZID=America/Halifax:20180313T133000
DTSTAMP:20260421T085809
CREATED:20170828T171359Z
LAST-MODIFIED:20170828T171359Z
UID:1014489-1520938800-1520947800@www.ascip.org
SUMMARY:Pesticides Handler Training - PM
DESCRIPTION:This general pesticides handler training meets CA Department of Agriculture requirements. \nCE credits are available. Class size is limited to 50. \nBy RESERVATION ONLY. \n  \nTo Register: \nEmail Kim Kennedy at kennedy@ASCIP.org \n  \n 
URL:https://www.ascip.org/event/pesticides-handler-training-pm-4/
LOCATION:ASCIP Training Room\, 12610 Park Plaza Drive\, Cerritos\, CA\, 90703\, United States
CATEGORIES:Training
END:VEVENT
END:VCALENDAR