BEGIN:VCALENDAR
VERSION:2.0
PRODID:-//ASCIP - ECPv6.15.20//NONSGML v1.0//EN
CALSCALE:GREGORIAN
METHOD:PUBLISH
X-WR-CALNAME:ASCIP
X-ORIGINAL-URL:https://www.ascip.org
X-WR-CALDESC:Events for ASCIP
REFRESH-INTERVAL;VALUE=DURATION:PT1H
X-Robots-Tag:noindex
X-PUBLISHED-TTL:PT1H
BEGIN:VTIMEZONE
TZID:UTC
BEGIN:STANDARD
TZOFFSETFROM:+0000
TZOFFSETTO:+0000
TZNAME:UTC
DTSTART:20150101T000000
END:STANDARD
END:VTIMEZONE
BEGIN:VTIMEZONE
TZID:America/Los_Angeles
BEGIN:DAYLIGHT
TZOFFSETFROM:-0800
TZOFFSETTO:-0700
TZNAME:PDT
DTSTART:20150308T100000
END:DAYLIGHT
BEGIN:STANDARD
TZOFFSETFROM:-0700
TZOFFSETTO:-0800
TZNAME:PST
DTSTART:20151101T090000
END:STANDARD
BEGIN:DAYLIGHT
TZOFFSETFROM:-0800
TZOFFSETTO:-0700
TZNAME:PDT
DTSTART:20160313T100000
END:DAYLIGHT
BEGIN:STANDARD
TZOFFSETFROM:-0700
TZOFFSETTO:-0800
TZNAME:PST
DTSTART:20161106T090000
END:STANDARD
BEGIN:DAYLIGHT
TZOFFSETFROM:-0800
TZOFFSETTO:-0700
TZNAME:PDT
DTSTART:20170312T100000
END:DAYLIGHT
BEGIN:STANDARD
TZOFFSETFROM:-0700
TZOFFSETTO:-0800
TZNAME:PST
DTSTART:20171105T090000
END:STANDARD
END:VTIMEZONE
BEGIN:VEVENT
DTSTART;TZID=UTC:20160512T100000
DTEND;TZID=UTC:20160512T113000
DTSTAMP:20260425T203706
CREATED:20151015T034434Z
LAST-MODIFIED:20151015T034434Z
UID:1014366-1463047200-1463052600@www.ascip.org
SUMMARY:Preparing your District for Summer Webinar
DESCRIPTION:This workshop will cover best practices related to district activities/programs\, as well as employee safety\, for summertime activity on your campus. \nREGISTER HERE
URL:https://www.ascip.org/event/preparing-your-district-for-summer-webinar/
LOCATION:Webinar
CATEGORIES:Training
END:VEVENT
BEGIN:VEVENT
DTSTART;TZID=America/Los_Angeles:20160512T100000
DTEND;TZID=America/Los_Angeles:20160512T113000
DTSTAMP:20260425T203706
CREATED:20151015T034434Z
LAST-MODIFIED:20151015T034434Z
UID:2607-1463047200-1463052600@www.ascip.org
SUMMARY:Preparing your District for Summer Webinar
DESCRIPTION:This workshop will cover best practices related to district activities/programs\, as well as employee safety\, for summertime activity on your campus. \nREGISTER HERE
URL:https://www.ascip.org/event/preparing-your-district-for-summer-webinar-2/
LOCATION:Webinar
CATEGORIES:Training
END:VEVENT
END:VCALENDAR