BEGIN:VCALENDAR
VERSION:2.0
PRODID:-//ASCIP - ECPv6.15.20//NONSGML v1.0//EN
CALSCALE:GREGORIAN
METHOD:PUBLISH
X-ORIGINAL-URL:https://www.ascip.org
X-WR-CALDESC:Events for ASCIP
REFRESH-INTERVAL;VALUE=DURATION:PT1H
X-Robots-Tag:noindex
X-PUBLISHED-TTL:PT1H
BEGIN:VTIMEZONE
TZID:America/Halifax
BEGIN:DAYLIGHT
TZOFFSETFROM:-0400
TZOFFSETTO:-0300
TZNAME:ADT
DTSTART:20150308T060000
END:DAYLIGHT
BEGIN:STANDARD
TZOFFSETFROM:-0300
TZOFFSETTO:-0400
TZNAME:AST
DTSTART:20151101T050000
END:STANDARD
BEGIN:DAYLIGHT
TZOFFSETFROM:-0400
TZOFFSETTO:-0300
TZNAME:ADT
DTSTART:20160313T060000
END:DAYLIGHT
BEGIN:STANDARD
TZOFFSETFROM:-0300
TZOFFSETTO:-0400
TZNAME:AST
DTSTART:20161106T050000
END:STANDARD
BEGIN:DAYLIGHT
TZOFFSETFROM:-0400
TZOFFSETTO:-0300
TZNAME:ADT
DTSTART:20170312T060000
END:DAYLIGHT
BEGIN:STANDARD
TZOFFSETFROM:-0300
TZOFFSETTO:-0400
TZNAME:AST
DTSTART:20171105T050000
END:STANDARD
END:VTIMEZONE
BEGIN:VEVENT
DTSTART;TZID=America/Halifax:20161005T113000
DTEND;TZID=America/Halifax:20161005T130000
DTSTAMP:20260425T171426
CREATED:20160817T165048Z
LAST-MODIFIED:20160817T165048Z
UID:1014413-1475667000-1475672400@www.ascip.org
SUMMARY:HR Roundtable-Assistive & Emotional Support Animals at the Workplace
DESCRIPTION:Target Audience: \nHuman Resource Professionals and Risk Managers\, Principals and any management staff person responsible for district accommodations considerations. \nTrainer: \nKristine Kwong\, Musick\, Peeler & Garrett \nHow to Register:  \nEmail Kimberly Kennedy at kennedy@ascip.org \nAdditional Information: \nLunch will be provided. \nThis will be a one hour seminar on Human Resources (HR) issues\, followed by general discussion and time allowed for Questions & Answers.  Human Resource professionals are encouraged to come prepared to discuss current HR issues and strategies for avoiding litigation.
URL:https://www.ascip.org/event/hr-roundtable-assistive-emotional-support-animals-at-the-workplace/
LOCATION:ASCIP Training Room\, 12610 Park Plaza Drive\, Cerritos\, CA\, 90703\, United States
CATEGORIES:Training
END:VEVENT
BEGIN:VEVENT
DTSTART;TZID=America/Halifax:20161005T113000
DTEND;TZID=America/Halifax:20161005T130000
DTSTAMP:20260425T171426
CREATED:20160817T165048Z
LAST-MODIFIED:20160817T165048Z
UID:3378-1475667000-1475672400@www.ascip.org
SUMMARY:HR Roundtable-Assistive & Emotional Support Animals at the Workplace
DESCRIPTION:Target Audience: \nHuman Resource Professionals and Risk Managers\, Principals and any management staff person responsible for district accommodations considerations. \nTrainer: \nKristine Kwong\, Musick\, Peeler & Garrett \nHow to Register:  \nEmail Kimberly Kennedy at kennedy@ascip.org \nAdditional Information: \nLunch will be provided. \nThis will be a one hour seminar on Human Resources (HR) issues\, followed by general discussion and time allowed for Questions & Answers.  Human Resource professionals are encouraged to come prepared to discuss current HR issues and strategies for avoiding litigation.
URL:https://www.ascip.org/event/hr-roundtable-assistive-emotional-support-animals-at-the-workplace-2/
LOCATION:ASCIP Training Room\, 12610 Park Plaza Drive\, Cerritos\, CA\, 90703\, United States
CATEGORIES:Training
END:VEVENT
END:VCALENDAR