BEGIN:VCALENDAR
VERSION:2.0
PRODID:-//ASCIP - ECPv6.15.20//NONSGML v1.0//EN
CALSCALE:GREGORIAN
METHOD:PUBLISH
X-WR-CALNAME:ASCIP
X-ORIGINAL-URL:https://www.ascip.org
X-WR-CALDESC:Events for ASCIP
REFRESH-INTERVAL;VALUE=DURATION:PT1H
X-Robots-Tag:noindex
X-PUBLISHED-TTL:PT1H
BEGIN:VTIMEZONE
TZID:America/Halifax
BEGIN:DAYLIGHT
TZOFFSETFROM:-0400
TZOFFSETTO:-0300
TZNAME:ADT
DTSTART:20150308T060000
END:DAYLIGHT
BEGIN:STANDARD
TZOFFSETFROM:-0300
TZOFFSETTO:-0400
TZNAME:AST
DTSTART:20151101T050000
END:STANDARD
BEGIN:DAYLIGHT
TZOFFSETFROM:-0400
TZOFFSETTO:-0300
TZNAME:ADT
DTSTART:20160313T060000
END:DAYLIGHT
BEGIN:STANDARD
TZOFFSETFROM:-0300
TZOFFSETTO:-0400
TZNAME:AST
DTSTART:20161106T050000
END:STANDARD
BEGIN:DAYLIGHT
TZOFFSETFROM:-0400
TZOFFSETTO:-0300
TZNAME:ADT
DTSTART:20170312T060000
END:DAYLIGHT
BEGIN:STANDARD
TZOFFSETFROM:-0300
TZOFFSETTO:-0400
TZNAME:AST
DTSTART:20171105T050000
END:STANDARD
END:VTIMEZONE
BEGIN:VEVENT
DTSTART;TZID=America/Halifax:20161027T080000
DTEND;TZID=America/Halifax:20161027T103000
DTSTAMP:20260425T170217
CREATED:20160817T165731Z
LAST-MODIFIED:20160817T165731Z
UID:1014415-1477555200-1477564200@www.ascip.org
SUMMARY:Pesticide Handler Training - AM
DESCRIPTION:
URL:https://www.ascip.org/event/pesticide-handler-training-7/
LOCATION:ASCIP Training Room\, 12610 Park Plaza Drive\, Cerritos\, CA\, 90703\, United States
CATEGORIES:Training
END:VEVENT
BEGIN:VEVENT
DTSTART;TZID=America/Halifax:20161027T080000
DTEND;TZID=America/Halifax:20161027T103000
DTSTAMP:20260425T170217
CREATED:20160817T165731Z
LAST-MODIFIED:20160817T165731Z
UID:3382-1477555200-1477564200@www.ascip.org
SUMMARY:Pesticide Handler Training - AM
DESCRIPTION:
URL:https://www.ascip.org/event/pesticide-handler-training-7-2/
LOCATION:ASCIP Training Room\, 12610 Park Plaza Drive\, Cerritos\, CA\, 90703\, United States
CATEGORIES:Training
END:VEVENT
BEGIN:VEVENT
DTSTART;TZID=America/Halifax:20161027T110000
DTEND;TZID=America/Halifax:20161027T133000
DTSTAMP:20260425T170217
CREATED:20160903T031436Z
LAST-MODIFIED:20160903T031436Z
UID:1014424-1477566000-1477575000@www.ascip.org
SUMMARY:Pesticide Handler Training - PM
DESCRIPTION:
URL:https://www.ascip.org/event/pesticide-handler-training-pm/
LOCATION:ASCIP Training Room\, 12610 Park Plaza Drive\, Cerritos\, CA\, 90703\, United States
CATEGORIES:Training
END:VEVENT
BEGIN:VEVENT
DTSTART;TZID=America/Halifax:20161027T110000
DTEND;TZID=America/Halifax:20161027T133000
DTSTAMP:20260425T170217
CREATED:20160903T031436Z
LAST-MODIFIED:20160903T031436Z
UID:3415-1477566000-1477575000@www.ascip.org
SUMMARY:Pesticide Handler Training - PM
DESCRIPTION:
URL:https://www.ascip.org/event/pesticide-handler-training-pm-2/
LOCATION:ASCIP Training Room\, 12610 Park Plaza Drive\, Cerritos\, CA\, 90703\, United States
CATEGORIES:Training
END:VEVENT
END:VCALENDAR