BEGIN:VCALENDAR
VERSION:2.0
PRODID:-//ASCIP - ECPv6.15.20//NONSGML v1.0//EN
CALSCALE:GREGORIAN
METHOD:PUBLISH
X-WR-CALNAME:ASCIP
X-ORIGINAL-URL:https://www.ascip.org
X-WR-CALDESC:Events for ASCIP
REFRESH-INTERVAL;VALUE=DURATION:PT1H
X-Robots-Tag:noindex
X-PUBLISHED-TTL:PT1H
BEGIN:VTIMEZONE
TZID:America/Halifax
BEGIN:DAYLIGHT
TZOFFSETFROM:-0400
TZOFFSETTO:-0300
TZNAME:ADT
DTSTART:20160313T060000
END:DAYLIGHT
BEGIN:STANDARD
TZOFFSETFROM:-0300
TZOFFSETTO:-0400
TZNAME:AST
DTSTART:20161106T050000
END:STANDARD
BEGIN:DAYLIGHT
TZOFFSETFROM:-0400
TZOFFSETTO:-0300
TZNAME:ADT
DTSTART:20170312T060000
END:DAYLIGHT
BEGIN:STANDARD
TZOFFSETFROM:-0300
TZOFFSETTO:-0400
TZNAME:AST
DTSTART:20171105T050000
END:STANDARD
BEGIN:DAYLIGHT
TZOFFSETFROM:-0400
TZOFFSETTO:-0300
TZNAME:ADT
DTSTART:20180311T060000
END:DAYLIGHT
BEGIN:STANDARD
TZOFFSETFROM:-0300
TZOFFSETTO:-0400
TZNAME:AST
DTSTART:20181104T050000
END:STANDARD
END:VTIMEZONE
BEGIN:VEVENT
DTSTART;TZID=America/Halifax:20170524T100000
DTEND;TZID=America/Halifax:20170524T110000
DTSTAMP:20260422T132236
CREATED:20170309T211751Z
LAST-MODIFIED:20170309T211751Z
UID:1014437-1495620000-1495623600@www.ascip.org
SUMMARY:OCIP WEBINAR - Costs
DESCRIPTION:This is the final webinar in a series of three.  With the recent passage of so many bond measures\, your school or college district may be facing some important decisions\, one of them being how to provide construction related insurance for your projects. Join us for a series of hour-long webinars that will explore how an Owner’s Controlled Insurance Program (OCIP) differs from the traditional construction insurance format and what to consider when making this very important decision. \nTarget Audience: \nMaintenance & Facilities staff responsible for construction. \nTrainers:  \n\nMarco Guardi\, Arthur J. Gallagher & Co.\nJohn Didion\, Rancho Santiago CCD\nMichael Bishop\, ASCIP Consultant\n\n  \nHow to Register: \nEmail Kimberly Kennedy at kennedy@ASCIP.org by March 20th. \nAs always\, there is no charge to ASCIP members or our invited guests to attend this training.
URL:https://www.ascip.org/event/ocip-webinar-costs/
LOCATION:Webinar
CATEGORIES:Training
END:VEVENT
BEGIN:VEVENT
DTSTART;TZID=America/Halifax:20170524T100000
DTEND;TZID=America/Halifax:20170524T110000
DTSTAMP:20260422T132236
CREATED:20170309T211751Z
LAST-MODIFIED:20170309T211751Z
UID:5390-1495620000-1495623600@www.ascip.org
SUMMARY:OCIP WEBINAR - Costs
DESCRIPTION:This is the final webinar in a series of three.  With the recent passage of so many bond measures\, your school or college district may be facing some important decisions\, one of them being how to provide construction related insurance for your projects. Join us for a series of hour-long webinars that will explore how an Owner’s Controlled Insurance Program (OCIP) differs from the traditional construction insurance format and what to consider when making this very important decision. \nTarget Audience: \nMaintenance & Facilities staff responsible for construction. \nTrainers:  \n\nMarco Guardi\, Arthur J. Gallagher & Co.\nJohn Didion\, Rancho Santiago CCD\nMichael Bishop\, ASCIP Consultant\n\n  \nHow to Register: \nEmail Kimberly Kennedy at kennedy@ASCIP.org by March 20th. \nAs always\, there is no charge to ASCIP members or our invited guests to attend this training.
URL:https://www.ascip.org/event/ocip-webinar-costs-2/
LOCATION:Webinar
CATEGORIES:Training
END:VEVENT
END:VCALENDAR