BEGIN:VCALENDAR
VERSION:2.0
PRODID:-//ASCIP - ECPv6.15.20//NONSGML v1.0//EN
CALSCALE:GREGORIAN
METHOD:PUBLISH
X-WR-CALNAME:ASCIP
X-ORIGINAL-URL:https://www.ascip.org
X-WR-CALDESC:Events for ASCIP
REFRESH-INTERVAL;VALUE=DURATION:PT1H
X-Robots-Tag:noindex
X-PUBLISHED-TTL:PT1H
BEGIN:VTIMEZONE
TZID:America/Halifax
BEGIN:DAYLIGHT
TZOFFSETFROM:-0400
TZOFFSETTO:-0300
TZNAME:ADT
DTSTART:20170312T060000
END:DAYLIGHT
BEGIN:STANDARD
TZOFFSETFROM:-0300
TZOFFSETTO:-0400
TZNAME:AST
DTSTART:20171105T050000
END:STANDARD
BEGIN:DAYLIGHT
TZOFFSETFROM:-0400
TZOFFSETTO:-0300
TZNAME:ADT
DTSTART:20180311T060000
END:DAYLIGHT
BEGIN:STANDARD
TZOFFSETFROM:-0300
TZOFFSETTO:-0400
TZNAME:AST
DTSTART:20181104T050000
END:STANDARD
BEGIN:DAYLIGHT
TZOFFSETFROM:-0400
TZOFFSETTO:-0300
TZNAME:ADT
DTSTART:20190310T060000
END:DAYLIGHT
BEGIN:STANDARD
TZOFFSETFROM:-0300
TZOFFSETTO:-0400
TZNAME:AST
DTSTART:20191103T050000
END:STANDARD
END:VTIMEZONE
BEGIN:VEVENT
DTSTART;TZID=America/Halifax:20180124T080000
DTEND;TZID=America/Halifax:20180124T160000
DTSTAMP:20260421T174145
CREATED:20170828T170230Z
LAST-MODIFIED:20170828T170230Z
UID:5764-1516780800-1516809600@www.ascip.org
SUMMARY:8-Hour Hazardous Materials Awareness Training
DESCRIPTION:This seminar is designed to meet the initial training requirements for those first responders who are required to assess spills and/or release of potentially toxic or hazardous materials at their facilities. \nTo Register: \nEmail Kim Kennedy at kennedy@ASCIP.org
URL:https://www.ascip.org/event/8-hour-hazardous-materials-awareness-training-4-2/
LOCATION:ASCIP Training Room\, 12610 Park Plaza Drive\, Cerritos\, CA\, 90703\, United States
CATEGORIES:Training
END:VEVENT
BEGIN:VEVENT
DTSTART;TZID=America/Halifax:20180124T080000
DTEND;TZID=America/Halifax:20180124T160000
DTSTAMP:20260421T174145
CREATED:20170828T170230Z
LAST-MODIFIED:20170828T170230Z
UID:1014487-1516780800-1516809600@www.ascip.org
SUMMARY:8-Hour Hazardous Materials Awareness Training
DESCRIPTION:This seminar is designed to meet the initial training requirements for those first responders who are required to assess spills and/or release of potentially toxic or hazardous materials at their facilities. \nTo Register: \nEmail Kim Kennedy at kennedy@ASCIP.org
URL:https://www.ascip.org/event/8-hour-hazardous-materials-awareness-training-4/
LOCATION:ASCIP Training Room\, 12610 Park Plaza Drive\, Cerritos\, CA\, 90703\, United States
CATEGORIES:Training
END:VEVENT
END:VCALENDAR