BEGIN:VCALENDAR
VERSION:2.0
PRODID:-//ASCIP - ECPv6.15.20//NONSGML v1.0//EN
CALSCALE:GREGORIAN
METHOD:PUBLISH
X-ORIGINAL-URL:https://www.ascip.org
X-WR-CALDESC:Events for ASCIP
REFRESH-INTERVAL;VALUE=DURATION:PT1H
X-Robots-Tag:noindex
X-PUBLISHED-TTL:PT1H
BEGIN:VTIMEZONE
TZID:America/Los_Angeles
BEGIN:DAYLIGHT
TZOFFSETFROM:-0800
TZOFFSETTO:-0700
TZNAME:PDT
DTSTART:20230312T100000
END:DAYLIGHT
BEGIN:STANDARD
TZOFFSETFROM:-0700
TZOFFSETTO:-0800
TZNAME:PST
DTSTART:20231105T090000
END:STANDARD
BEGIN:DAYLIGHT
TZOFFSETFROM:-0800
TZOFFSETTO:-0700
TZNAME:PDT
DTSTART:20240310T100000
END:DAYLIGHT
BEGIN:STANDARD
TZOFFSETFROM:-0700
TZOFFSETTO:-0800
TZNAME:PST
DTSTART:20241103T090000
END:STANDARD
BEGIN:DAYLIGHT
TZOFFSETFROM:-0800
TZOFFSETTO:-0700
TZNAME:PDT
DTSTART:20250309T100000
END:DAYLIGHT
BEGIN:STANDARD
TZOFFSETFROM:-0700
TZOFFSETTO:-0800
TZNAME:PST
DTSTART:20251102T090000
END:STANDARD
END:VTIMEZONE
BEGIN:VEVENT
DTSTART;TZID=America/Los_Angeles:20240508T100000
DTEND;TZID=America/Los_Angeles:20240508T113000
DTSTAMP:20260422T143854
CREATED:20240501T182319Z
LAST-MODIFIED:20240501T182319Z
UID:1202466-1715162400-1715167800@www.ascip.org
SUMMARY:WC Roundtable-Proper Investigation & Preparing for Successful Litigation
DESCRIPTION:The first ninety days of a claim are critical in setting the stage for the litigation that might follow.  Proper investigation can save later headaches and help to foster a positive outcome.  Join your colleagues for an informative session where we will learn from both an investigative and legal perspective how to best position your claims for future success as presented by experts in the field. \nPresenters:  Carrie O’Connor\, Esq.\, Partner\, O’Connor Telezinski and Brent Sims\, Partner\, DigiStream Investigations \nTarget Audience:  Risk Management\, Workers’ Compensation\, Human Resources\, and Business Personnel. \nRegister at www.ascip.org/2024-0508 \n  \nHybrid Training (ASCIP Training Room/Zoom) \n  \n  \n  \n  \n  \n  \n  \n  \n  \n 
URL:https://www.ascip.org/event/wc-roundtable-proper-investigation-preparing-for-successful-litigation/
LOCATION:ASCIP Training Room\, 12610 Park Plaza Drive\, Cerritos\, CA\, 90703\, United States
CATEGORIES:Training
END:VEVENT
BEGIN:VEVENT
DTSTART;TZID=America/Los_Angeles:20240515T090000
DTEND;TZID=America/Los_Angeles:20240515T110000
DTSTAMP:20260422T143854
CREATED:20230620T154534Z
LAST-MODIFIED:20230620T154534Z
UID:1201380-1715763600-1715770800@www.ascip.org
SUMMARY:Health Benefits Committee
DESCRIPTION:Location:  ASCIP Board Room\, 16550 Bloomfield Avenue\, Cerritos\, 90703
URL:https://www.ascip.org/event/health-benefits-committee-30/
LOCATION:ASCIP Board Room
CATEGORIES:Committee Meeting
END:VEVENT
BEGIN:VEVENT
DTSTART;TZID=America/Los_Angeles:20240515T113000
DTEND;TZID=America/Los_Angeles:20240515T130000
DTSTAMP:20260422T143854
CREATED:20240216T230710Z
LAST-MODIFIED:20240311T194851Z
UID:1202289-1715772600-1715778000@www.ascip.org
SUMMARY:HR Roundtable-Updates to Proposed Title IX Regulations
DESCRIPTION:The Federal Government has issued a new set of Proposed Title IX Regulations.  Come learn the new regulations in complying with Title IX. \n  \nLocation:  Hybrid Training (ASCIP Training Room/Zoom) \nPresenter:  Kristine Kwong\, Musick\, Peeler & Garret LLP \nRegister at  www.ascip.org/2024-0515 \n  \n  \n  \n  \n  \n  \n  \n  \n 
URL:https://www.ascip.org/event/hr-roundtable-updates-to-proposed-title-ix-regulations/
LOCATION:ASCIP Training Room\, 12610 Park Plaza Drive\, Cerritos\, CA\, 90703\, United States
CATEGORIES:Training
END:VEVENT
BEGIN:VEVENT
DTSTART;TZID=America/Los_Angeles:20240516T100000
DTEND;TZID=America/Los_Angeles:20240516T120000
DTSTAMP:20260422T143854
CREATED:20230620T154112Z
LAST-MODIFIED:20240506T223212Z
UID:1201373-1715853600-1715860800@www.ascip.org
SUMMARY:Risk Control Committee
DESCRIPTION:Location:  ASCIP Board Room\, 16550 Bloomfield Avenue\, Cerritos\, 90703
URL:https://www.ascip.org/event/risk-control-committee-41/
LOCATION:ASCIP Board Room
CATEGORIES:Committee Meeting
END:VEVENT
BEGIN:VEVENT
DTSTART;TZID=America/Los_Angeles:20240523T083000
DTEND;TZID=America/Los_Angeles:20240523T093000
DTSTAMP:20260422T143854
CREATED:20230620T153640Z
LAST-MODIFIED:20230620T153640Z
UID:1201365-1716453000-1716456600@www.ascip.org
SUMMARY:Claims and Coverage Committee
DESCRIPTION:Location:  ASCIP Board Room\, 16550 Bloomfield Avenue\, Cerritos\, 90703
URL:https://www.ascip.org/event/claims-and-coverage-committee-56/
LOCATION:ASCIP Board Room
CATEGORIES:Committee Meeting
END:VEVENT
BEGIN:VEVENT
DTSTART;TZID=America/Los_Angeles:20240523T100000
DTEND;TZID=America/Los_Angeles:20240523T120000
DTSTAMP:20260422T143854
CREATED:20230425T161536Z
LAST-MODIFIED:20230425T161536Z
UID:1201242-1716458400-1716465600@www.ascip.org
SUMMARY:Executive Committee
DESCRIPTION:Location:  ASCIP Board Room\, 16550 Bloomfield Avenue\, Cerritos\, 90703
URL:https://www.ascip.org/event/executive-committee-63/
LOCATION:ASCIP Board Room
CATEGORIES:Committee Meeting
END:VEVENT
BEGIN:VEVENT
DTSTART;TZID=America/Los_Angeles:20240528T140000
DTEND;TZID=America/Los_Angeles:20240528T153000
DTSTAMP:20260422T143854
CREATED:20240516T213215Z
LAST-MODIFIED:20240516T213215Z
UID:1202519-1716904800-1716910200@www.ascip.org
SUMMARY:Community College District Risk Management Roundtable
DESCRIPTION:This meeting is designed to facilitate discussions among a variety of risk topics impacting community colleges. For a list of meeting topics\, RSVP at www.ascip.org/2024-0528. \n 
URL:https://www.ascip.org/event/community-college-district-risk-management-roundtable-2/
LOCATION:Webinar
END:VEVENT
END:VCALENDAR