BEGIN:VCALENDAR
VERSION:2.0
PRODID:-//ASCIP - ECPv6.15.20//NONSGML v1.0//EN
CALSCALE:GREGORIAN
METHOD:PUBLISH
X-WR-CALNAME:ASCIP
X-ORIGINAL-URL:https://www.ascip.org
X-WR-CALDESC:Events for ASCIP
REFRESH-INTERVAL;VALUE=DURATION:PT1H
X-Robots-Tag:noindex
X-PUBLISHED-TTL:PT1H
BEGIN:VTIMEZONE
TZID:America/Los_Angeles
BEGIN:DAYLIGHT
TZOFFSETFROM:-0800
TZOFFSETTO:-0700
TZNAME:PDT
DTSTART:20230312T100000
END:DAYLIGHT
BEGIN:STANDARD
TZOFFSETFROM:-0700
TZOFFSETTO:-0800
TZNAME:PST
DTSTART:20231105T090000
END:STANDARD
BEGIN:DAYLIGHT
TZOFFSETFROM:-0800
TZOFFSETTO:-0700
TZNAME:PDT
DTSTART:20240310T100000
END:DAYLIGHT
BEGIN:STANDARD
TZOFFSETFROM:-0700
TZOFFSETTO:-0800
TZNAME:PST
DTSTART:20241103T090000
END:STANDARD
BEGIN:DAYLIGHT
TZOFFSETFROM:-0800
TZOFFSETTO:-0700
TZNAME:PDT
DTSTART:20250309T100000
END:DAYLIGHT
BEGIN:STANDARD
TZOFFSETFROM:-0700
TZOFFSETTO:-0800
TZNAME:PST
DTSTART:20251102T090000
END:STANDARD
END:VTIMEZONE
BEGIN:VEVENT
DTSTART;TZID=America/Los_Angeles:20241204T100000
DTEND;TZID=America/Los_Angeles:20241204T120000
DTSTAMP:20260420T022621
CREATED:20240607T220359Z
LAST-MODIFIED:20240710T165606Z
UID:1202698-1733306400-1733313600@www.ascip.org
SUMMARY:Claims and Coverage Committee
DESCRIPTION:Location:  Sheraton Hotel\, 12725 Center Ct Drive\, Cerritos\, CA 90703
URL:https://www.ascip.org/event/claims-and-coverage-committee-60/
LOCATION:Sheraton – Cerritos\, 12725 Center Court Dr.\, Cerritos\, 90703
CATEGORIES:Committee Meeting
END:VEVENT
BEGIN:VEVENT
DTSTART;TZID=America/Los_Angeles:20241205T090000
DTEND;TZID=America/Los_Angeles:20241205T110000
DTSTAMP:20260420T022621
CREATED:20240607T215803Z
LAST-MODIFIED:20240607T215803Z
UID:1202688-1733389200-1733396400@www.ascip.org
SUMMARY:Finance Committee
DESCRIPTION:Location:  ASCIP Training Room\, 16550 Bloomfield Avenue\, Cerritos\, 90703
URL:https://www.ascip.org/event/finance-committee-25/
LOCATION:ASCIP Training Room\, 12610 Park Plaza Drive\, Cerritos\, CA\, 90703\, United States
CATEGORIES:Committee Meeting
END:VEVENT
BEGIN:VEVENT
DTSTART;TZID=America/Los_Angeles:20241210T140000
DTEND;TZID=America/Los_Angeles:20241210T153000
DTSTAMP:20260420T022621
CREATED:20240808T204531Z
LAST-MODIFIED:20240808T204531Z
UID:1203097-1733839200-1733844600@www.ascip.org
SUMMARY:Community College District Risk Management Roundtable
DESCRIPTION:These meetings serve as vital platforms for sharing insights\, best practices\, and strategies to effectively manage risks specific to community college districts. Starting August 13\, 2024\, the meetings will take place every second Tuesday of the month from 2:00 PM – 3:30 PM (excluding the month of January). We look forward to our productive discussions in the upcoming roundtable sessions. \n  \nRSVP at www.ascip.org/CCDRoundtable
URL:https://www.ascip.org/event/community-college-district-risk-management-roundtable-3/2024-12-10/
LOCATION:Webinar
END:VEVENT
BEGIN:VEVENT
DTSTART;TZID=America/Los_Angeles:20241212T100000
DTEND;TZID=America/Los_Angeles:20241212T120000
DTSTAMP:20260420T022621
CREATED:20240607T204500Z
LAST-MODIFIED:20240607T204500Z
UID:1202658-1733997600-1734004800@www.ascip.org
SUMMARY:Executive Committee
DESCRIPTION:Location:  Sheraton Hotel\, 12725 Center Ct Drive\, Cerritos\, CA 90703
URL:https://www.ascip.org/event/executive-committee-68/
LOCATION:Sheraton – Cerritos\, 12725 Center Court Dr.\, Cerritos\, 90703
CATEGORIES:Committee Meeting
END:VEVENT
END:VCALENDAR