BEGIN:VCALENDAR
VERSION:2.0
PRODID:-//ASCIP - ECPv6.15.20//NONSGML v1.0//EN
CALSCALE:GREGORIAN
METHOD:PUBLISH
X-WR-CALNAME:ASCIP
X-ORIGINAL-URL:https://www.ascip.org
X-WR-CALDESC:Events for ASCIP
REFRESH-INTERVAL;VALUE=DURATION:PT1H
X-Robots-Tag:noindex
X-PUBLISHED-TTL:PT1H
BEGIN:VTIMEZONE
TZID:America/Los_Angeles
BEGIN:DAYLIGHT
TZOFFSETFROM:-0800
TZOFFSETTO:-0700
TZNAME:PDT
DTSTART:20240310T100000
END:DAYLIGHT
BEGIN:STANDARD
TZOFFSETFROM:-0700
TZOFFSETTO:-0800
TZNAME:PST
DTSTART:20241103T090000
END:STANDARD
BEGIN:DAYLIGHT
TZOFFSETFROM:-0800
TZOFFSETTO:-0700
TZNAME:PDT
DTSTART:20250309T100000
END:DAYLIGHT
BEGIN:STANDARD
TZOFFSETFROM:-0700
TZOFFSETTO:-0800
TZNAME:PST
DTSTART:20251102T090000
END:STANDARD
BEGIN:DAYLIGHT
TZOFFSETFROM:-0800
TZOFFSETTO:-0700
TZNAME:PDT
DTSTART:20260308T100000
END:DAYLIGHT
BEGIN:STANDARD
TZOFFSETFROM:-0700
TZOFFSETTO:-0800
TZNAME:PST
DTSTART:20261101T090000
END:STANDARD
END:VTIMEZONE
BEGIN:VEVENT
DTSTART;TZID=America/Los_Angeles:20250402T113000
DTEND;TZID=America/Los_Angeles:20250402T130000
DTSTAMP:20260423T120901
CREATED:20250220T222714Z
LAST-MODIFIED:20250220T222714Z
UID:1203695-1743593400-1743598800@www.ascip.org
SUMMARY:HR Roundtable-Understanding Title IX Mandates for Conflict of Interest\, Bias\, and Impartiality for Title IX Coordinator\, Investigators and Decision Makers
DESCRIPTION:One of the most challenging aspects of personnel management is transitioning an employee from a leave of absence due to either medical conditions or a workplace injury. Key to a successful transition is understanding employee’s essential job duties and the scope of the fitness for duty exam. \nLocation:  Hybrid (ASCIP Training Room\, 16550 Bloomfield Avenue\, Cerritos\, 90703/Zoom) \nPresenter:  Kristine Kwong\, Musick Peeler & Garrett \nRegistration Link
URL:https://www.ascip.org/event/hr-roundtable-understanding-title-ix-mandates-for-conflict-of-interest-bias-and-impartiality-for-title-ix-coordinator-investigators-and-decision-makers/
CATEGORIES:Training
END:VEVENT
BEGIN:VEVENT
DTSTART;TZID=America/Los_Angeles:20250403T140000
DTEND;TZID=America/Los_Angeles:20250403T150000
DTSTAMP:20260423T120901
CREATED:20250220T222908Z
LAST-MODIFIED:20250220T222908Z
UID:1203697-1743688800-1743692400@www.ascip.org
SUMMARY:CAARE-KnowGo: Engaging Students in Safety and Awareness
DESCRIPTION:The KnowGO Program is highlighted as one of the most critical safeguards of the ASCIP CAARE program. The KnowGO campaign is designed to build awareness\, skills\, and knowledge of predators’ grooming methods. The curriculum has been strategically designed to nurture age-appropriate\, honest\, transparent discussion of safety\, promote trust in safe adults\, and build confidence in identifying unsafe situations.  The dynamic\, vibrant illustrations and engaging\, insightful activities facilitate a life-changing experience for students. \nLocation:  Webinar \nPresenter:  Heidi Cisneros\, ASCIP’s Student Safety Advocate \n\n\n\nRegistration Link
URL:https://www.ascip.org/event/caare-knowgo-engaging-students-in-safety-and-awareness/
LOCATION:ASCIP Training Room\, 12610 Park Plaza Drive\, Cerritos\, CA\, 90703\, United States
CATEGORIES:Training
END:VEVENT
BEGIN:VEVENT
DTSTART;TZID=America/Los_Angeles:20250408T140000
DTEND;TZID=America/Los_Angeles:20250408T153000
DTSTAMP:20260423T120901
CREATED:20240808T204531Z
LAST-MODIFIED:20240808T204531Z
UID:1203100-1744120800-1744126200@www.ascip.org
SUMMARY:Community College District Risk Management Roundtable
DESCRIPTION:These meetings serve as vital platforms for sharing insights\, best practices\, and strategies to effectively manage risks specific to community college districts. Starting August 13\, 2024\, the meetings will take place every second Tuesday of the month from 2:00 PM – 3:30 PM (excluding the month of January). We look forward to our productive discussions in the upcoming roundtable sessions. \n  \nRSVP at www.ascip.org/CCDRoundtable
URL:https://www.ascip.org/event/community-college-district-risk-management-roundtable-3/2025-04-08/
LOCATION:Webinar
END:VEVENT
BEGIN:VEVENT
DTSTART;TZID=America/Los_Angeles:20250409T090000
DTEND;TZID=America/Los_Angeles:20250409T110000
DTSTAMP:20260423T120901
CREATED:20250220T223001Z
LAST-MODIFIED:20250220T223001Z
UID:1203699-1744189200-1744196400@www.ascip.org
SUMMARY:CAARE-Covert Recording Devices: Seeing the Hidden Risks
DESCRIPTION:This class is designed to teach basic security awareness skills\, with an emphasis on identifying and countering surveillance activities and covert electronic devices linked to sexual assault and exploitation. \nLocation:  Webinar \nPresenter:  ASTREA \nwww.ascip.org/2025-0409  
URL:https://www.ascip.org/event/caare-covert-recording-devices-seeing-the-hidden-risks/
LOCATION:Webinar
CATEGORIES:Training
END:VEVENT
BEGIN:VEVENT
DTSTART;TZID=America/Los_Angeles:20250410T100000
DTEND;TZID=America/Los_Angeles:20250410T113000
DTSTAMP:20260423T120901
CREATED:20250220T223108Z
LAST-MODIFIED:20250220T223108Z
UID:1203701-1744279200-1744284600@www.ascip.org
SUMMARY:WC Roundtable-Driving the Medical Bus Understanding the Physician’s Role in EVERYTHING Workers’ Compensation
DESCRIPTION:Please join us for a spirited panel discussion featuring industry leaders and medical professionals as we explore medical care as the main driver in the workers’ compensation claim\, both in terms and action and cost. \nLocation:  Hybrid (ASCIP Training Room\, 16550 Bloomfield Avenue\, Cerritos\, 90703/Zoom) \nPresenters: Panel \nwww.ascip.org/2025-0410
URL:https://www.ascip.org/event/wc-roundtable-driving-the-medical-bus-understanding-the-physicians-role-in-everything-workers-compensation/
LOCATION:ASCIP Training Room\, 12610 Park Plaza Drive\, Cerritos\, CA\, 90703\, United States
CATEGORIES:Training
END:VEVENT
BEGIN:VEVENT
DTSTART;TZID=America/Los_Angeles:20250423T100000
DTEND;TZID=America/Los_Angeles:20250423T120000
DTSTAMP:20260423T120901
CREATED:20240607T220639Z
LAST-MODIFIED:20240710T165329Z
UID:1202706-1745402400-1745409600@www.ascip.org
SUMMARY:Claims and Coverage Committee
DESCRIPTION:Location:  TBD
URL:https://www.ascip.org/event/claims-and-coverage-committee-64/
LOCATION:TBD
CATEGORIES:Committee Meeting
END:VEVENT
BEGIN:VEVENT
DTSTART;TZID=America/Los_Angeles:20250430T090000
DTEND;TZID=America/Los_Angeles:20250430T103000
DTSTAMP:20260423T120902
CREATED:20250220T223206Z
LAST-MODIFIED:20250220T223206Z
UID:1203703-1746003600-1746009000@www.ascip.org
SUMMARY:CAARE-Youth Protection for Community College Districts
DESCRIPTION:The Higher Education Protection Network (HEPNet) is an international association linking together those seeing to advance higher education institutions’ interactions with children and youth. We serve as a coordinated voice promoting good practices for protecting vulnerable populations and providing programming and resources appropriate to their needs.  This presentation will review the risks and needs for CCD’s around youth protection and provide strategies to assist CCD’s with strategies for effective implementation of safeguards to protect minors on campus. Resources available through the network and its website will also be highlighted. \nLocation:  Webinar \nPresenter:  Heidi Cisneros\, ASCIP’s Student Safety Advocate \nRegister at www.ascip.org/2025-0430
URL:https://www.ascip.org/event/caare-youth-protection-for-community-college-districts/
LOCATION:Webinar
CATEGORIES:Training
END:VEVENT
END:VCALENDAR