BEGIN:VCALENDAR
VERSION:2.0
PRODID:-//ASCIP - ECPv6.15.20//NONSGML v1.0//EN
CALSCALE:GREGORIAN
METHOD:PUBLISH
X-WR-CALNAME:ASCIP
X-ORIGINAL-URL:https://www.ascip.org
X-WR-CALDESC:Events for ASCIP
REFRESH-INTERVAL;VALUE=DURATION:PT1H
X-Robots-Tag:noindex
X-PUBLISHED-TTL:PT1H
BEGIN:VTIMEZONE
TZID:America/Los_Angeles
BEGIN:DAYLIGHT
TZOFFSETFROM:-0800
TZOFFSETTO:-0700
TZNAME:PDT
DTSTART:20240310T100000
END:DAYLIGHT
BEGIN:STANDARD
TZOFFSETFROM:-0700
TZOFFSETTO:-0800
TZNAME:PST
DTSTART:20241103T090000
END:STANDARD
BEGIN:DAYLIGHT
TZOFFSETFROM:-0800
TZOFFSETTO:-0700
TZNAME:PDT
DTSTART:20250309T100000
END:DAYLIGHT
BEGIN:STANDARD
TZOFFSETFROM:-0700
TZOFFSETTO:-0800
TZNAME:PST
DTSTART:20251102T090000
END:STANDARD
BEGIN:DAYLIGHT
TZOFFSETFROM:-0800
TZOFFSETTO:-0700
TZNAME:PDT
DTSTART:20260308T100000
END:DAYLIGHT
BEGIN:STANDARD
TZOFFSETFROM:-0700
TZOFFSETTO:-0800
TZNAME:PST
DTSTART:20261101T090000
END:STANDARD
END:VTIMEZONE
BEGIN:VEVENT
DTSTART;TZID=America/Los_Angeles:20250506T100000
DTEND;TZID=America/Los_Angeles:20250506T110000
DTSTAMP:20260422T155234
CREATED:20250220T223313Z
LAST-MODIFIED:20250220T223313Z
UID:1203705-1746525600-1746529200@www.ascip.org
SUMMARY:Indoor Heat Illness Prevention
DESCRIPTION:An overview of the new Cal OSHA Indoor Heat Illness Prevention Standard. How you can combine your outdoor and indoor heat illness prevention program. Training requirements for supervisors and staff. \nLocation:  Webinar \nPresenter:  Poms & Associates \nRegister at www.ascip.org/2025-0506
URL:https://www.ascip.org/event/indoor-heat-illness-prevention/
LOCATION:Webinar
CATEGORIES:Training
END:VEVENT
BEGIN:VEVENT
DTSTART;TZID=America/Los_Angeles:20250508T100000
DTEND;TZID=America/Los_Angeles:20250508T110000
DTSTAMP:20260422T155234
CREATED:20250220T223516Z
LAST-MODIFIED:20250220T223516Z
UID:1203708-1746698400-1746702000@www.ascip.org
SUMMARY:Hazardous Waste: Storage\, Pick Up\, and Disposal of Chemicals
DESCRIPTION:Attendees will be given guidelines for the clean up and disposal of old\, expired\, or unusable hazardous substances. We will discuss the safe segregation and storage of chemicals including locations and containers. We will also review spill and emergency response procedures and equipment. \nLocation:  Webinar \nPresenter:  Mychelle Fernandez\, Principal EHS Consultant \nRegister at www.ascip.org/2025-0508
URL:https://www.ascip.org/event/hazardous-waste-storage-pick-up-and-disposal-of-chemicals/
LOCATION:Webinar
CATEGORIES:Training
END:VEVENT
BEGIN:VEVENT
DTSTART;TZID=America/Los_Angeles:20250513T113000
DTEND;TZID=America/Los_Angeles:20250513T130000
DTSTAMP:20260422T155234
CREATED:20250220T223620Z
LAST-MODIFIED:20250220T223620Z
UID:1203710-1747135800-1747141200@www.ascip.org
SUMMARY:HR Roundtable-Effective Management of Employee Leaves
DESCRIPTION:With a single incident involving an extended leave of absence a variety of Federal and State laws entitling employees to job-protected leave are triggered. Additional statutory leaves under the Education Code further complicate this process. This roundtable discusses the variety of job-protected leaves under Federal and State laws to allow for effective management of leaves of absence. \nLocation:  Hybrid (ASCIP Training Room\, 16550 Bloomfield Avenue\, Cerritos\, 90703/Zoom) \nPresenter:  Kristine Kwong\, Musick Peeler & Garrett \nRegistration Link
URL:https://www.ascip.org/event/hr-roundtable-effective-management-of-employee-leaves/
LOCATION:ASCIP Training Room\, 12610 Park Plaza Drive\, Cerritos\, CA\, 90703\, United States
CATEGORIES:Training
END:VEVENT
BEGIN:VEVENT
DTSTART;TZID=America/Los_Angeles:20250513T140000
DTEND;TZID=America/Los_Angeles:20250513T153000
DTSTAMP:20260422T155234
CREATED:20240808T204531Z
LAST-MODIFIED:20240808T204531Z
UID:1203101-1747144800-1747150200@www.ascip.org
SUMMARY:Community College District Risk Management Roundtable
DESCRIPTION:These meetings serve as vital platforms for sharing insights\, best practices\, and strategies to effectively manage risks specific to community college districts. Starting August 13\, 2024\, the meetings will take place every second Tuesday of the month from 2:00 PM – 3:30 PM (excluding the month of January). We look forward to our productive discussions in the upcoming roundtable sessions. \n  \nRSVP at www.ascip.org/CCDRoundtable
URL:https://www.ascip.org/event/community-college-district-risk-management-roundtable-3/2025-05-13/
LOCATION:Webinar
END:VEVENT
BEGIN:VEVENT
DTSTART;TZID=America/Los_Angeles:20250514T090000
DTEND;TZID=America/Los_Angeles:20250514T110000
DTSTAMP:20260422T155234
CREATED:20240607T215555Z
LAST-MODIFIED:20240607T215555Z
UID:1202684-1747213200-1747220400@www.ascip.org
SUMMARY:Health Benefits Committee
DESCRIPTION:Location:  ASCIP Training Room\, 16550 Bloomfield Avenue\, Cerritos\, 90703
URL:https://www.ascip.org/event/health-benefits-committee-33/
LOCATION:ASCIP Training Room\, 12610 Park Plaza Drive\, Cerritos\, CA\, 90703\, United States
CATEGORIES:Committee Meeting
END:VEVENT
BEGIN:VEVENT
DTSTART;TZID=America/Los_Angeles:20250515T100000
DTEND;TZID=America/Los_Angeles:20250515T120000
DTSTAMP:20260422T155234
CREATED:20240607T215249Z
LAST-MODIFIED:20240607T215249Z
UID:1202678-1747303200-1747310400@www.ascip.org
SUMMARY:Risk Control Committee
DESCRIPTION:Location:  ASCIP Training Room\, 16550 Bloomfield Avenue\, Cerritos\, 90703
URL:https://www.ascip.org/event/risk-control-committee-44/
LOCATION:ASCIP Training Room\, 12610 Park Plaza Drive\, Cerritos\, CA\, 90703\, United States
CATEGORIES:Committee Meeting
END:VEVENT
BEGIN:VEVENT
DTSTART;TZID=America/Los_Angeles:20250521T100000
DTEND;TZID=America/Los_Angeles:20250521T120000
DTSTAMP:20260422T155234
CREATED:20240607T220710Z
LAST-MODIFIED:20240710T165235Z
UID:1202708-1747821600-1747828800@www.ascip.org
SUMMARY:Claims and Coverage Committee
DESCRIPTION:Location:  TBD
URL:https://www.ascip.org/event/claims-and-coverage-committee-65/
LOCATION:TBD
CATEGORIES:Committee Meeting
END:VEVENT
BEGIN:VEVENT
DTSTART;TZID=America/Los_Angeles:20250522T100000
DTEND;TZID=America/Los_Angeles:20250522T133000
DTSTAMP:20260422T155234
CREATED:20250422T223600Z
LAST-MODIFIED:20250422T223600Z
UID:1203801-1747908000-1747920600@www.ascip.org
SUMMARY:Maintenance & Facilities Roundtable
DESCRIPTION:This session will focus on preparing facilities for summer months and low-occupancy periods\, preventing vandalism\, burglary\, and other facility-related claims\, sharing real-world tips and strategies from other districts. \nRSVP at www.ascip.org/2025-0522 \n 
URL:https://www.ascip.org/event/maintenance-facilities-roundtable/
LOCATION:ASCIP Training Room\, 12610 Park Plaza Drive\, Cerritos\, CA\, 90703\, United States
CATEGORIES:Training
END:VEVENT
BEGIN:VEVENT
DTSTART;TZID=America/Los_Angeles:20250530T100000
DTEND;TZID=America/Los_Angeles:20250530T120000
DTSTAMP:20260422T155234
CREATED:20240607T205108Z
LAST-MODIFIED:20250529T230559Z
UID:1202666-1748599200-1748606400@www.ascip.org
SUMMARY:Executive Committee
DESCRIPTION:Location:  TBD
URL:https://www.ascip.org/event/executive-committee-72/
LOCATION:TBD
CATEGORIES:Committee Meeting
END:VEVENT
END:VCALENDAR