BEGIN:VCALENDAR
VERSION:2.0
PRODID:-//ASCIP - ECPv6.15.20//NONSGML v1.0//EN
CALSCALE:GREGORIAN
METHOD:PUBLISH
X-ORIGINAL-URL:https://www.ascip.org
X-WR-CALDESC:Events for ASCIP
REFRESH-INTERVAL;VALUE=DURATION:PT1H
X-Robots-Tag:noindex
X-PUBLISHED-TTL:PT1H
BEGIN:VTIMEZONE
TZID:America/Los_Angeles
BEGIN:DAYLIGHT
TZOFFSETFROM:-0800
TZOFFSETTO:-0700
TZNAME:PDT
DTSTART:20240310T100000
END:DAYLIGHT
BEGIN:STANDARD
TZOFFSETFROM:-0700
TZOFFSETTO:-0800
TZNAME:PST
DTSTART:20241103T090000
END:STANDARD
BEGIN:DAYLIGHT
TZOFFSETFROM:-0800
TZOFFSETTO:-0700
TZNAME:PDT
DTSTART:20250309T100000
END:DAYLIGHT
BEGIN:STANDARD
TZOFFSETFROM:-0700
TZOFFSETTO:-0800
TZNAME:PST
DTSTART:20251102T090000
END:STANDARD
BEGIN:DAYLIGHT
TZOFFSETFROM:-0800
TZOFFSETTO:-0700
TZNAME:PDT
DTSTART:20260308T100000
END:DAYLIGHT
BEGIN:STANDARD
TZOFFSETFROM:-0700
TZOFFSETTO:-0800
TZNAME:PST
DTSTART:20261101T090000
END:STANDARD
END:VTIMEZONE
BEGIN:VEVENT
DTSTART;TZID=America/Los_Angeles:20250610T140000
DTEND;TZID=America/Los_Angeles:20250610T153000
DTSTAMP:20260423T045316
CREATED:20240808T204531Z
LAST-MODIFIED:20240808T204531Z
UID:1203102-1749564000-1749569400@www.ascip.org
SUMMARY:Community College District Risk Management Roundtable
DESCRIPTION:These meetings serve as vital platforms for sharing insights\, best practices\, and strategies to effectively manage risks specific to community college districts. Starting August 13\, 2024\, the meetings will take place every second Tuesday of the month from 2:00 PM – 3:30 PM (excluding the month of January). We look forward to our productive discussions in the upcoming roundtable sessions. \n  \nRSVP at www.ascip.org/CCDRoundtable
URL:https://www.ascip.org/event/community-college-district-risk-management-roundtable-3/2025-06-10/
LOCATION:Webinar
END:VEVENT
BEGIN:VEVENT
DTSTART;TZID=America/Los_Angeles:20250617T090000
DTEND;TZID=America/Los_Angeles:20250617T110000
DTSTAMP:20260423T045316
CREATED:20240607T215951Z
LAST-MODIFIED:20240607T215951Z
UID:1202692-1750150800-1750158000@www.ascip.org
SUMMARY:Finance Committee
DESCRIPTION:Location:  ASCIP Training Room\, 16550 Bloomfield Avenue\, Cerritos\, 90703
URL:https://www.ascip.org/event/finance-committee-27/
LOCATION:ASCIP Training Room\, 12610 Park Plaza Drive\, Cerritos\, CA\, 90703\, United States
CATEGORIES:Committee Meeting
END:VEVENT
BEGIN:VEVENT
DTSTART;TZID=America/Los_Angeles:20250618T100000
DTEND;TZID=America/Los_Angeles:20250618T120000
DTSTAMP:20260423T045316
CREATED:20240607T220746Z
LAST-MODIFIED:20240710T165154Z
UID:1202710-1750240800-1750248000@www.ascip.org
SUMMARY:Claims and Coverage Committee
DESCRIPTION:Location:  TBD
URL:https://www.ascip.org/event/claims-and-coverage-committee-66/
LOCATION:TBD
CATEGORIES:Committee Meeting
END:VEVENT
BEGIN:VEVENT
DTSTART;TZID=America/Los_Angeles:20250626T100000
DTEND;TZID=America/Los_Angeles:20250626T120000
DTSTAMP:20260423T045316
CREATED:20240607T205207Z
LAST-MODIFIED:20240710T165732Z
UID:1202668-1750932000-1750939200@www.ascip.org
SUMMARY:Executive Committee
DESCRIPTION:Location:  TBD
URL:https://www.ascip.org/event/executive-committee-73/
LOCATION:TBD
CATEGORIES:Committee Meeting
END:VEVENT
END:VCALENDAR