BEGIN:VCALENDAR
VERSION:2.0
PRODID:-//ASCIP - ECPv6.15.20//NONSGML v1.0//EN
CALSCALE:GREGORIAN
METHOD:PUBLISH
X-ORIGINAL-URL:https://www.ascip.org
X-WR-CALDESC:Events for ASCIP
REFRESH-INTERVAL;VALUE=DURATION:PT1H
X-Robots-Tag:noindex
X-PUBLISHED-TTL:PT1H
BEGIN:VTIMEZONE
TZID:America/Los_Angeles
BEGIN:DAYLIGHT
TZOFFSETFROM:-0800
TZOFFSETTO:-0700
TZNAME:PDT
DTSTART:20240310T100000
END:DAYLIGHT
BEGIN:STANDARD
TZOFFSETFROM:-0700
TZOFFSETTO:-0800
TZNAME:PST
DTSTART:20241103T090000
END:STANDARD
BEGIN:DAYLIGHT
TZOFFSETFROM:-0800
TZOFFSETTO:-0700
TZNAME:PDT
DTSTART:20250309T100000
END:DAYLIGHT
BEGIN:STANDARD
TZOFFSETFROM:-0700
TZOFFSETTO:-0800
TZNAME:PST
DTSTART:20251102T090000
END:STANDARD
BEGIN:DAYLIGHT
TZOFFSETFROM:-0800
TZOFFSETTO:-0700
TZNAME:PDT
DTSTART:20260308T100000
END:DAYLIGHT
BEGIN:STANDARD
TZOFFSETFROM:-0700
TZOFFSETTO:-0800
TZNAME:PST
DTSTART:20261101T090000
END:STANDARD
END:VTIMEZONE
BEGIN:VEVENT
DTSTART;TZID=America/Los_Angeles:20250910T140000
DTEND;TZID=America/Los_Angeles:20250910T153000
DTSTAMP:20260420T022759
CREATED:20250811T214641Z
LAST-MODIFIED:20250811T214641Z
UID:1203967-1757512800-1757518200@www.ascip.org
SUMMARY:25/26 MOC Update - September 10\, 2025
DESCRIPTION:ASCIP is hosting an exclusive webinar with comprehensive insights into the property\, liability and risk management services programs offered by ASCIP and review the 2025-26 Memorandum of Coverage. This session will detail updates and improvements\, while offering a dedicated platform for addressing any questions. Join us to review your district’s coverage and understand on how it can protect your organization effectively.  There will be five opportunities to attend. \nFor more information and to RSVP\, go to www.ascip.org/25-26MOCUpdate
URL:https://www.ascip.org/event/25-26-moc-update-september-10-2025/
LOCATION:ZOOM Event
CATEGORIES:Training
END:VEVENT
BEGIN:VEVENT
DTSTART;TZID=America/Los_Angeles:20250917T100000
DTEND;TZID=America/Los_Angeles:20250917T120000
DTSTAMP:20260420T022759
CREATED:20250909T213038Z
LAST-MODIFIED:20250909T213038Z
UID:1204121-1758103200-1758110400@www.ascip.org
SUMMARY:Health Benefits Committee
DESCRIPTION:Location:  ASCIP Office (Kiva Board Room)\, 12610 Park Plaza Drive\, Cerritos\, CA 90703
URL:https://www.ascip.org/event/health-benefits-committee-38/
LOCATION:ASCIP Office – Kiva Board Room\, 12610 Park Plaza Drive\, Cerritos\, CA\, 90703\, United States
CATEGORIES:Committee Meeting
END:VEVENT
BEGIN:VEVENT
DTSTART;TZID=America/Los_Angeles:20250922T100000
DTEND;TZID=America/Los_Angeles:20250922T113000
DTSTAMP:20260420T022759
CREATED:20250811T214809Z
LAST-MODIFIED:20250811T215032Z
UID:1203969-1758535200-1758540600@www.ascip.org
SUMMARY:25/26 MOC Update - September 22\, 2025
DESCRIPTION:ASCIP is hosting an exclusive webinar with comprehensive insights into the property\, liability and risk management services programs offered by ASCIP and review the 2025-26 Memorandum of Coverage. This session will detail updates and improvements\, while offering a dedicated platform for addressing any questions. Join us to review your district’s coverage and understand on how it can protect your organization effectively.  There will be five opportunities to attend. \nFor more information and to RSVP\, go to www.ascip.org/25-26MOCUpdate
URL:https://www.ascip.org/event/25-26-moc-update-september-22-2025/
LOCATION:ZOOM Event
CATEGORIES:Training
END:VEVENT
BEGIN:VEVENT
DTSTART;TZID=America/Los_Angeles:20250923T100000
DTEND;TZID=America/Los_Angeles:20250923T110000
DTSTAMP:20260420T022759
CREATED:20250911T150502Z
LAST-MODIFIED:20250911T180036Z
UID:1204131-1758621600-1758625200@www.ascip.org
SUMMARY:AB 1913 Essentials: A Roadmap for School Leaders
DESCRIPTION:As an essential extension of AB 1913 training\, this webinar provides school administrators with critical strategies needed to establish and maintain professional boundaries that prevent misconduct and foster safer school environments in K-12 schools. It prepares school leaders to confidently respond to reports of professional boundary violations in line with AB 1913 requirements and best practices. Participants will learn to identify grooming behaviors and boundary violations\, apply the APCAP guidelines\, and proceed with appropriate investigative procedures in collaboration with Human Resources. In-person training is available for district leadership teams upon request. \nTarget Audience: School Administrators\, Human Resources\, Cabinet Representatives\, Educational Services \nPresenter: Heidi Cisneros\, CAARE Program\, ASCIP \nRSVP Link:  https://www.ascip.org/2025-0923 
URL:https://www.ascip.org/event/ab-1913-essentials-a-roadmap-for-school-leaders/
LOCATION:Webinar
CATEGORIES:Training
END:VEVENT
BEGIN:VEVENT
DTSTART;TZID=America/Los_Angeles:20250925T100000
DTEND;TZID=America/Los_Angeles:20250925T120000
DTSTAMP:20260420T022759
CREATED:20250813T221755Z
LAST-MODIFIED:20250813T221755Z
UID:1204018-1758794400-1758801600@www.ascip.org
SUMMARY:Executive Committee
DESCRIPTION:Location:  ASCIP Office (Kiva Board Room)\, 12610 Park Plaza Drive\, Cerritos\, CA 90703
URL:https://www.ascip.org/event/executive-committee-75/
LOCATION:ASCIP Office – Kiva Board Room\, 12610 Park Plaza Drive\, Cerritos\, CA\, 90703\, United States
CATEGORIES:Committee Meeting
END:VEVENT
END:VCALENDAR