BEGIN:VCALENDAR
VERSION:2.0
PRODID:-//ASCIP - ECPv6.15.20//NONSGML v1.0//EN
CALSCALE:GREGORIAN
METHOD:PUBLISH
X-ORIGINAL-URL:https://www.ascip.org
X-WR-CALDESC:Events for ASCIP
REFRESH-INTERVAL;VALUE=DURATION:PT1H
X-Robots-Tag:noindex
X-PUBLISHED-TTL:PT1H
BEGIN:VTIMEZONE
TZID:America/Los_Angeles
BEGIN:DAYLIGHT
TZOFFSETFROM:-0800
TZOFFSETTO:-0700
TZNAME:PDT
DTSTART:20220313T100000
END:DAYLIGHT
BEGIN:STANDARD
TZOFFSETFROM:-0700
TZOFFSETTO:-0800
TZNAME:PST
DTSTART:20221106T090000
END:STANDARD
BEGIN:DAYLIGHT
TZOFFSETFROM:-0800
TZOFFSETTO:-0700
TZNAME:PDT
DTSTART:20230312T100000
END:DAYLIGHT
BEGIN:STANDARD
TZOFFSETFROM:-0700
TZOFFSETTO:-0800
TZNAME:PST
DTSTART:20231105T090000
END:STANDARD
BEGIN:DAYLIGHT
TZOFFSETFROM:-0800
TZOFFSETTO:-0700
TZNAME:PDT
DTSTART:20240310T100000
END:DAYLIGHT
BEGIN:STANDARD
TZOFFSETFROM:-0700
TZOFFSETTO:-0800
TZNAME:PST
DTSTART:20241103T090000
END:STANDARD
END:VTIMEZONE
BEGIN:VTIMEZONE
TZID:America/Halifax
BEGIN:DAYLIGHT
TZOFFSETFROM:-0400
TZOFFSETTO:-0300
TZNAME:ADT
DTSTART:20210314T060000
END:DAYLIGHT
BEGIN:STANDARD
TZOFFSETFROM:-0300
TZOFFSETTO:-0400
TZNAME:AST
DTSTART:20211107T050000
END:STANDARD
BEGIN:DAYLIGHT
TZOFFSETFROM:-0400
TZOFFSETTO:-0300
TZNAME:ADT
DTSTART:20220313T060000
END:DAYLIGHT
BEGIN:STANDARD
TZOFFSETFROM:-0300
TZOFFSETTO:-0400
TZNAME:AST
DTSTART:20221106T050000
END:STANDARD
BEGIN:DAYLIGHT
TZOFFSETFROM:-0400
TZOFFSETTO:-0300
TZNAME:ADT
DTSTART:20230312T060000
END:DAYLIGHT
BEGIN:STANDARD
TZOFFSETFROM:-0300
TZOFFSETTO:-0400
TZNAME:AST
DTSTART:20231105T050000
END:STANDARD
END:VTIMEZONE
BEGIN:VEVENT
DTSTART;TZID=America/Los_Angeles:20230124T080000
DTEND;TZID=America/Los_Angeles:20230124T120000
DTSTAMP:20260425T055125
CREATED:20230113T211118Z
LAST-MODIFIED:20230113T211118Z
UID:1200997-1674547200-1674561600@www.ascip.org
SUMMARY:4-Hour Hazardous Materials Awareness/CERS Refresher Webinar
DESCRIPTION:A seminar designed to meet the minimum refresher training for first responders who are required to assess spills and/or releases of potentially toxic or hazardous materials. \nRequirement:  Must have attended either the 8-Hour Hazardous Materials Awareness/CERS training or the 4-Hour Hazardous Materials Awareness/CERS Refresher training within the last 12 months. \n  \nTrainer:  Larry Neenan\, IEL Consulting \n  \nRegister Here \n 
URL:https://www.ascip.org/event/4-hour-hazardous-materials-awareness-cers-refresher-webinar-3/
LOCATION:Webinar
CATEGORIES:Training
END:VEVENT
BEGIN:VEVENT
DTSTART;TZID=America/Los_Angeles:20230110T090000
DTEND;TZID=America/Los_Angeles:20230110T110000
DTSTAMP:20260425T055125
CREATED:20221221T152541Z
LAST-MODIFIED:20230105T221457Z
UID:1200929-1673341200-1673348400@www.ascip.org
SUMMARY:Comprehensive School Safety Plan Webinar.  This is Part 2 in a 3-part series
DESCRIPTION:All California public schools (K-12th grade) are required to develop and maintain a Comprehensive School Safety Plan (CSSP)\, per California Education Code sections 32280-32289.5. The CSSP must be reviewed and updated annually by a school’s School Site Council and adopted by the School Board by March 1 of each calendar year. Come learn about all of the current requirements needed to refresh your CSSP. \nThis session will review the following sections: \n\nProvisions of a School-Wide Dress Code\nProcedures for Safe Ingress & Egress\nChild Abuse Reporting Procedures\nPolicies for Suspension and Expulsion\nProcedures to Notify Teachers of Dangerous Students\nDiscrimination and Harassment Policy\nRules and Procedures for School Discipline\nProcedures for Conducting Tactical Responses to Criminal Incidents\n\n  \nTarget Audience:  Risk Management\, Administration \n  \nTrainers:  Sherry Colgan Stone\, Ed.D.\, Emergency Preparedness\, Security and Safety Specialist \n  \nRegistration Link
URL:https://www.ascip.org/event/comprehensive-school-safety-plan-webinar-this-is-part-2-in-a-3-part-series/
LOCATION:Webinar
CATEGORIES:Training
END:VEVENT
BEGIN:VEVENT
DTSTART;TZID=America/Halifax:20221129T080000
DTEND;TZID=America/Halifax:20221129T120000
DTSTAMP:20260425T055125
CREATED:20221121T212002Z
LAST-MODIFIED:20221121T212002Z
UID:1200669-1669708800-1669723200@www.ascip.org
SUMMARY:Comprehensive School Safety Plan Training.  This is Part 1 in a 3-part series.
DESCRIPTION:All California public schools (K- 12th grade) are required to develop and maintain a Comprehensive School Safety Plan (CSSP)\, per California Education Code sections 32280-32289.5.  Each CSSP must address the safety concerns identified through a systematic planning process that includes community stakeholders such as school staff\, parents\, students\, and local first responders.  The plans should contain strategies and policies to prevent and respond to potential incidents involving emergencies\, natural disasters\, violence\, active intruders\, bullying\, discrimination\, child abuse\, discipline\, and other safety aspects.  The CSSP must be reviewed and updated annually by a school’s School Site Council and adopted by the School Board by March 1 of each calendar year.  Come learn about all of the current requirements needed to refresh your CSSP. \nIn this training\, participants will be provided with an overview of CSSP and will learn about the general requirements.  The trainer will cover the following sections: \n\nAppropriate Programs and Strategies that Provide School Safety\nAssessment of School Crime\nEnsuring a Safe and Orderly Environment – Goals and Objectives\nDisaster Procedures\n\n  \nTarget Audience:  Risk Management\, Administration \n  \nTo register\, please email Kimberly Kennedy at kennedy@ascip.org \n 
URL:https://www.ascip.org/event/comprehensive-school-safety-plan-training-this-is-part-1-in-a-3-part-series/
LOCATION:ASCIP Training Room\, 12610 Park Plaza Drive\, Cerritos\, CA\, 90703\, United States
CATEGORIES:Training
END:VEVENT
BEGIN:VEVENT
DTSTART;TZID=America/Halifax:20221110T140000
DTEND;TZID=America/Halifax:20221110T153000
DTSTAMP:20260425T055125
CREATED:20221003T202350Z
LAST-MODIFIED:20221007T185139Z
UID:1200415-1668088800-1668094200@www.ascip.org
SUMMARY:Title IX for Administrators - Updates\, Strategies\, and Investigations
DESCRIPTION:Understanding the many facets of Title IX mandates and best practices for investigations can be challenging for both veteran and newly appointed administrators. This training will provide an overview of the key elements of Title IX\, clarify common misinformation\, and recommend the best protocols and processes for effective response and follow up. The expertise that will be provided in this presentation will build the” know how” needed to appropriately support victims and confidently move forward with investigations and meeting the mandates of Title IX. \n  \nTarget Audience: School Administrators\, District Risk Management Directors/Coordinators\, Title IX Investigators/Coordinators\, Directors of Discipline/CWA\, School Police \n  \nTrainer:  Kristine Kwong\, Musick\, Peeler & Garrett LLP \n  \nRegistration Link
URL:https://www.ascip.org/event/title-ix-for-administrators-updates-strategies-and-investigations/
LOCATION:Webinar
CATEGORIES:Training
END:VEVENT
BEGIN:VEVENT
DTSTART;TZID=America/Halifax:20221027T130000
DTEND;TZID=America/Halifax:20221027T143000
DTSTAMP:20260425T055125
CREATED:20221003T202041Z
LAST-MODIFIED:20221007T185108Z
UID:1200413-1666875600-1666881000@www.ascip.org
SUMMARY:CSA Prevention: Reinforcing Safety in Athletics and Extracurricular Programs
DESCRIPTION:This presentation provides leaders of athletics and other extra-curricular programs with a foundational understanding of sexual abuse in their unique school settings and best practices in supervising and supporting staff and students. Praesidium will also share industry trends\, case studies\, and provide a collaborative opportunity to explore child sexual abuse prevention strategies\, and victim support as well as\ndue diligence in following through with reporting mandates.\nThis presentation includes practical instruction on best practices that reinforce key safeguards and strategies to ensure extra-curricular activities are safe for all students. \n  \nTarget Audience: Athletic Directors\, Lead Coaches\, part-time Coaches\, Directors of VAPA\, ASB\, and Advisors for extra-curricular programs \n  \nTrainers:  J.Ross Mitchell\, Praesidium & Heidi Cisneros\, ASCIP \n  \nRegistration Link
URL:https://www.ascip.org/event/csa-prevention-reinforcing-safety-in-athletics-and-extracurricular-programs/
LOCATION:Webinar
CATEGORIES:Training
END:VEVENT
BEGIN:VEVENT
DTSTART;TZID=America/Halifax:20221018T090000
DTEND;TZID=America/Halifax:20221018T110000
DTSTAMP:20260425T055125
CREATED:20221003T201608Z
LAST-MODIFIED:20221007T184922Z
UID:1200409-1666083600-1666090800@www.ascip.org
SUMMARY:CSA Prevention for After School Leaders: Keeping After School Programs Safe & Supportive
DESCRIPTION:Protecting students in your care starts with equipping your staff with the skills to notice\, interrupt\, and report lower-level boundary violations before they become something more serious. Employees and volunteers need practical skills to navigate the many “gray areas” that can emerge from day-to-day interactions common to after school programs. Our innovative\, yet practical approach will build awareness of after school leaders of strategies and safeguards that are easily adopted to increase the safety of their program. This training will provide attendees with practical strategies to supervise adults and youths and dramatically reduce the risk of abuse in your school. \n  \nTarget Audience: Directors\, Coordinators\, Program Specialists\, Leaders/Leads\, and staff for after school enrichment or after school day care programs \n  \nTrainers:  J.Ross Mitchell\, Praesidium & Heidi Cisneros\, ASCIP \n  \nRegistration Link
URL:https://www.ascip.org/event/csa-prevention-for-after-school-leaders-keeping-after-school-programs-safe-supportive/
LOCATION:Webinar
CATEGORIES:Training
END:VEVENT
END:VCALENDAR