BEGIN:VCALENDAR
VERSION:2.0
PRODID:-//ASCIP - ECPv6.15.20//NONSGML v1.0//EN
CALSCALE:GREGORIAN
METHOD:PUBLISH
X-ORIGINAL-URL:https://www.ascip.org
X-WR-CALDESC:Events for ASCIP
REFRESH-INTERVAL;VALUE=DURATION:PT1H
X-Robots-Tag:noindex
X-PUBLISHED-TTL:PT1H
BEGIN:VTIMEZONE
TZID:America/Los_Angeles
BEGIN:DAYLIGHT
TZOFFSETFROM:-0800
TZOFFSETTO:-0700
TZNAME:PDT
DTSTART:20230312T100000
END:DAYLIGHT
BEGIN:STANDARD
TZOFFSETFROM:-0700
TZOFFSETTO:-0800
TZNAME:PST
DTSTART:20231105T090000
END:STANDARD
BEGIN:DAYLIGHT
TZOFFSETFROM:-0800
TZOFFSETTO:-0700
TZNAME:PDT
DTSTART:20240310T100000
END:DAYLIGHT
BEGIN:STANDARD
TZOFFSETFROM:-0700
TZOFFSETTO:-0800
TZNAME:PST
DTSTART:20241103T090000
END:STANDARD
BEGIN:DAYLIGHT
TZOFFSETFROM:-0800
TZOFFSETTO:-0700
TZNAME:PDT
DTSTART:20250309T100000
END:DAYLIGHT
BEGIN:STANDARD
TZOFFSETFROM:-0700
TZOFFSETTO:-0800
TZNAME:PST
DTSTART:20251102T090000
END:STANDARD
END:VTIMEZONE
BEGIN:VEVENT
DTSTART;TZID=America/Los_Angeles:20241120T140000
DTEND;TZID=America/Los_Angeles:20241120T150000
DTSTAMP:20260421T170638
CREATED:20241030T223740Z
LAST-MODIFIED:20241101T234912Z
UID:1203532-1732111200-1732114800@www.ascip.org
SUMMARY:CAARE - Crossing the Line: Athletics and Professional Boundaries
DESCRIPTION:This program provides strategies for creating safe environments where student-athletes can excel without fear\, covering boundary definitions\, ethical considerations\, and effective communication methods. \nWebinar Only – RSVP at www.ascip.org/2024-1120
URL:https://www.ascip.org/event/caare-crossing-the-line-athletics-and-professional-boundaries/
LOCATION:Webinar
CATEGORIES:Training
END:VEVENT
BEGIN:VEVENT
DTSTART;TZID=America/Los_Angeles:20241112T140000
DTEND;TZID=America/Los_Angeles:20241112T153000
DTSTAMP:20260421T170638
CREATED:20240808T204531Z
LAST-MODIFIED:20240808T204531Z
UID:1203096-1731420000-1731425400@www.ascip.org
SUMMARY:Community College District Risk Management Roundtable
DESCRIPTION:These meetings serve as vital platforms for sharing insights\, best practices\, and strategies to effectively manage risks specific to community college districts. Starting August 13\, 2024\, the meetings will take place every second Tuesday of the month from 2:00 PM – 3:30 PM (excluding the month of January). We look forward to our productive discussions in the upcoming roundtable sessions. \n  \nRSVP at www.ascip.org/CCDRoundtable
URL:https://www.ascip.org/event/community-college-district-risk-management-roundtable-3/2024-11-12/
LOCATION:Webinar
END:VEVENT
BEGIN:VEVENT
DTSTART;TZID=America/Los_Angeles:20241112T113000
DTEND;TZID=America/Los_Angeles:20241112T130000
DTSTAMP:20260421T170638
CREATED:20241018T201351Z
LAST-MODIFIED:20250113T184647Z
UID:1203519-1731411000-1731416400@www.ascip.org
SUMMARY:HR Roundtable-Internal Investigations: How to Get to the Bottom of things & Protect Yourself from Legal Missteps
DESCRIPTION:Making bullet proof personnel decisions requires a solid base and nothing is more important than effective and thorough investigations.  Learn the steps to an internal investigation including common legal landmines and practical techniques for interviews. \nLunch provided. \nLocation: Hybrid (ASCIP Training Room/Zoom) \nRSVP: www.ascip.org/2024-1112
URL:https://www.ascip.org/event/hr-roundtable-internal-investigations-how-to-get-to-the-bottom-of-things-protect-yourself-from-legal-missteps/
CATEGORIES:Training
END:VEVENT
BEGIN:VEVENT
DTSTART;TZID=America/Los_Angeles:20241107T133000
DTEND;TZID=America/Los_Angeles:20241107T150000
DTSTAMP:20260421T170638
CREATED:20241017T194808Z
LAST-MODIFIED:20241101T234817Z
UID:1203511-1730986200-1730991600@www.ascip.org
SUMMARY:CAARE-Understanding Guidelines and Integration for Childhood Sexual Assault and Title IX Investigations
DESCRIPTION:This training will provide an overview of the key elements and common areas of duplication of Title IX and CSA investigation processes.  Presenters will clarify common misinformation and recommend the best protocols and processes for effective response and follow-up. \nWebinar Only – RSVP at www.ascip.org/2024-1107
URL:https://www.ascip.org/event/understanding-guidelines-and-integration-for-csa-and-title-ix-investigations/
LOCATION:Webinar
CATEGORIES:Training
END:VEVENT
BEGIN:VEVENT
DTSTART;TZID=America/Los_Angeles:20241105T100000
DTEND;TZID=America/Los_Angeles:20241105T113000
DTSTAMP:20260421T170638
CREATED:20241011T205428Z
LAST-MODIFIED:20241030T223017Z
UID:1203505-1730800800-1730806200@www.ascip.org
SUMMARY:WC Roundtable - Coordination of Industrial Accident and Illness Leave with Workers’ Comp Temporary Disability (TD)
DESCRIPTION:Join our Workers’ Compensation Roundtable to understand how to integrate Education Code Industrial Accident or Illness Leave provisions with Workers’ Compensation Temporary Disability benefits.  Learn successful strategies for tracking\, documenting\, and auditing each injured employee’s file. \n  \n  \nTarget Audience:  Risk Management\, Workers’ Compensation\, and Human Resources \nRegister at www.ascip.org/2024-1105 \n  \nHybrid Training (ASCIP Training Room/Zoom) \n  \n  \n  \n  \n  \n  \n  \n  \n  \n 
URL:https://www.ascip.org/event/wc-roundtable-the-wonderful-world-of-work-restrictions-accommodations/
LOCATION:ASCIP Training Room\, 12610 Park Plaza Drive\, Cerritos\, CA\, 90703\, United States
CATEGORIES:Training
END:VEVENT
BEGIN:VEVENT
DTSTART;TZID=America/Los_Angeles:20241031T100000
DTEND;TZID=America/Los_Angeles:20241031T120000
DTSTAMP:20260421T170638
CREATED:20241011T204103Z
LAST-MODIFIED:20241011T204103Z
UID:1203503-1730368800-1730376000@www.ascip.org
SUMMARY:Back to School Safety Plans and Procedures
DESCRIPTION:This webinar will cover best practices and strategies with the focus on making safety a top priority to ensure your school safety plans match the everyday culture and operations\, to keep our schools safe. Topics to be discussed include: \n\nBest Practices for Emergency Response Protocols\nEmergency Action and School Safety Plans (When\, Why\, How)\nAsk the Experts\n\nRSVP at www.ascip.org/2024-1031
URL:https://www.ascip.org/event/back-to-school-safety-plans-and-procedures/
LOCATION:Webinar
CATEGORIES:Training
END:VEVENT
BEGIN:VEVENT
DTSTART;TZID=America/Los_Angeles:20241030T140000
DTEND;TZID=America/Los_Angeles:20241030T150000
DTSTAMP:20260421T170638
CREATED:20240905T174318Z
LAST-MODIFIED:20240927T155957Z
UID:1203219-1730296800-1730300400@www.ascip.org
SUMMARY:ASCIP and NASDTEC: Nationwide Database for Safe Clearance of Employees
DESCRIPTION:The NASDTEC Educator Identification Clearinghouse is the collection point of discipline actions for credentialed professionals nationwide. The Clearinghouse maintains a database of all disciplinary actions reported by districts which will be available to all participating ASCIP members signed up for this service. \nNASDTEC will provide an overview of the Clearinghouse and detailed instructions on how to utilize the online platform. \nRSVP at www.ascip.org/2024-1030
URL:https://www.ascip.org/event/ascip-and-nasdtec-nationwide-database-for-safe-clearance-of-employees/
LOCATION:Webinar
CATEGORIES:Training
END:VEVENT
BEGIN:VEVENT
DTSTART;TZID=America/Los_Angeles:20241030T090000
DTEND;TZID=America/Los_Angeles:20241030T100000
DTSTAMP:20260421T170638
CREATED:20240920T155433Z
LAST-MODIFIED:20241017T192933Z
UID:1203323-1730278800-1730282400@www.ascip.org
SUMMARY:Covert Recording Devices: Seeing the Hidden Risks
DESCRIPTION:This class is designed to teach basic security awareness skills\, with an emphasis on identifying andcountering surveillance and covert electronic devices linked to sexual assault and exploitation. Wealso provide visual examples and information on identifying covert recording devices. This will helpattendees understand their prevalence and the connection to predatory behaviors on social media.Attendees will leave this course with an increased awareness of strategies to recognize and preventpotential abuse while gaining insights into various surveillance techniques needed to protect boththe district from litigation and the privacy of students and staff in the digital age. \nRSVP at www.ascip.org/2024-Oct30
URL:https://www.ascip.org/event/covert-recording-devices-seeing-the-hidden-risks/
CATEGORIES:Training
END:VEVENT
BEGIN:VEVENT
DTSTART;TZID=America/Los_Angeles:20241024T100000
DTEND;TZID=America/Los_Angeles:20241024T113000
DTSTAMP:20260421T170638
CREATED:20241008T000706Z
LAST-MODIFIED:20241008T000706Z
UID:1203490-1729764000-1729769400@www.ascip.org
SUMMARY:Maintenance and Facilities Roundtable
DESCRIPTION:ASCIP is hosting our first in-person meeting for Maintenance professionals on topics that are common across the ASCIP membership relating to property protection and risk management best practices. \nPlease join this member-only roundtable discussing ways to support one another in maintaining a safe learning environment and PREVENTING PROPERTY LOSSES. \nThis roundtable follows the format of similar roundtable groups\, but will meet bi-monthly\, with each 1.5-hour session hosted in person at our ASCIP office in Cerritos and available via Zoom for long-distance members. \nOur first roundtable will include lunch and the opportunity to connect\, share\, and learn from your peer school maintenance professionals. \nFor more information and to RSVP\, go to www.ascip.org/2024-1024
URL:https://www.ascip.org/event/maintenance-and-facilities-roundtable/
LOCATION:ASCIP Training Room\, 12610 Park Plaza Drive\, Cerritos\, CA\, 90703\, United States
CATEGORIES:Training
END:VEVENT
BEGIN:VEVENT
DTSTART;TZID=America/Los_Angeles:20241022T100000
DTEND;TZID=America/Los_Angeles:20241022T100000
DTSTAMP:20260421T170638
CREATED:20240904T202947Z
LAST-MODIFIED:20241008T000436Z
UID:1203215-1729591200-1729591200@www.ascip.org
SUMMARY:Navigating ADA Website Risks
DESCRIPTION:As part of our ongoing efforts to support members with ADA website compliance\, ASCIP is partnering with AAAtraq to provide a comprehensive overview of their Risk Control Program. This webinar will be an excellent opportunity to learn about AAAtraq’s features\, benefits\, and how it can help your organization mitigate risks associated with website accessibility. \nRSVP at www.ascip.org/2024-1017
URL:https://www.ascip.org/event/navigating-ada-website-risks/
LOCATION:Webinar
CATEGORIES:Training
END:VEVENT
BEGIN:VEVENT
DTSTART;TZID=America/Los_Angeles:20241016T120000
DTEND;TZID=America/Los_Angeles:20241016T150000
DTSTAMP:20260421T170638
CREATED:20240925T203235Z
LAST-MODIFIED:20240928T010708Z
UID:1203352-1729080000-1729090800@www.ascip.org
SUMMARY:Pesticide Handler Training PM Session
DESCRIPTION:For pesticide handlers\, this training meets the CA Department of Agriculture requirements. \nCE credits are available.  Class size is limited to 50. \nBy RESERVATION ONLY.
URL:https://www.ascip.org/event/pesticide-handler-training-pm-session-3/
LOCATION:ASCIP Training Room\, 12610 Park Plaza Drive\, Cerritos\, CA\, 90703\, United States
CATEGORIES:Training
END:VEVENT
BEGIN:VEVENT
DTSTART;TZID=America/Los_Angeles:20241016T080000
DTEND;TZID=America/Los_Angeles:20241016T113000
DTSTAMP:20260421T170638
CREATED:20240925T201047Z
LAST-MODIFIED:20241004T180204Z
UID:1203348-1729065600-1729078200@www.ascip.org
SUMMARY:Pesticide Handler Training AM Session
DESCRIPTION:For pesticide handlers\, this training meets the CA Department of Agriculture requirements. \nCE credits are available.  Class size is limited to 50. \nBy RESERVATION ONLY. \nRSVP at www.ascip.org/2024-1015
URL:https://www.ascip.org/event/pesticide-handler-training-am-pm-available/
CATEGORIES:Training
END:VEVENT
BEGIN:VEVENT
DTSTART;TZID=America/Los_Angeles:20241015T113000
DTEND;TZID=America/Los_Angeles:20241015T130000
DTSTAMP:20260421T170638
CREATED:20240925T200545Z
LAST-MODIFIED:20241008T001251Z
UID:1203345-1728991800-1728997200@www.ascip.org
SUMMARY:Human Resources Roundtable - Title IX
DESCRIPTION:With the final regulations finally effective\, this Roundtable will discuss the new regulations and mandates under Title IX.  Come for a lively discussion on new requirements in providing appropriate supports in all aspects of education\, including the mandated to strengthen protections for LGBTQ students who face discrimination\, understand expanded definitions for discrimination based on sexual orientation\, gender identity and sexual characteristics\, protections based on pregnancy\, and new requirements for the Title IX Coordinator.  Also discussed will be the district’s expanded obligations to provide supportive measures to both complainant and respondent\, and new standards for permissive dismissals of complaints. \nRSVP at www.ascip.org/2024-1015
URL:https://www.ascip.org/event/human-resources-roundtable-title-ix/
CATEGORIES:Training
LOCATION:www.ascip.org/2024-1015
END:VEVENT
BEGIN:VEVENT
DTSTART;TZID=America/Los_Angeles:20241008T140000
DTEND;TZID=America/Los_Angeles:20241008T153000
DTSTAMP:20260421T170638
CREATED:20240808T204531Z
LAST-MODIFIED:20240808T204531Z
UID:1203095-1728396000-1728401400@www.ascip.org
SUMMARY:Community College District Risk Management Roundtable
DESCRIPTION:These meetings serve as vital platforms for sharing insights\, best practices\, and strategies to effectively manage risks specific to community college districts. Starting August 13\, 2024\, the meetings will take place every second Tuesday of the month from 2:00 PM – 3:30 PM (excluding the month of January). We look forward to our productive discussions in the upcoming roundtable sessions. \n  \nRSVP at www.ascip.org/CCDRoundtable
URL:https://www.ascip.org/event/community-college-district-risk-management-roundtable-3/2024-10-08/
LOCATION:Webinar
END:VEVENT
BEGIN:VEVENT
DTSTART;TZID=America/Los_Angeles:20241001T083000
DTEND;TZID=America/Los_Angeles:20241001T113000
DTSTAMP:20260421T170638
CREATED:20240709T224209Z
LAST-MODIFIED:20240928T010340Z
UID:1202758-1727771400-1727782200@www.ascip.org
SUMMARY:Safe Practices for Special Education Staff
DESCRIPTION:Join us for the opportunity for Special Education staff to learn about ways to keep themselves and students safe at schools. Participants will learn about the following topics and participate in a hands-on exercises to gain knowledge and skills for safe school environments: \n\nImportance of ergonomics in Special Education to reduce injuries and promote health along with staff productivity\nAreas of risk – ergonomics and beyond\nCreating an awareness of managing risk\n\nLunch and breakfast will be provided. \nRSVP at www.ascip.org/2024-0730
URL:https://www.ascip.org/event/safe-practices-for-special-education-staff/
LOCATION:ASCIP Training Room\, 12610 Park Plaza Drive\, Cerritos\, CA\, 90703\, United States
CATEGORIES:Featured,Training
END:VEVENT
BEGIN:VEVENT
DTSTART;TZID=America/Los_Angeles:20240924T103000
DTEND;TZID=America/Los_Angeles:20240924T120000
DTSTAMP:20260421T170638
CREATED:20240904T202426Z
LAST-MODIFIED:20240904T202439Z
UID:1203213-1727173800-1727179200@www.ascip.org
SUMMARY:Cyber Risk Focus Group
DESCRIPTION:Get the latest updates on ASCIP’s cyber risk management initiatives and how they impact your organization. We’ll cover recent developments\, new strategies\, and evolving trends in cyber risk. \nHear from a distinguished guest speaker from the Cybersecurity and Infrastructure Security Agency (CISA). They will provide expert insights into federal cybersecurity resources and guidance available to organizations. \nExplore the ASCIP Cyber Assessment Cyber Portal\, a powerful tool designed to help organizations assess and manage their cyber risk. We’ll demonstrate how to use the portal and discuss its benefits. \nRSVP at www.ascip.org/CyberRiskFG
URL:https://www.ascip.org/event/cyber-risk-focus-group-2/
LOCATION:ASCIP Training Room\, 12610 Park Plaza Drive\, Cerritos\, CA\, 90703\, United States
END:VEVENT
BEGIN:VEVENT
DTSTART;TZID=America/Los_Angeles:20240919T100000
DTEND;TZID=America/Los_Angeles:20240919T120000
DTSTAMP:20260421T170638
CREATED:20240808T204802Z
LAST-MODIFIED:20240808T204802Z
UID:1203105-1726740000-1726747200@www.ascip.org
SUMMARY:2024-25 Memorandum of Coverage Update - Understanding Your ASCIP Coverage
DESCRIPTION:ASCIP is hosting an exclusive webinar with comprehensive insights into the property\, liability and risk management services programs offered by ASCIP and review the 2024-25 Memorandum of Coverage. This session will detail updates and improvements\, while offering a dedicated platform for addressing any questions. Join us to review your district’s coverage and understand on how it can protect your organization effectively. \nRSVP at www.ascip.org/24-25MOCUpdates
URL:https://www.ascip.org/event/2024-25-memorandum-of-coverage-update-understanding-your-ascip-coverage-2/2024-09-19/
LOCATION:Webinar
END:VEVENT
BEGIN:VEVENT
DTSTART;TZID=America/Los_Angeles:20240918T143000
DTEND;TZID=America/Los_Angeles:20240918T153000
DTSTAMP:20260421T170638
CREATED:20240904T202212Z
LAST-MODIFIED:20240904T202212Z
UID:1203211-1726669800-1726673400@www.ascip.org
SUMMARY:Human Resources: The First Line of Defense for Student Safety
DESCRIPTION:This informative session will explore cutting-edge approaches to embed safety measures directly into your recruitment and hiring processes to protect students from childhood sexual assault. This webinar is equipped with actionable strategies to immediately strengthen your hiring practices\, minimize risks\, manage red-flag behaviors\, and send a clear message that child sexual assault prevention is a top priority in your district. \nRSVP at www.ascip.org/2024-0918 \n 
URL:https://www.ascip.org/event/human-resources-the-first-line-of-defense-for-student-safety/
LOCATION:Webinar
END:VEVENT
BEGIN:VEVENT
DTSTART;TZID=America/Los_Angeles:20240910T140000
DTEND;TZID=America/Los_Angeles:20240910T153000
DTSTAMP:20260421T170638
CREATED:20240808T204531Z
LAST-MODIFIED:20240808T204531Z
UID:1203094-1725976800-1725982200@www.ascip.org
SUMMARY:Community College District Risk Management Roundtable
DESCRIPTION:These meetings serve as vital platforms for sharing insights\, best practices\, and strategies to effectively manage risks specific to community college districts. Starting August 13\, 2024\, the meetings will take place every second Tuesday of the month from 2:00 PM – 3:30 PM (excluding the month of January). We look forward to our productive discussions in the upcoming roundtable sessions. \n  \nRSVP at www.ascip.org/CCDRoundtable
URL:https://www.ascip.org/event/community-college-district-risk-management-roundtable-3/2024-09-10/
LOCATION:Webinar
END:VEVENT
BEGIN:VEVENT
DTSTART;TZID=America/Los_Angeles:20240820T140000
DTEND;TZID=America/Los_Angeles:20240820T160000
DTSTAMP:20260421T170638
CREATED:20240808T204802Z
LAST-MODIFIED:20240808T204802Z
UID:1203104-1724162400-1724169600@www.ascip.org
SUMMARY:2024-25 Memorandum of Coverage Update - Understanding Your ASCIP Coverage
DESCRIPTION:ASCIP is hosting an exclusive webinar with comprehensive insights into the property\, liability and risk management services programs offered by ASCIP and review the 2024-25 Memorandum of Coverage. This session will detail updates and improvements\, while offering a dedicated platform for addressing any questions. Join us to review your district’s coverage and understand on how it can protect your organization effectively. \nRSVP at www.ascip.org/24-25MOCUpdates
URL:https://www.ascip.org/event/2024-25-memorandum-of-coverage-update-understanding-your-ascip-coverage-2/2024-08-20/
LOCATION:Webinar
END:VEVENT
BEGIN:VEVENT
DTSTART;TZID=America/Los_Angeles:20240813T140000
DTEND;TZID=America/Los_Angeles:20240813T153000
DTSTAMP:20260421T170638
CREATED:20240808T204531Z
LAST-MODIFIED:20240808T204531Z
UID:1203093-1723557600-1723563000@www.ascip.org
SUMMARY:Community College District Risk Management Roundtable
DESCRIPTION:These meetings serve as vital platforms for sharing insights\, best practices\, and strategies to effectively manage risks specific to community college districts. Starting August 13\, 2024\, the meetings will take place every second Tuesday of the month from 2:00 PM – 3:30 PM (excluding the month of January). We look forward to our productive discussions in the upcoming roundtable sessions. \n  \nRSVP at www.ascip.org/CCDRoundtable
URL:https://www.ascip.org/event/community-college-district-risk-management-roundtable-3/2024-08-13/
LOCATION:Webinar
END:VEVENT
BEGIN:VEVENT
DTSTART;TZID=America/Los_Angeles:20240725T100000
DTEND;TZID=America/Los_Angeles:20240725T120000
DTSTAMP:20260421T170638
CREATED:20240516T220231Z
LAST-MODIFIED:20240516T220328Z
UID:1202521-1721901600-1721908800@www.ascip.org
SUMMARY:2024-25 Memorandum of Coverage Update - Understanding your ASCIP Coverage
DESCRIPTION:ASCIP will be reviewing the 2024-25 Memorandum of Coverage updates for the property and liability program\, workers’ compensation\, health benefits and risk management services. \n\n\n\nRSVP here: www.ascip.org/2024-0725
URL:https://www.ascip.org/event/2024-25-memorandum-of-coverage-update-understanding-your-ascip-coverage/
END:VEVENT
BEGIN:VEVENT
DTSTART;TZID=America/Los_Angeles:20240625T140000
DTEND;TZID=America/Los_Angeles:20240625T153000
DTSTAMP:20260421T170638
CREATED:20240604T232425Z
LAST-MODIFIED:20240604T232505Z
UID:1202641-1719324000-1719329400@www.ascip.org
SUMMARY:Community College District Risk Management Roundtable - June 2024
DESCRIPTION:This meeting is designed to facilitate discussions among a variety of risk topics impacting Community Colleges. \nRSVP at www.ascip.org/2024-0625
URL:https://www.ascip.org/event/community-college-district-risk-management-roundtable-june-2024/
END:VEVENT
BEGIN:VEVENT
DTSTART;TZID=America/Los_Angeles:20240528T140000
DTEND;TZID=America/Los_Angeles:20240528T153000
DTSTAMP:20260421T170638
CREATED:20240516T213215Z
LAST-MODIFIED:20240516T213215Z
UID:1202519-1716904800-1716910200@www.ascip.org
SUMMARY:Community College District Risk Management Roundtable
DESCRIPTION:This meeting is designed to facilitate discussions among a variety of risk topics impacting community colleges. For a list of meeting topics\, RSVP at www.ascip.org/2024-0528. \n 
URL:https://www.ascip.org/event/community-college-district-risk-management-roundtable-2/
LOCATION:Webinar
END:VEVENT
BEGIN:VEVENT
DTSTART;TZID=America/Los_Angeles:20240515T113000
DTEND;TZID=America/Los_Angeles:20240515T130000
DTSTAMP:20260421T170638
CREATED:20240216T230710Z
LAST-MODIFIED:20240311T194851Z
UID:1202289-1715772600-1715778000@www.ascip.org
SUMMARY:HR Roundtable-Updates to Proposed Title IX Regulations
DESCRIPTION:The Federal Government has issued a new set of Proposed Title IX Regulations.  Come learn the new regulations in complying with Title IX. \n  \nLocation:  Hybrid Training (ASCIP Training Room/Zoom) \nPresenter:  Kristine Kwong\, Musick\, Peeler & Garret LLP \nRegister at  www.ascip.org/2024-0515 \n  \n  \n  \n  \n  \n  \n  \n  \n 
URL:https://www.ascip.org/event/hr-roundtable-updates-to-proposed-title-ix-regulations/
LOCATION:ASCIP Training Room\, 12610 Park Plaza Drive\, Cerritos\, CA\, 90703\, United States
CATEGORIES:Training
END:VEVENT
BEGIN:VEVENT
DTSTART;TZID=America/Los_Angeles:20240508T100000
DTEND;TZID=America/Los_Angeles:20240508T113000
DTSTAMP:20260421T170638
CREATED:20240501T182319Z
LAST-MODIFIED:20240501T182319Z
UID:1202466-1715162400-1715167800@www.ascip.org
SUMMARY:WC Roundtable-Proper Investigation & Preparing for Successful Litigation
DESCRIPTION:The first ninety days of a claim are critical in setting the stage for the litigation that might follow.  Proper investigation can save later headaches and help to foster a positive outcome.  Join your colleagues for an informative session where we will learn from both an investigative and legal perspective how to best position your claims for future success as presented by experts in the field. \nPresenters:  Carrie O’Connor\, Esq.\, Partner\, O’Connor Telezinski and Brent Sims\, Partner\, DigiStream Investigations \nTarget Audience:  Risk Management\, Workers’ Compensation\, Human Resources\, and Business Personnel. \nRegister at www.ascip.org/2024-0508 \n  \nHybrid Training (ASCIP Training Room/Zoom) \n  \n  \n  \n  \n  \n  \n  \n  \n  \n 
URL:https://www.ascip.org/event/wc-roundtable-proper-investigation-preparing-for-successful-litigation/
LOCATION:ASCIP Training Room\, 12610 Park Plaza Drive\, Cerritos\, CA\, 90703\, United States
CATEGORIES:Training
END:VEVENT
BEGIN:VEVENT
DTSTART;TZID=America/Los_Angeles:20240430T140000
DTEND;TZID=America/Los_Angeles:20240430T160000
DTSTAMP:20260421T170638
CREATED:20230918T213144Z
LAST-MODIFIED:20230921T193501Z
UID:1201694-1714485600-1714492800@www.ascip.org
SUMMARY:CAARE – Screening for Safety in Human Resources
DESCRIPTION:Administrators and staff representing Human Resources Departments are invited to join this informative overview of strategies that can be embedded in the recruitment and hiring process to increase student safety and prevent child sexual abuse. \nPraesidium will also cover background checks and the need to formalize spot-check documentation practices to ensure proper implementation\, particularly in safeguarding those who may have access to vulnerable students. \nLearning points: best practices for interviews\, references\, background checks\, and document retention\, as well as\, striving to create a process that minimizes biases\, and identifies potential abuse risk while sending the message that “Child sexual abuse prevention is a district priority.” \nRSVP Here \nwww.ascip.org/2024-0430
URL:https://www.ascip.org/event/screening-for-safety-in-human-resources-2/
LOCATION:Webinar
CATEGORIES:Training
END:VEVENT
BEGIN:VEVENT
DTSTART;TZID=America/Los_Angeles:20240423T140000
DTEND;TZID=America/Los_Angeles:20240423T150000
DTSTAMP:20260421T170638
CREATED:20230918T213009Z
LAST-MODIFIED:20230921T193440Z
UID:1201692-1713880800-1713884400@www.ascip.org
SUMMARY:CAARE – KnowGO: Insulating Young Students From CSA Through the Classroom
DESCRIPTION:The KnowGO Program is highlighted as one of the most critical safeguards of the ASCIP CAARE program. The KnowGO campaign is designed to build awareness\, skills and knowledge of the heinous methods used by predators. The curriculum has been strategically designed to nurture age-appropriate\, honest\, transparent discussions of safety\, promote trust in safe adults and build confidence in identifying unsafe situations. The dynamic\, vibrant illustrations and engaging\, insightful activities facilitate a life changing experience for students. \nRSVP Here \nwww.ascip.org/2024-0423
URL:https://www.ascip.org/event/knowgo-insulating-young-students-from-csa-through-the-classroom-2/
LOCATION:Webinar
CATEGORIES:Training
END:VEVENT
BEGIN:VEVENT
DTSTART;TZID=America/Los_Angeles:20240416T113000
DTEND;TZID=America/Los_Angeles:20240416T130000
DTSTAMP:20260421T170638
CREATED:20240216T230604Z
LAST-MODIFIED:20240311T194228Z
UID:1202287-1713267000-1713272400@www.ascip.org
SUMMARY:HR Roundtable-Pregnancy Disability Leave and the Federal Pregnant Workers Fairness Act
DESCRIPTION:The Federal Government has passed a Federal Pregnant Workers Fairness Act.  How does this align with the California Pregnancy Disability Leave Law?  How do you comply with both?  Learn the distinctions between the two statutes and how to apply them to pregnant workers. \nLocation:  Hybrid Training (ASCIP Training Room/Zoom) \nPresenter:  Kristine Kwong\, Musick\, Peeler & Garret LLP \nRegister at  www.ascip.org/2024-0416 \n  \n  \n  \n  \n  \n  \n  \n  \n 
URL:https://www.ascip.org/event/hr-roundtable-pregnancy-disability-leave-and-the-federal-pregnant-workers-fairness-act/
LOCATION:ASCIP Training Room\, 12610 Park Plaza Drive\, Cerritos\, CA\, 90703\, United States
CATEGORIES:Training
END:VEVENT
BEGIN:VEVENT
DTSTART;TZID=America/Los_Angeles:20240314T113000
DTEND;TZID=America/Los_Angeles:20240314T130000
DTSTAMP:20260421T170638
CREATED:20240216T230304Z
LAST-MODIFIED:20240222T210824Z
UID:1202284-1710415800-1710421200@www.ascip.org
SUMMARY:HR Roundtable-I have a Doctor’s Note\, Now what Do I do?
DESCRIPTION:One of the most challenging aspects of working through the reasonable accommodation process is an insufficient medical note oftentimes produced by employee.  In the roundtable\, we’ll discuss how to respond to poorly written medical notes and what you can do to make sure medical notes can be utilized in the accommodation process. \nLocation:  ASCIP Training Room\, 16550 Bloomfield Avenue\, Cerritos\, 90703 \nPresenter:  Kristine Kwong\, Musick\, Peeler & Garret LLP \nRegister at  www.ascip.org/2024-0314 \n  \n  \n  \n  \n  \n  \n 
URL:https://www.ascip.org/event/hr-roundtable-i-have-a-doctors-note-now-what-do-i-do/
LOCATION:ASCIP Training Room\, 12610 Park Plaza Drive\, Cerritos\, CA\, 90703\, United States
CATEGORIES:Training
END:VEVENT
END:VCALENDAR