BEGIN:VCALENDAR
VERSION:2.0
PRODID:-//ASCIP - ECPv6.15.20//NONSGML v1.0//EN
CALSCALE:GREGORIAN
METHOD:PUBLISH
X-WR-CALNAME:ASCIP
X-ORIGINAL-URL:https://www.ascip.org
X-WR-CALDESC:Events for ASCIP
REFRESH-INTERVAL;VALUE=DURATION:PT1H
X-Robots-Tag:noindex
X-PUBLISHED-TTL:PT1H
BEGIN:VTIMEZONE
TZID:America/Los_Angeles
BEGIN:DAYLIGHT
TZOFFSETFROM:-0800
TZOFFSETTO:-0700
TZNAME:PDT
DTSTART:20130310T100000
END:DAYLIGHT
BEGIN:STANDARD
TZOFFSETFROM:-0700
TZOFFSETTO:-0800
TZNAME:PST
DTSTART:20131103T090000
END:STANDARD
BEGIN:DAYLIGHT
TZOFFSETFROM:-0800
TZOFFSETTO:-0700
TZNAME:PDT
DTSTART:20140309T100000
END:DAYLIGHT
BEGIN:STANDARD
TZOFFSETFROM:-0700
TZOFFSETTO:-0800
TZNAME:PST
DTSTART:20141102T090000
END:STANDARD
BEGIN:DAYLIGHT
TZOFFSETFROM:-0800
TZOFFSETTO:-0700
TZNAME:PDT
DTSTART:20150308T100000
END:DAYLIGHT
BEGIN:STANDARD
TZOFFSETFROM:-0700
TZOFFSETTO:-0800
TZNAME:PST
DTSTART:20151101T090000
END:STANDARD
BEGIN:DAYLIGHT
TZOFFSETFROM:-0800
TZOFFSETTO:-0700
TZNAME:PDT
DTSTART:20160313T100000
END:DAYLIGHT
BEGIN:STANDARD
TZOFFSETFROM:-0700
TZOFFSETTO:-0800
TZNAME:PST
DTSTART:20161106T090000
END:STANDARD
BEGIN:DAYLIGHT
TZOFFSETFROM:-0800
TZOFFSETTO:-0700
TZNAME:PDT
DTSTART:20170312T100000
END:DAYLIGHT
BEGIN:STANDARD
TZOFFSETFROM:-0700
TZOFFSETTO:-0800
TZNAME:PST
DTSTART:20171105T090000
END:STANDARD
BEGIN:DAYLIGHT
TZOFFSETFROM:-0800
TZOFFSETTO:-0700
TZNAME:PDT
DTSTART:20180311T100000
END:DAYLIGHT
BEGIN:STANDARD
TZOFFSETFROM:-0700
TZOFFSETTO:-0800
TZNAME:PST
DTSTART:20181104T090000
END:STANDARD
BEGIN:DAYLIGHT
TZOFFSETFROM:-0800
TZOFFSETTO:-0700
TZNAME:PDT
DTSTART:20190310T100000
END:DAYLIGHT
BEGIN:STANDARD
TZOFFSETFROM:-0700
TZOFFSETTO:-0800
TZNAME:PST
DTSTART:20191103T090000
END:STANDARD
BEGIN:DAYLIGHT
TZOFFSETFROM:-0800
TZOFFSETTO:-0700
TZNAME:PDT
DTSTART:20200308T100000
END:DAYLIGHT
BEGIN:STANDARD
TZOFFSETFROM:-0700
TZOFFSETTO:-0800
TZNAME:PST
DTSTART:20201101T090000
END:STANDARD
BEGIN:DAYLIGHT
TZOFFSETFROM:-0800
TZOFFSETTO:-0700
TZNAME:PDT
DTSTART:20210314T100000
END:DAYLIGHT
BEGIN:STANDARD
TZOFFSETFROM:-0700
TZOFFSETTO:-0800
TZNAME:PST
DTSTART:20211107T090000
END:STANDARD
BEGIN:DAYLIGHT
TZOFFSETFROM:-0800
TZOFFSETTO:-0700
TZNAME:PDT
DTSTART:20220313T100000
END:DAYLIGHT
BEGIN:STANDARD
TZOFFSETFROM:-0700
TZOFFSETTO:-0800
TZNAME:PST
DTSTART:20221106T090000
END:STANDARD
BEGIN:DAYLIGHT
TZOFFSETFROM:-0800
TZOFFSETTO:-0700
TZNAME:PDT
DTSTART:20230312T100000
END:DAYLIGHT
BEGIN:STANDARD
TZOFFSETFROM:-0700
TZOFFSETTO:-0800
TZNAME:PST
DTSTART:20231105T090000
END:STANDARD
BEGIN:DAYLIGHT
TZOFFSETFROM:-0800
TZOFFSETTO:-0700
TZNAME:PDT
DTSTART:20240310T100000
END:DAYLIGHT
BEGIN:STANDARD
TZOFFSETFROM:-0700
TZOFFSETTO:-0800
TZNAME:PST
DTSTART:20241103T090000
END:STANDARD
BEGIN:DAYLIGHT
TZOFFSETFROM:-0800
TZOFFSETTO:-0700
TZNAME:PDT
DTSTART:20250309T100000
END:DAYLIGHT
BEGIN:STANDARD
TZOFFSETFROM:-0700
TZOFFSETTO:-0800
TZNAME:PST
DTSTART:20251102T090000
END:STANDARD
END:VTIMEZONE
BEGIN:VTIMEZONE
TZID:America/Halifax
BEGIN:DAYLIGHT
TZOFFSETFROM:-0400
TZOFFSETTO:-0300
TZNAME:ADT
DTSTART:20210314T060000
END:DAYLIGHT
BEGIN:STANDARD
TZOFFSETFROM:-0300
TZOFFSETTO:-0400
TZNAME:AST
DTSTART:20211107T050000
END:STANDARD
BEGIN:DAYLIGHT
TZOFFSETFROM:-0400
TZOFFSETTO:-0300
TZNAME:ADT
DTSTART:20220313T060000
END:DAYLIGHT
BEGIN:STANDARD
TZOFFSETFROM:-0300
TZOFFSETTO:-0400
TZNAME:AST
DTSTART:20221106T050000
END:STANDARD
BEGIN:DAYLIGHT
TZOFFSETFROM:-0400
TZOFFSETTO:-0300
TZNAME:ADT
DTSTART:20230312T060000
END:DAYLIGHT
BEGIN:STANDARD
TZOFFSETFROM:-0300
TZOFFSETTO:-0400
TZNAME:AST
DTSTART:20231105T050000
END:STANDARD
END:VTIMEZONE
BEGIN:VTIMEZONE
TZID:UTC
BEGIN:STANDARD
TZOFFSETFROM:+0000
TZOFFSETTO:+0000
TZNAME:UTC
DTSTART:20130101T000000
END:STANDARD
END:VTIMEZONE
BEGIN:VEVENT
DTSTART;TZID=America/Los_Angeles:20240221T113000
DTEND;TZID=America/Los_Angeles:20240221T140000
DTSTAMP:20260420T005037
CREATED:20240117T181551Z
LAST-MODIFIED:20240117T194807Z
UID:1202138-1708515000-1708524000@www.ascip.org
SUMMARY:Pesticide Handler Training PM Session
DESCRIPTION:For pesticide handlers\, this training meets the CA Department of Agriculture requirements. \nCE credits are available.  Class size is limited to 50. \nBy RESERVATION ONLY. \nPresenter:  Niree Sarkissian\, Pesticide Training Office Los Angeles County \nRegister at  www.ascip.org/2024-0221PM \nASCIP Training Room (16550 Bloomfield Avenue\, Cerritos\, CA 90703) \n  \n  \n  \n 
URL:https://www.ascip.org/event/pesticide-handler-training-pm-session-2/
LOCATION:ASCIP Training Room\, 12610 Park Plaza Drive\, Cerritos\, CA\, 90703\, United States
CATEGORIES:Training
END:VEVENT
BEGIN:VEVENT
DTSTART;TZID=America/Los_Angeles:20240221T083000
DTEND;TZID=America/Los_Angeles:20240221T110000
DTSTAMP:20260420T005037
CREATED:20240117T181418Z
LAST-MODIFIED:20240117T181418Z
UID:1202136-1708504200-1708513200@www.ascip.org
SUMMARY:Pesticide Handler Training AM Session
DESCRIPTION:For pesticide handlers\, this training meets the CA Department of Agriculture requirements. \nCE credits are available.  Class size is limited to 50. \nBy RESERVATION ONLY. \nPresenter:  Niree Sarkissian\, Pesticide Training Office Los Angeles County \nRegister at  www.ascip.org/2024-0221AM \nASCIP Training Room (16550 Bloomfield Avenue\, Cerritos\, CA 90703) \n  \n  \n  \n 
URL:https://www.ascip.org/event/pesticide-handler-training-am-session-2/
LOCATION:ASCIP Training Room\, 12610 Park Plaza Drive\, Cerritos\, CA\, 90703\, United States
CATEGORIES:Training
END:VEVENT
BEGIN:VEVENT
DTSTART;TZID=America/Los_Angeles:20240207T113000
DTEND;TZID=America/Los_Angeles:20240207T130000
DTSTAMP:20260420T005037
CREATED:20240117T181130Z
LAST-MODIFIED:20240117T181130Z
UID:1202134-1707305400-1707310800@www.ascip.org
SUMMARY:HR Roundtable-2024 Legal Update
DESCRIPTION:Learn about new legislation and cases involving employment and labor laws that affect our Districts.  Discuss strategic ways to comply with challenging new laws that affect our Districts. \n  \nPresenter:  Kristine Kwong\, Musick\, Peeler & Garret LLP \nRegister at www.ascip.org/2024-0207 \nHybrid Training (ASCIP Training Room/Zoom) \n  \n  \n  \n 
URL:https://www.ascip.org/event/hr-roundtable-2024-legal-update/
LOCATION:ASCIP Training Room\, 12610 Park Plaza Drive\, Cerritos\, CA\, 90703\, United States
CATEGORIES:Training
END:VEVENT
BEGIN:VEVENT
DTSTART;TZID=America/Los_Angeles:20240124T080000
DTEND;TZID=America/Los_Angeles:20240124T160000
DTSTAMP:20260420T005037
CREATED:20231219T214852Z
LAST-MODIFIED:20231219T214852Z
UID:1202112-1706083200-1706112000@www.ascip.org
SUMMARY:8-Hour Hazardous Materials Awareness/CERS
DESCRIPTION:This 8-hour training is the minimum required under current State law for those employees who must respond to incidents involving the potential or actual release of a toxic or hazardous substance.  This training allows the first responder to gain a basic understanding of the potential risks involved in dealing with such incidents and how they may be resolved in an appropriate and safe manner.  This level of awareness training is not sufficient for actual hands-on cleanup and mitigation of toxic or hazardous releases but will provide information necessary for first responders to use when making decisions to ensure continued personal and environmental safety.  ASCIP’s hazardous materials management and disposal consultant\, IEL Consulting will offer this informative presentation which is intended to assist individuals who are required to respond to release of potentially hazardous materials.  Attendees must be present for the entire program to receive a training certificate. \nLocation:  ASCIP Training Room\, 16550 Bloomfield Avenue\, Cerritos\, 90703 \nLunch will be provided \nPresenter:  Larry Neenan\, IEL Consulting \nwww.ascip.org/2024-0124 \n  \n 
URL:https://www.ascip.org/event/8-hour-hazardous-materials-awareness-cers/
LOCATION:ASCIP Training Room\, 12610 Park Plaza Drive\, Cerritos\, CA\, 90703\, United States
CATEGORIES:Training
END:VEVENT
BEGIN:VEVENT
DTSTART;TZID=America/Los_Angeles:20240117T080000
DTEND;TZID=America/Los_Angeles:20240117T120000
DTSTAMP:20260420T005037
CREATED:20231219T214415Z
LAST-MODIFIED:20231219T214937Z
UID:1202110-1705478400-1705492800@www.ascip.org
SUMMARY:4-Hour Hazardous Materials Awareness/CERS Refresher
DESCRIPTION:A seminar designed to meet the minimum refresher training for first responders who are required to assess spills and/or releases of potentially toxic or hazardous materials. \nRequirement: Must have attended either the 8-Hour Hazardous Materials Awareness/CERS training or the 4-Hour Hazardous Materials Awareness/CERS Refresher training within the last 12 months. \nLocation:  ASCIP Training Room\, 16550 Bloomfield Avenue\, Cerritos\, 90703 \nTrainer:  Larry Neenan\, IEL Consulting \n  \nwww.ascip.org/2024-0117 \n  \n 
URL:https://www.ascip.org/event/4-hour-hazardous-materials-awareness-cers-refresher/
LOCATION:ASCIP Training Room\, 12610 Park Plaza Drive\, Cerritos\, CA\, 90703\, United States
CATEGORIES:Training
END:VEVENT
BEGIN:VEVENT
DTSTART;TZID=America/Los_Angeles:20231115T113000
DTEND;TZID=America/Los_Angeles:20231115T130000
DTSTAMP:20260420T005037
CREATED:20230921T163222Z
LAST-MODIFIED:20231010T145422Z
UID:1201736-1700047800-1700053200@www.ascip.org
SUMMARY:HR Roundtable -Tough Talks:  How to Handle Difficult Employee Conversations & Effectively Engage in Motivational Strategies
DESCRIPTION:In this roundtable\, we will discuss.  In this roundtable\, we will discuss the underlying reasons for difficult conversations\, the legal risks that arise and effective motivational strategies to enhance employee engagement. \n  \nPresenter:  Kristine Kwong\, Musick\, Peeler & Garret LLP \nRegister at www.ascip.org/2023-1115 \nHybrid Training (ASCIP Training Room/Zoom) \n  \n  \n 
URL:https://www.ascip.org/event/hr-roundtable-understanding-and-implementing-equity-non-discrimination-approaches-for-transgender-and-non-conforming-students/
LOCATION:ASCIP Training Room\, 12610 Park Plaza Drive\, Cerritos\, CA\, 90703\, United States
CATEGORIES:Training
END:VEVENT
BEGIN:VEVENT
DTSTART;TZID=America/Los_Angeles:20231026T100000
DTEND;TZID=America/Los_Angeles:20231026T113000
DTSTAMP:20260420T005037
CREATED:20231012T161956Z
LAST-MODIFIED:20231026T190040Z
UID:1201786-1698314400-1698319800@www.ascip.org
SUMMARY:Cyber Risk in Finance
DESCRIPTION:Are you concerned about safeguarding your school’s financial assets in today’s digital age? Our expert-led session will equip you with the knowledge and strategies needed to fortify your institution’s cybersecurity. By attending\, you’ll gain actionable takeaways that will empower you to enhance your school’s cyber defenses and ensure the security of your financial assets. \nRegister here: www.ascip.org/2023-1026
URL:https://www.ascip.org/event/cyber-risk-in-fiance/
LOCATION:ASCIP Training Room\, 12610 Park Plaza Drive\, Cerritos\, CA\, 90703\, United States
END:VEVENT
BEGIN:VEVENT
DTSTART;TZID=America/Los_Angeles:20231018T113000
DTEND;TZID=America/Los_Angeles:20231018T140000
DTSTAMP:20260420T005037
CREATED:20230921T161746Z
LAST-MODIFIED:20230921T161746Z
UID:1201731-1697628600-1697637600@www.ascip.org
SUMMARY:Pesticide Handler Training PM Session
DESCRIPTION:For pesticide handlers\, this training meets the CA Department of Agriculture requirements. \nCE credits are available.  Class size is limited to 50. \n  \nBy RESERVATION ONLY. \n  \nPresenter:  Niree Sarkissian\, Pesticide Training Office Los Angeles County \nRegister at www.ascip.org/2023-1018PM \nASCIP Training Room (16550 Bloomfield Avenue\, Cerritos\, CA 90703) \n 
URL:https://www.ascip.org/event/pesticide-handler-training-pm-session/
LOCATION:ASCIP Training Room\, 12610 Park Plaza Drive\, Cerritos\, CA\, 90703\, United States
CATEGORIES:Training
END:VEVENT
BEGIN:VEVENT
DTSTART;TZID=America/Los_Angeles:20231018T083000
DTEND;TZID=America/Los_Angeles:20231018T110000
DTSTAMP:20260420T005037
CREATED:20230921T161459Z
LAST-MODIFIED:20230921T162311Z
UID:1201729-1697617800-1697626800@www.ascip.org
SUMMARY:Pesticide Handler Training AM Session
DESCRIPTION:For pesticide handlers\, this training meets the CA Department of Agriculture requirements. \nCE credits are available.  Class size is limited to 50. \nBy RESERVATION ONLY. \n  \nPresenter:  Niree Sarkissian\, Pesticide Training Office Los Angeles County \nRegister at www.ascip.org/2023-1018AM \nASCIP Training Room (16550 Bloomfield Avenue\, Cerritos\, CA 90703)
URL:https://www.ascip.org/event/pesticide-handler-training-am-session/
LOCATION:ASCIP Training Room\, 12610 Park Plaza Drive\, Cerritos\, CA\, 90703\, United States
CATEGORIES:Training
END:VEVENT
BEGIN:VEVENT
DTSTART;TZID=America/Los_Angeles:20231010T113000
DTEND;TZID=America/Los_Angeles:20231010T130000
DTSTAMP:20260420T005037
CREATED:20230315T145943Z
LAST-MODIFIED:20231010T144023Z
UID:1201097-1696937400-1696942800@www.ascip.org
SUMMARY:HR Roundtable-No Rotten Apples:  Wrongful Terminations Made (not easy) but Possible
DESCRIPTION:In this roundtable\, we will discuss strategies and methods of supervising employees with the goal of improving performance.  Also discussed are how a supervisor’s methods can be used to prepare for more severe discipline. \n  \n  \nPresenter:  Kristine Kwong\, Musick\, Peeler & Garret LLP \nHybrid Training (ASCIP Training Room/Zoom) \nLocation:  ASCIP Training Room\, 16550 Bloomfield Avenue\, Cerritos\, 90703 \nRegister at www.ascip.org/2023-1010 \n  \n 
URL:https://www.ascip.org/event/hr-roundtable-the-good-faith-interactive-process/
LOCATION:ASCIP Training Room\, 12610 Park Plaza Drive\, Cerritos\, CA\, 90703\, United States
CATEGORIES:Training
END:VEVENT
BEGIN:VEVENT
DTSTART;TZID=America/Los_Angeles:20230907T100000
DTEND;TZID=America/Los_Angeles:20230907T120000
DTSTAMP:20260420T005037
CREATED:20230421T215529Z
LAST-MODIFIED:20230807T192530Z
UID:1201198-1694080800-1694088000@www.ascip.org
SUMMARY:Cyber Security Quarterly Focus Group (Hybrid)
DESCRIPTION:Location:  Cerritos Office – 16550 Bloomfield Avenue\, Cerritos\, CA 90703 \nRSVP Here
URL:https://www.ascip.org/event/hr-roundtable-understanding-the-brown-act/
LOCATION:ASCIP Training Room\, 12610 Park Plaza Drive\, Cerritos\, CA\, 90703\, United States
CATEGORIES:Training
END:VEVENT
BEGIN:VEVENT
DTSTART;TZID=America/Los_Angeles:20230321T083000
DTEND;TZID=America/Los_Angeles:20230321T140000
DTSTAMP:20260420T005037
CREATED:20230215T163854Z
LAST-MODIFIED:20230215T163854Z
UID:1201036-1679387400-1679407200@www.ascip.org
SUMMARY:Pesticide Handler Training
DESCRIPTION:For pesticide handlers\, this training meets the CA Department of Agriculture requirements. \nCE credits are available.  Class size is limited to 50. \nTrainer:  Niree Sarkissian\, MPA\, Pesticide Training Officer \nLocation:  ASCIP Training Room\, 16550 Bloomfield Avenue\, Cerritos\, 90703 \nTuesday\, March 21\, 2023 \n8:30 a.m. – 11:00 a.m. \nor \n11:30 a.m. – 2:00 p.m. \nRegister:  Please email Kimberly Kennedy at kennedy@ascip.org and specify which session you will be attending.  Register early as space is limited.
URL:https://www.ascip.org/event/pesticide-handler-training-8/
LOCATION:ASCIP Training Room\, 12610 Park Plaza Drive\, Cerritos\, CA\, 90703\, United States
CATEGORIES:Training
END:VEVENT
BEGIN:VEVENT
DTSTART;TZID=America/Los_Angeles:20230308T113000
DTEND;TZID=America/Los_Angeles:20230308T130000
DTSTAMP:20260420T005037
CREATED:20230215T163545Z
LAST-MODIFIED:20230215T163545Z
UID:1201034-1678275000-1678280400@www.ascip.org
SUMMARY:HR Roundtable-California Public Records Act
DESCRIPTION:What is the Public Records Act?  What do I do when I receive a demand for inspections of documents?  Do I have to disclose sensitive private information?  In this session\, we will discuss the nuts and bolts of this California law that obligates public agencies to disclose government records.  Learn to identify records not subject to disclosure and how to respond to a requestor in a timely fashion. \n  \nTrainer:  Kristine Kwong\, Musick\, Peeler & Garrett LLP \n  \nLocation:  ASCIP Training Room\, 16550 Bloomfield Avenue\, Cerritos\, 90703 \nAdditional Info:  Lunch will be provided. \nRegister:  Please email Kimberly Kennedy at kennedy@ascip.org. \n 
URL:https://www.ascip.org/event/hr-roundtable-california-public-records-act/
LOCATION:ASCIP Training Room\, 12610 Park Plaza Drive\, Cerritos\, CA\, 90703\, United States
CATEGORIES:Training
END:VEVENT
BEGIN:VEVENT
DTSTART;TZID=America/Los_Angeles:20230221T080000
DTEND;TZID=America/Los_Angeles:20230221T160000
DTSTAMP:20260420T005037
CREATED:20230125T180555Z
LAST-MODIFIED:20230125T180555Z
UID:1201024-1676966400-1676995200@www.ascip.org
SUMMARY:8-Hour Hazardous Materials Awareness/CERS Training
DESCRIPTION:This 8-hour training is the minimum required under current State law for those employees who must respond to incidents involving the potential or actual release of a toxic or hazardous substance.  This training allows the first responder to gain a basic understanding of the potential risks involved in dealing with such incidents and how they may be resolved in an appropriate and safe manner.  This level of awareness training is not sufficient for actual hands-on cleanup and mitigation of toxic or hazardous releases but will provide information necessary for first responders to use when making decisions to ensure continued personal and environmental safety.  ASCIP’s hazardous materials management and disposal consultant\, IEL Consulting\, will offer this informative presentation which is intended to assist individuals who are required to respond to releases of potentially hazardous materials.  Attendees must be present for the entire program to receive a training certificate. \nLocation:  ASCIP Training Room\, 16550 Bloomfield Avenue\, Cerritos\, 90703 \nPresenter:  Larry Neenan\, IEL Consulting \nTo register\, please email Kimberly Kennedy at kennedy@ascip.org.  Please register early as space is limited. \nLunch will be provided. \n 
URL:https://www.ascip.org/event/8-hour-hazardous-materials-awareness-cers-training/
LOCATION:ASCIP Training Room\, 12610 Park Plaza Drive\, Cerritos\, CA\, 90703\, United States
CATEGORIES:Training
END:VEVENT
BEGIN:VEVENT
DTSTART;TZID=America/Halifax:20221129T080000
DTEND;TZID=America/Halifax:20221129T120000
DTSTAMP:20260420T005037
CREATED:20221121T212002Z
LAST-MODIFIED:20221121T212002Z
UID:1200669-1669708800-1669723200@www.ascip.org
SUMMARY:Comprehensive School Safety Plan Training.  This is Part 1 in a 3-part series.
DESCRIPTION:All California public schools (K- 12th grade) are required to develop and maintain a Comprehensive School Safety Plan (CSSP)\, per California Education Code sections 32280-32289.5.  Each CSSP must address the safety concerns identified through a systematic planning process that includes community stakeholders such as school staff\, parents\, students\, and local first responders.  The plans should contain strategies and policies to prevent and respond to potential incidents involving emergencies\, natural disasters\, violence\, active intruders\, bullying\, discrimination\, child abuse\, discipline\, and other safety aspects.  The CSSP must be reviewed and updated annually by a school’s School Site Council and adopted by the School Board by March 1 of each calendar year.  Come learn about all of the current requirements needed to refresh your CSSP. \nIn this training\, participants will be provided with an overview of CSSP and will learn about the general requirements.  The trainer will cover the following sections: \n\nAppropriate Programs and Strategies that Provide School Safety\nAssessment of School Crime\nEnsuring a Safe and Orderly Environment – Goals and Objectives\nDisaster Procedures\n\n  \nTarget Audience:  Risk Management\, Administration \n  \nTo register\, please email Kimberly Kennedy at kennedy@ascip.org \n 
URL:https://www.ascip.org/event/comprehensive-school-safety-plan-training-this-is-part-1-in-a-3-part-series/
LOCATION:ASCIP Training Room\, 12610 Park Plaza Drive\, Cerritos\, CA\, 90703\, United States
CATEGORIES:Training
END:VEVENT
BEGIN:VEVENT
DTSTART;TZID=UTC:20150423T090000
DTEND;TZID=UTC:20150423T120000
DTSTAMP:20260420T005037
CREATED:20141007T033642Z
LAST-MODIFIED:20141007T033642Z
UID:1014284-1429779600-1429790400@www.ascip.org
SUMMARY:K-12 Special Education Case Review Training
DESCRIPTION:Target Audience: \n\n   – Risk Managers\n   – Chief Business Officers\, and\n   – Special Education Directors & Managers\n\n  \nPanelist: \n\n    – Sherri Mudd – Special Education Consultant\n    – Lori Stillings – Tustin USD\n    – Jack Clarke – Best\, Best and Krieger\n    – Marlon Wadlington – Atkinson\, Andelson\, Loyo\, Ruud & Romo\n\n  \nThis expert panel presentation will review a recent due process case\, Bright v. Tustin USD\, and the related appeal.  There are significant implications for all K-12 school districts and the services provided for students who are deaf/hearing impaired.  The panel will review important issues related to this case and the implementation of the protections of IDEA\, ADA\, 504 and Civil Rights. \n  \n 
URL:https://www.ascip.org/event/molestation-prevention-webinar/
LOCATION:ASCIP Training Room\, 12610 Park Plaza Drive\, Cerritos\, CA\, 90703\, United States
CATEGORIES:Training
END:VEVENT
BEGIN:VEVENT
DTSTART;TZID=America/Los_Angeles:20150423T090000
DTEND;TZID=America/Los_Angeles:20150423T120000
DTSTAMP:20260420T005037
CREATED:20141007T033642Z
LAST-MODIFIED:20141007T033642Z
UID:1642-1429779600-1429790400@www.ascip.org
SUMMARY:K-12 Special Education Case Review Training
DESCRIPTION:Target Audience: \n\n   – Risk Managers\n   – Chief Business Officers\, and\n   – Special Education Directors & Managers\n\n  \nPanelist: \n\n    – Sherri Mudd – Special Education Consultant\n    – Lori Stillings – Tustin USD\n    – Jack Clarke – Best\, Best and Krieger\n    – Marlon Wadlington – Atkinson\, Andelson\, Loyo\, Ruud & Romo\n\n  \nThis expert panel presentation will review a recent due process case\, Bright v. Tustin USD\, and the related appeal.  There are significant implications for all K-12 school districts and the services provided for students who are deaf/hearing impaired.  The panel will review important issues related to this case and the implementation of the protections of IDEA\, ADA\, 504 and Civil Rights. \n  \n 
URL:https://www.ascip.org/event/molestation-prevention-webinar-2/
LOCATION:ASCIP Training Room\, 12610 Park Plaza Drive\, Cerritos\, CA\, 90703\, United States
CATEGORIES:Training
END:VEVENT
BEGIN:VEVENT
DTSTART;TZID=UTC:20141021T080000
DTEND;TZID=UTC:20141021T103000
DTSTAMP:20260420T005037
CREATED:20140927T012442Z
LAST-MODIFIED:20140927T012442Z
UID:1014263-1413878400-1413887400@www.ascip.org
SUMMARY:Pesticide Handler Training
DESCRIPTION:This general pesticides handler training meets CA Department of Agriculture requirements. \nCE credits are available. Class size is limited to 50. \nBy RESERVATION ONLY.  To Reserve your seat email: \nTraining_info@ASCIP.org \n  \n 
URL:https://www.ascip.org/event/pesticide-handler-training/
LOCATION:ASCIP Training Room\, 12610 Park Plaza Drive\, Cerritos\, CA\, 90703\, United States
CATEGORIES:Training
END:VEVENT
BEGIN:VEVENT
DTSTART;TZID=America/Los_Angeles:20141021T080000
DTEND;TZID=America/Los_Angeles:20141021T103000
DTSTAMP:20260420T005037
CREATED:20140927T012442Z
LAST-MODIFIED:20140927T012442Z
UID:1589-1413878400-1413887400@www.ascip.org
SUMMARY:Pesticide Handler Training
DESCRIPTION:This general pesticides handler training meets CA Department of Agriculture requirements. \nCE credits are available. Class size is limited to 50. \nBy RESERVATION ONLY.  To Reserve your seat email: \nTraining_info@ASCIP.org \n  \n 
URL:https://www.ascip.org/event/pesticide-handler-training-6/
LOCATION:ASCIP Training Room\, 12610 Park Plaza Drive\, Cerritos\, CA\, 90703\, United States
CATEGORIES:Training
END:VEVENT
END:VCALENDAR