BEGIN:VCALENDAR
VERSION:2.0
PRODID:-//ASCIP - ECPv6.15.20//NONSGML v1.0//EN
CALSCALE:GREGORIAN
METHOD:PUBLISH
X-ORIGINAL-URL:https://www.ascip.org
X-WR-CALDESC:Events for ASCIP
REFRESH-INTERVAL;VALUE=DURATION:PT1H
X-Robots-Tag:noindex
X-PUBLISHED-TTL:PT1H
BEGIN:VTIMEZONE
TZID:America/Los_Angeles
BEGIN:DAYLIGHT
TZOFFSETFROM:-0800
TZOFFSETTO:-0700
TZNAME:PDT
DTSTART:20250309T100000
END:DAYLIGHT
BEGIN:STANDARD
TZOFFSETFROM:-0700
TZOFFSETTO:-0800
TZNAME:PST
DTSTART:20251102T090000
END:STANDARD
BEGIN:DAYLIGHT
TZOFFSETFROM:-0800
TZOFFSETTO:-0700
TZNAME:PDT
DTSTART:20260308T100000
END:DAYLIGHT
BEGIN:STANDARD
TZOFFSETFROM:-0700
TZOFFSETTO:-0800
TZNAME:PST
DTSTART:20261101T090000
END:STANDARD
BEGIN:DAYLIGHT
TZOFFSETFROM:-0800
TZOFFSETTO:-0700
TZNAME:PDT
DTSTART:20270314T100000
END:DAYLIGHT
BEGIN:STANDARD
TZOFFSETFROM:-0700
TZOFFSETTO:-0800
TZNAME:PST
DTSTART:20271107T090000
END:STANDARD
END:VTIMEZONE
BEGIN:VEVENT
DTSTART;TZID=America/Los_Angeles:20260320T100000
DTEND;TZID=America/Los_Angeles:20260320T120000
DTSTAMP:20260419T115913
CREATED:20260212T011056Z
LAST-MODIFIED:20260213T220806Z
UID:1204406-1774000800-1774008000@www.ascip.org
SUMMARY:Maintenance & Facilities Roundtable - Facility Inspections in California K–12 schools
DESCRIPTION:Facility inspections in California K–12 schools are more than walkthroughs they are a critical part of demonstrating compliance\, protecting staff\, and preventing costly claims. Join ASCIP’s expert panel to enhance your district’s Safety Inspection program: \n\nBuild a targeted safety inspection checklist based on your district’s loss trends\nSee real examples of facility hazards that are driving injuries and claims costs\nShare best practices with peers for documenting hazards and tracking corrective actions\nLearn about the most common Cal/OSHA citations issued to school districts\nWalk through a step-by-step “what to do” plan when Cal/OSHA arrives on campus\n\nMeet the ASCIP Panel Experts:\nMaria Brunel\, Senior Vice President\, Poms and Associates \nDick Monde de Froideville\, OSHA Training Institute Consultant \nEugene McMenamin\, Senior Counsel\, Ogletree Deakins \n  \nAttend in person or virtually \nRSVP at www.ascip.org/2026-03-20
URL:https://www.ascip.org/event/facilities-maintenance-roundtable-safety-inspections-and-osha-compliance/
LOCATION:Attend in person or virtually
CATEGORIES:Training
END:VEVENT
BEGIN:VEVENT
DTSTART;TZID=America/Los_Angeles:20260319T100000
DTEND;TZID=America/Los_Angeles:20260319T120000
DTSTAMP:20260419T115913
CREATED:20260212T012421Z
LAST-MODIFIED:20260212T030937Z
UID:1204409-1773914400-1773921600@www.ascip.org
SUMMARY:When Cal/OSHA Knocks - Insights and advice on how to stay on the good side of Cal/OSHA
DESCRIPTION:No one wants to be on the other side of the door when Cal/OSHA knocks. Everyone benefits when you have the tools and resources to stay in compliance. Please join ASCIP along with special guest experts in the field as you learn more about maintaining a safe work environment and how to respond when Cal/OSHA comes knocking…because accidents happen. \nPresenters:  Gene McMenamim\, Esq.\, Senior Counsel Ogletree Deakins\nDick Monod de Froideville\, MPA\, Industrial Hygienist/Safety Engineer/OSHA Consultant \nAttend in person or virtually.  Lunch will be served for those attending in person. \nRSVP at www.ascip.org/2026-0319
URL:https://www.ascip.org/event/workers-compensation-focus-group-insights-and-advice-on-how-to-stay-on-the-good-side-of-cal-osha/
LOCATION:Attend in person or virtually
CATEGORIES:Training
END:VEVENT
END:VCALENDAR