BEGIN:VCALENDAR
VERSION:2.0
PRODID:-//ASCIP - ECPv6.15.20//NONSGML v1.0//EN
CALSCALE:GREGORIAN
METHOD:PUBLISH
X-WR-CALNAME:ASCIP
X-ORIGINAL-URL:https://www.ascip.org
X-WR-CALDESC:Events for ASCIP
REFRESH-INTERVAL;VALUE=DURATION:PT1H
X-Robots-Tag:noindex
X-PUBLISHED-TTL:PT1H
BEGIN:VTIMEZONE
TZID:America/Los_Angeles
BEGIN:DAYLIGHT
TZOFFSETFROM:-0800
TZOFFSETTO:-0700
TZNAME:PDT
DTSTART:20130310T100000
END:DAYLIGHT
BEGIN:STANDARD
TZOFFSETFROM:-0700
TZOFFSETTO:-0800
TZNAME:PST
DTSTART:20131103T090000
END:STANDARD
BEGIN:DAYLIGHT
TZOFFSETFROM:-0800
TZOFFSETTO:-0700
TZNAME:PDT
DTSTART:20140309T100000
END:DAYLIGHT
BEGIN:STANDARD
TZOFFSETFROM:-0700
TZOFFSETTO:-0800
TZNAME:PST
DTSTART:20141102T090000
END:STANDARD
BEGIN:DAYLIGHT
TZOFFSETFROM:-0800
TZOFFSETTO:-0700
TZNAME:PDT
DTSTART:20150308T100000
END:DAYLIGHT
BEGIN:STANDARD
TZOFFSETFROM:-0700
TZOFFSETTO:-0800
TZNAME:PST
DTSTART:20151101T090000
END:STANDARD
BEGIN:DAYLIGHT
TZOFFSETFROM:-0800
TZOFFSETTO:-0700
TZNAME:PDT
DTSTART:20160313T100000
END:DAYLIGHT
BEGIN:STANDARD
TZOFFSETFROM:-0700
TZOFFSETTO:-0800
TZNAME:PST
DTSTART:20161106T090000
END:STANDARD
END:VTIMEZONE
BEGIN:VTIMEZONE
TZID:UTC
BEGIN:STANDARD
TZOFFSETFROM:+0000
TZOFFSETTO:+0000
TZNAME:UTC
DTSTART:20130101T000000
END:STANDARD
END:VTIMEZONE
BEGIN:VEVENT
DTSTART;TZID=America/Los_Angeles:20150225T100000
DTEND;TZID=America/Los_Angeles:20150225T120000
DTSTAMP:20260424T202401
CREATED:20141001T215243Z
LAST-MODIFIED:20141001T215243Z
UID:1627-1424858400-1424865600@www.ascip.org
SUMMARY:Risk Transfer in Contracts-Advanced Course - Webinar
DESCRIPTION:This will be a two-hour webinar for experienced professionals addressing advanced Contractual Risk Transfer\, with a detailed discussion and advice with respect to using or requiring an additional insured endorsement\, waiver of subrogation\, contractual liability coverage\, cross-liability coverage provision\, etc. \n  \nTo Register for a Webinar – \nRegister directly with EHS at this link: \nhttp://www.ehsinc.org/ASCIP.html \n 
URL:https://www.ascip.org/event/risk-transfer-in-contracts-advanced-course-webinar-2/
LOCATION:Webinar
END:VEVENT
BEGIN:VEVENT
DTSTART;TZID=America/Los_Angeles:20150211T100000
DTEND;TZID=America/Los_Angeles:20150211T113000
DTSTAMP:20260424T202401
CREATED:20141001T194707Z
LAST-MODIFIED:20141001T194707Z
UID:1618-1423648800-1423654200@www.ascip.org
SUMMARY:Machine Guarding - Webinar
DESCRIPTION:This webinar will cover the purpose of machine guarding\, how to protect the machine’s operator\, whether student or employee\, and others in the surrounding area from hazards created by ingoing nip points\, rotating parts\, flying chips and sparks. \n  \nTo Register for a Webinar – \nRegister directly with EHS at this link: \nhttp://www.ehsinc.org/ASCIP.html
URL:https://www.ascip.org/event/machine-guarding-webinar-2/
LOCATION:Webinar
CATEGORIES:Training
END:VEVENT
BEGIN:VEVENT
DTSTART;TZID=UTC:20150211T100000
DTEND;TZID=UTC:20150211T113000
DTSTAMP:20260424T202401
CREATED:20141001T194707Z
LAST-MODIFIED:20141001T194707Z
UID:1014274-1423648800-1423654200@www.ascip.org
SUMMARY:Machine Guarding - Webinar
DESCRIPTION:This webinar will cover the purpose of machine guarding\, how to protect the machine’s operator\, whether student or employee\, and others in the surrounding area from hazards created by ingoing nip points\, rotating parts\, flying chips and sparks. \n  \nTo Register for a Webinar – \nRegister directly with EHS at this link: \nhttp://www.ehsinc.org/ASCIP.html
URL:https://www.ascip.org/event/machine-guarding-webinar/
LOCATION:Webinar
CATEGORIES:Training
END:VEVENT
BEGIN:VEVENT
DTSTART;TZID=America/Los_Angeles:20141114T100000
DTEND;TZID=America/Los_Angeles:20141114T120000
DTSTAMP:20260424T202401
CREATED:20140929T171146Z
LAST-MODIFIED:20140929T171146Z
UID:1600-1415959200-1415966400@www.ascip.org
SUMMARY:Fitness for Duty - Webinar
DESCRIPTION:Presenter\, Rachel Shaw\, will lead a two hour seminar providing guidelines on how to properly conduct a fitness for duty exam and when it is appropriate to do so. \n  \nTo Register for a Webinar – \nRegister directly with EHS at this link: \nhttp://www.ehsinc.org/ASCIP.html
URL:https://www.ascip.org/event/fitness-for-duty-webinar-2/
LOCATION:Webinar
CATEGORIES:Featured,Training
END:VEVENT
BEGIN:VEVENT
DTSTART;TZID=UTC:20141114T100000
DTEND;TZID=UTC:20141114T120000
DTSTAMP:20260424T202401
CREATED:20140929T171146Z
LAST-MODIFIED:20140929T171146Z
UID:1014266-1415959200-1415966400@www.ascip.org
SUMMARY:Fitness for Duty - Webinar
DESCRIPTION:Presenter\, Rachel Shaw\, will lead a two hour seminar providing guidelines on how to properly conduct a fitness for duty exam and when it is appropriate to do so. \n  \nTo Register for a Webinar – \nRegister directly with EHS at this link: \nhttp://www.ehsinc.org/ASCIP.html
URL:https://www.ascip.org/event/fitness-for-duty-webinar/
LOCATION:Webinar
CATEGORIES:Featured,Training
END:VEVENT
BEGIN:VEVENT
DTSTART;TZID=UTC:20141029T100000
DTEND;TZID=UTC:20141029T120000
DTSTAMP:20260424T202401
CREATED:20140715T235742Z
LAST-MODIFIED:20140715T235742Z
UID:1014242-1414576800-1414584000@www.ascip.org
SUMMARY:Review of New Legislation Impacting Schools and Community Colleges
DESCRIPTION:This year\, ASCIP has partnered with Schools Services of California\, Inc. (SSC) and Schools Excess Liability Fund (SELF) to ensure that you are aware of new codes and regulations having a significant impact on your agency. \nThis webinar will be different from past Codes and Regs Seminars. We will have a lively discussion reviewing fewer bills that will have a direct impact on your organization. During the discussion\, we will dive deeper into the effects of these regulations and implementation strategies to assist you with compliance. \nThose who attend will leave with up-to-date knowledge of the latest education related codes and regulations in the areas of business & finance\, human resources\, student services\, facilities\, health benefits\, and health & safety. \nTo Register for this Webinar: \n REGISTER HERE
URL:https://www.ascip.org/event/ascips-annual-codes-regulations-and-compliance-review/
LOCATION:Webinar
CATEGORIES:Featured,Training
END:VEVENT
BEGIN:VEVENT
DTSTART;TZID=America/Los_Angeles:20141029T100000
DTEND;TZID=America/Los_Angeles:20141029T120000
DTSTAMP:20260424T202401
CREATED:20140715T235742Z
LAST-MODIFIED:20140715T235742Z
UID:1265-1414576800-1414584000@www.ascip.org
SUMMARY:Review of New Legislation Impacting Schools and Community Colleges
DESCRIPTION:This year\, ASCIP has partnered with Schools Services of California\, Inc. (SSC) and Schools Excess Liability Fund (SELF) to ensure that you are aware of new codes and regulations having a significant impact on your agency. \nThis webinar will be different from past Codes and Regs Seminars. We will have a lively discussion reviewing fewer bills that will have a direct impact on your organization. During the discussion\, we will dive deeper into the effects of these regulations and implementation strategies to assist you with compliance. \nThose who attend will leave with up-to-date knowledge of the latest education related codes and regulations in the areas of business & finance\, human resources\, student services\, facilities\, health benefits\, and health & safety. \nTo Register for this Webinar: \n REGISTER HERE
URL:https://www.ascip.org/event/ascips-annual-codes-regulations-and-compliance-review-3/
LOCATION:Webinar
CATEGORIES:Featured,Training
END:VEVENT
BEGIN:VEVENT
DTSTART;TZID=UTC:20141009T100000
DTEND;TZID=UTC:20141009T113000
DTSTAMP:20260424T202401
CREATED:20140927T003607Z
LAST-MODIFIED:20140927T003607Z
UID:1014262-1412848800-1412854200@www.ascip.org
SUMMARY:Mandated Reporters - Webinar
DESCRIPTION:This webinar is for professionals whose work capacity or scope of employment brings them in contact with children or elders.  The webinar will address issues to be aware of\, abuse symptoms to watch for and reporting criteria for suspected abuse. \nThe presenter is Lisa Harvey from Poms & Associates Risk Services\, a firm specializing in Public Entity Risk Management. Lisa is a Senior Consultant for Poms & Associates Risk Services\, a firm specializing in Public Entity Risk Management.  Lisa is a certified Associate Risk Manager-Public Entities and as a risk manager has over 20 years’ experience reporting as a mandated reporter and training personnel on mandated reporting. \nAs always\, there is no charge to ASCIP members or our invited guests to attend this training. \n\n  \nTo Register:\n  \nClick the “Register Here” below to register for this event: \nREGISTER HERE \nAfter the new screen opens click “Register” toward the top\, then complete the form and be sure to choose” I have a promotional code” adding “ASCIP” in the promo code field.  Finally\, “Submit” your registration when finished.
URL:https://www.ascip.org/event/mandated-reporters-webinar/
LOCATION:Webinar
CATEGORIES:Training
END:VEVENT
BEGIN:VEVENT
DTSTART;TZID=America/Los_Angeles:20141009T100000
DTEND;TZID=America/Los_Angeles:20141009T113000
DTSTAMP:20260424T202401
CREATED:20140927T003607Z
LAST-MODIFIED:20140927T003607Z
UID:1587-1412848800-1412854200@www.ascip.org
SUMMARY:Mandated Reporters - Webinar
DESCRIPTION:This webinar is for professionals whose work capacity or scope of employment brings them in contact with children or elders.  The webinar will address issues to be aware of\, abuse symptoms to watch for and reporting criteria for suspected abuse. \nThe presenter is Lisa Harvey from Poms & Associates Risk Services\, a firm specializing in Public Entity Risk Management. Lisa is a Senior Consultant for Poms & Associates Risk Services\, a firm specializing in Public Entity Risk Management.  Lisa is a certified Associate Risk Manager-Public Entities and as a risk manager has over 20 years’ experience reporting as a mandated reporter and training personnel on mandated reporting. \nAs always\, there is no charge to ASCIP members or our invited guests to attend this training. \n\n  \nTo Register:\n  \nClick the “Register Here” below to register for this event: \nREGISTER HERE \nAfter the new screen opens click “Register” toward the top\, then complete the form and be sure to choose” I have a promotional code” adding “ASCIP” in the promo code field.  Finally\, “Submit” your registration when finished.
URL:https://www.ascip.org/event/mandated-reporters-webinar-2/
LOCATION:Webinar
CATEGORIES:Training
END:VEVENT
BEGIN:VEVENT
DTSTART;TZID=UTC:20140926T100000
DTEND;TZID=UTC:20140926T113000
DTSTAMP:20260424T202401
CREATED:20140830T030505Z
LAST-MODIFIED:20140830T030505Z
UID:1014261-1411725600-1411731000@www.ascip.org
SUMMARY:Playground Supervisor  - Webinar
DESCRIPTION:This webinar will cover all aspects of playground safety as it pertains to active play in a school setting.  The viewer will learn the details associated with high risk areas\, injury prone activities\, and the various tendencies of children while at play. \nTarget Audience:    Playground Supervisors\, Noon-Duty Aides\, Playground Personnel and any staff who supervise students on the playground. \nHow to Register:  Go to:  https://ehsinternational.webex.com/ec0701l/eventcenter/enroll/join.do?confViewID=1750146902&theAction=detail&confId=1750146902&internalProgramTicketUnList=000000014838412777d41ac55633a25cc045caa95365ec2b7d6c47631dc436a6a646c0cb&path=program_detail&siteurl=ehsinternational \nClick “Register”\, complete the form and be sure to choose “I have a promotional code”\, then add “ASCIP” in the promo code field\, and submit registration. \nIf you have any questions\, please contact ASCIP at training_info@ASCIP.ORG
URL:https://www.ascip.org/event/playground-supervisor-webinar/
LOCATION:Webinar
CATEGORIES:Training
END:VEVENT
BEGIN:VEVENT
DTSTART;TZID=America/Los_Angeles:20140926T100000
DTEND;TZID=America/Los_Angeles:20140926T113000
DTSTAMP:20260424T202401
CREATED:20140830T030505Z
LAST-MODIFIED:20140830T030505Z
UID:1531-1411725600-1411731000@www.ascip.org
SUMMARY:Playground Supervisor  - Webinar
DESCRIPTION:This webinar will cover all aspects of playground safety as it pertains to active play in a school setting.  The viewer will learn the details associated with high risk areas\, injury prone activities\, and the various tendencies of children while at play. \nTarget Audience:    Playground Supervisors\, Noon-Duty Aides\, Playground Personnel and any staff who supervise students on the playground. \nHow to Register:  Go to:  https://ehsinternational.webex.com/ec0701l/eventcenter/enroll/join.do?confViewID=1750146902&theAction=detail&confId=1750146902&internalProgramTicketUnList=000000014838412777d41ac55633a25cc045caa95365ec2b7d6c47631dc436a6a646c0cb&path=program_detail&siteurl=ehsinternational \nClick “Register”\, complete the form and be sure to choose “I have a promotional code”\, then add “ASCIP” in the promo code field\, and submit registration. \nIf you have any questions\, please contact ASCIP at training_info@ASCIP.ORG
URL:https://www.ascip.org/event/playground-supervisor-webinar-2/
LOCATION:Webinar
CATEGORIES:Training
END:VEVENT
END:VCALENDAR